BEGIN:VCALENDAR
VERSION:2.0
PRODID:-//Town of Jackson NH - ECPv6.15.20//NONSGML v1.0//EN
CALSCALE:GREGORIAN
METHOD:PUBLISH
X-WR-CALNAME:Town of Jackson NH
X-ORIGINAL-URL:https://www.jackson-nh.gov
X-WR-CALDESC:Events for Town of Jackson NH
REFRESH-INTERVAL;VALUE=DURATION:PT1H
X-Robots-Tag:noindex
X-PUBLISHED-TTL:PT1H
BEGIN:VTIMEZONE
TZID:America/New_York
BEGIN:DAYLIGHT
TZOFFSETFROM:-0500
TZOFFSETTO:-0400
TZNAME:EDT
DTSTART:20250309T070000
END:DAYLIGHT
BEGIN:STANDARD
TZOFFSETFROM:-0400
TZOFFSETTO:-0500
TZNAME:EST
DTSTART:20251102T060000
END:STANDARD
BEGIN:DAYLIGHT
TZOFFSETFROM:-0500
TZOFFSETTO:-0400
TZNAME:EDT
DTSTART:20260308T070000
END:DAYLIGHT
BEGIN:STANDARD
TZOFFSETFROM:-0400
TZOFFSETTO:-0500
TZNAME:EST
DTSTART:20261101T060000
END:STANDARD
BEGIN:DAYLIGHT
TZOFFSETFROM:-0500
TZOFFSETTO:-0400
TZNAME:EDT
DTSTART:20270314T070000
END:DAYLIGHT
BEGIN:STANDARD
TZOFFSETFROM:-0400
TZOFFSETTO:-0500
TZNAME:EST
DTSTART:20271107T060000
END:STANDARD
END:VTIMEZONE
BEGIN:VTIMEZONE
TZID:UTC
BEGIN:STANDARD
TZOFFSETFROM:+0000
TZOFFSETTO:+0000
TZNAME:UTC
DTSTART:20250101T000000
END:STANDARD
END:VTIMEZONE
BEGIN:VEVENT
DTSTART;TZID=America/New_York:20260722T083000
DTEND;TZID=America/New_York:20260722T094500
DTSTAMP:20260420T063244
CREATED:20260219T200629Z
LAST-MODIFIED:20260219T200744Z
UID:10001118-1784709000-1784713500@www.jackson-nh.gov
SUMMARY:Old Library Basic Yoga Class
DESCRIPTION:Old Library: Basic Yoga Class
URL:https://www.jackson-nh.gov/event/basic-yoga-class/2026-07-22/
LOCATION:Town of Jackson\, 54 Main St\, Jackson\, NH\, 03846
CATEGORIES:Jackson Old Library
ATTACH;FMTTYPE=image/jpeg:https://www.jackson-nh.gov/wp-content/uploads/2026/01/old-jackson-library.jpg
END:VEVENT
BEGIN:VEVENT
DTSTART;TZID=America/New_York:20260724T083000
DTEND;TZID=America/New_York:20260724T100000
DTSTAMP:20260420T063244
CREATED:20260318T162856Z
LAST-MODIFIED:20260318T162913Z
UID:10001458-1784881800-1784887200@www.jackson-nh.gov
SUMMARY:Old Library: Yoga
DESCRIPTION:Private Yoga Class
URL:https://www.jackson-nh.gov/event/old-library-yoga-3/2026-07-24/
LOCATION:Town of Jackson\, 54 Main St\, Jackson\, NH\, 03846
CATEGORIES:Jackson Old Library
END:VEVENT
BEGIN:VEVENT
DTSTART;TZID=America/New_York:20260727T090000
DTEND;TZID=America/New_York:20260727T101500
DTSTAMP:20260420T063244
CREATED:20260219T200511Z
LAST-MODIFIED:20260219T200728Z
UID:10001057-1785142800-1785147300@www.jackson-nh.gov
SUMMARY:Old Library Vinyassa Yoga
DESCRIPTION:Old Library: Vinyassa Yoga
URL:https://www.jackson-nh.gov/event/vinyassa-yoga/2026-07-27/
LOCATION:Town of Jackson\, 54 Main St\, Jackson\, NH\, 03846
CATEGORIES:Jackson Old Library
ATTACH;FMTTYPE=image/jpeg:https://www.jackson-nh.gov/wp-content/uploads/2026/01/old-jackson-library.jpg
END:VEVENT
BEGIN:VEVENT
DTSTART;TZID=America/New_York:20260729T083000
DTEND;TZID=America/New_York:20260729T094500
DTSTAMP:20260420T063244
CREATED:20260219T200629Z
LAST-MODIFIED:20260219T200744Z
UID:10001119-1785313800-1785318300@www.jackson-nh.gov
SUMMARY:Old Library Basic Yoga Class
DESCRIPTION:Old Library: Basic Yoga Class
URL:https://www.jackson-nh.gov/event/basic-yoga-class/2026-07-29/
LOCATION:Town of Jackson\, 54 Main St\, Jackson\, NH\, 03846
CATEGORIES:Jackson Old Library
ATTACH;FMTTYPE=image/jpeg:https://www.jackson-nh.gov/wp-content/uploads/2026/01/old-jackson-library.jpg
END:VEVENT
BEGIN:VEVENT
DTSTART;TZID=America/New_York:20260731T083000
DTEND;TZID=America/New_York:20260731T100000
DTSTAMP:20260420T063244
CREATED:20260318T162856Z
LAST-MODIFIED:20260318T162913Z
UID:10001459-1785486600-1785492000@www.jackson-nh.gov
SUMMARY:Old Library: Yoga
DESCRIPTION:Private Yoga Class
URL:https://www.jackson-nh.gov/event/old-library-yoga-3/2026-07-31/
LOCATION:Town of Jackson\, 54 Main St\, Jackson\, NH\, 03846
CATEGORIES:Jackson Old Library
END:VEVENT
BEGIN:VEVENT
DTSTART;TZID=America/New_York:20260803T090000
DTEND;TZID=America/New_York:20260803T101500
DTSTAMP:20260420T063244
CREATED:20260219T200511Z
LAST-MODIFIED:20260219T200728Z
UID:10001058-1785747600-1785752100@www.jackson-nh.gov
SUMMARY:Old Library Vinyassa Yoga
DESCRIPTION:Old Library: Vinyassa Yoga
URL:https://www.jackson-nh.gov/event/vinyassa-yoga/2026-08-03/
LOCATION:Town of Jackson\, 54 Main St\, Jackson\, NH\, 03846
CATEGORIES:Jackson Old Library
ATTACH;FMTTYPE=image/jpeg:https://www.jackson-nh.gov/wp-content/uploads/2026/01/old-jackson-library.jpg
END:VEVENT
BEGIN:VEVENT
DTSTART;TZID=UTC:20260803T173000
DTEND;TZID=UTC:20260803T183000
DTSTAMP:20260420T063244
CREATED:20251002T034058Z
LAST-MODIFIED:20260404T124529Z
UID:10000011-1785778200-1785781800@www.jackson-nh.gov
SUMMARY:Conservation Commission Meeting
DESCRIPTION:
URL:https://www.jackson-nh.gov/event/conservation-commission-meeting/2026-08-03/
LOCATION:Town of Jackson\, 54 Main St\, Jackson\, NH\, 03846
CATEGORIES:Conservation Commission
ATTACH;FMTTYPE=image/jpeg:https://www.jackson-nh.gov/wp-content/uploads/2025/10/conservation-commission.jpg
END:VEVENT
BEGIN:VEVENT
DTSTART;TZID=America/New_York:20260804T153000
DTEND;TZID=America/New_York:20260804T163000
DTSTAMP:20260420T063244
CREATED:20260316T222408Z
LAST-MODIFIED:20260316T222721Z
UID:10000093-1785857400-1785861000@www.jackson-nh.gov
SUMMARY:Select Board Meeting
DESCRIPTION:
URL:https://www.jackson-nh.gov/event/select-board-meeting-5/2026-08-04/
LOCATION:Town of Jackson\, 54 Main St\, Jackson\, NH\, 03846
CATEGORIES:Select Board
ATTACH;FMTTYPE=image/jpeg:https://www.jackson-nh.gov/wp-content/uploads/2025/10/select-board.jpg
END:VEVENT
BEGIN:VEVENT
DTSTART;TZID=America/New_York:20260805T083000
DTEND;TZID=America/New_York:20260805T094500
DTSTAMP:20260420T063244
CREATED:20260219T200629Z
LAST-MODIFIED:20260219T200744Z
UID:10001120-1785918600-1785923100@www.jackson-nh.gov
SUMMARY:Old Library Basic Yoga Class
DESCRIPTION:Old Library: Basic Yoga Class
URL:https://www.jackson-nh.gov/event/basic-yoga-class/2026-08-05/
LOCATION:Town of Jackson\, 54 Main St\, Jackson\, NH\, 03846
CATEGORIES:Jackson Old Library
ATTACH;FMTTYPE=image/jpeg:https://www.jackson-nh.gov/wp-content/uploads/2026/01/old-jackson-library.jpg
END:VEVENT
BEGIN:VEVENT
DTSTART;TZID=America/New_York:20260807T083000
DTEND;TZID=America/New_York:20260807T100000
DTSTAMP:20260420T063244
CREATED:20260318T162856Z
LAST-MODIFIED:20260318T162913Z
UID:10001460-1786091400-1786096800@www.jackson-nh.gov
SUMMARY:Old Library: Yoga
DESCRIPTION:Private Yoga Class
URL:https://www.jackson-nh.gov/event/old-library-yoga-3/2026-08-07/
LOCATION:Town of Jackson\, 54 Main St\, Jackson\, NH\, 03846
CATEGORIES:Jackson Old Library
END:VEVENT
BEGIN:VEVENT
DTSTART;TZID=America/New_York:20260810T090000
DTEND;TZID=America/New_York:20260810T101500
DTSTAMP:20260420T063244
CREATED:20260219T200511Z
LAST-MODIFIED:20260219T200728Z
UID:10001059-1786352400-1786356900@www.jackson-nh.gov
SUMMARY:Old Library Vinyassa Yoga
DESCRIPTION:Old Library: Vinyassa Yoga
URL:https://www.jackson-nh.gov/event/vinyassa-yoga/2026-08-10/
LOCATION:Town of Jackson\, 54 Main St\, Jackson\, NH\, 03846
CATEGORIES:Jackson Old Library
ATTACH;FMTTYPE=image/jpeg:https://www.jackson-nh.gov/wp-content/uploads/2026/01/old-jackson-library.jpg
END:VEVENT
BEGIN:VEVENT
DTSTART;TZID=America/New_York:20260812T083000
DTEND;TZID=America/New_York:20260812T094500
DTSTAMP:20260420T063244
CREATED:20260219T200629Z
LAST-MODIFIED:20260219T200744Z
UID:10001121-1786523400-1786527900@www.jackson-nh.gov
SUMMARY:Old Library Basic Yoga Class
DESCRIPTION:Old Library: Basic Yoga Class
URL:https://www.jackson-nh.gov/event/basic-yoga-class/2026-08-12/
LOCATION:Town of Jackson\, 54 Main St\, Jackson\, NH\, 03846
CATEGORIES:Jackson Old Library
ATTACH;FMTTYPE=image/jpeg:https://www.jackson-nh.gov/wp-content/uploads/2026/01/old-jackson-library.jpg
END:VEVENT
BEGIN:VEVENT
DTSTART;TZID=America/New_York:20260813T190000
DTEND;TZID=America/New_York:20260813T200000
DTSTAMP:20260420T063244
CREATED:20260127T161710Z
LAST-MODIFIED:20260127T161956Z
UID:10000271-1786647600-1786651200@www.jackson-nh.gov
SUMMARY:Planning Board Meeting
DESCRIPTION:
URL:https://www.jackson-nh.gov/event/planning-board-meeting/2026-08-13/
LOCATION:Town of Jackson\, 54 Main St\, Jackson\, NH\, 03846
CATEGORIES:Planning Board
ATTACH;FMTTYPE=image/jpeg:https://www.jackson-nh.gov/wp-content/uploads/2025/10/planning-board.jpg
END:VEVENT
BEGIN:VEVENT
DTSTART;TZID=America/New_York:20260814T083000
DTEND;TZID=America/New_York:20260814T100000
DTSTAMP:20260420T063244
CREATED:20260318T162856Z
LAST-MODIFIED:20260318T162913Z
UID:10001461-1786696200-1786701600@www.jackson-nh.gov
SUMMARY:Old Library: Yoga
DESCRIPTION:Private Yoga Class
URL:https://www.jackson-nh.gov/event/old-library-yoga-3/2026-08-14/
LOCATION:Town of Jackson\, 54 Main St\, Jackson\, NH\, 03846
CATEGORIES:Jackson Old Library
END:VEVENT
BEGIN:VEVENT
DTSTART;TZID=America/New_York:20260817T090000
DTEND;TZID=America/New_York:20260817T101500
DTSTAMP:20260420T063244
CREATED:20260219T200511Z
LAST-MODIFIED:20260219T200728Z
UID:10001060-1786957200-1786961700@www.jackson-nh.gov
SUMMARY:Old Library Vinyassa Yoga
DESCRIPTION:Old Library: Vinyassa Yoga
URL:https://www.jackson-nh.gov/event/vinyassa-yoga/2026-08-17/
LOCATION:Town of Jackson\, 54 Main St\, Jackson\, NH\, 03846
CATEGORIES:Jackson Old Library
ATTACH;FMTTYPE=image/jpeg:https://www.jackson-nh.gov/wp-content/uploads/2026/01/old-jackson-library.jpg
END:VEVENT
BEGIN:VEVENT
DTSTART;TZID=America/New_York:20260818T153000
DTEND;TZID=America/New_York:20260818T163000
DTSTAMP:20260420T063244
CREATED:20260316T222408Z
LAST-MODIFIED:20260316T222721Z
UID:10000094-1787067000-1787070600@www.jackson-nh.gov
SUMMARY:Select Board Meeting
DESCRIPTION:
URL:https://www.jackson-nh.gov/event/select-board-meeting-5/2026-08-18/
LOCATION:Town of Jackson\, 54 Main St\, Jackson\, NH\, 03846
CATEGORIES:Select Board
ATTACH;FMTTYPE=image/jpeg:https://www.jackson-nh.gov/wp-content/uploads/2025/10/select-board.jpg
END:VEVENT
BEGIN:VEVENT
DTSTART;TZID=America/New_York:20260818T180000
DTEND;TZID=America/New_York:20260818T190000
DTSTAMP:20260420T063244
CREATED:20260127T170025Z
LAST-MODIFIED:20260127T170102Z
UID:10000962-1787076000-1787079600@www.jackson-nh.gov
SUMMARY:Housing Commission Meeting
DESCRIPTION:Tuesday\, February 17\, 2026 – 6:00pm\n\n\nThe Jackson Housing Commission meets at 6:00pm on the 3rd Tuesday of each month at the Town Office Building\, 54 Main Street\, Jackson NH
URL:https://www.jackson-nh.gov/event/housing-commission-meeting/2026-08-18/
LOCATION:Town of Jackson\, 54 Main St\, Jackson\, NH\, 03846
CATEGORIES:Housing
END:VEVENT
BEGIN:VEVENT
DTSTART;TZID=America/New_York:20260819T083000
DTEND;TZID=America/New_York:20260819T094500
DTSTAMP:20260420T063244
CREATED:20260219T200629Z
LAST-MODIFIED:20260219T200744Z
UID:10001122-1787128200-1787132700@www.jackson-nh.gov
SUMMARY:Old Library Basic Yoga Class
DESCRIPTION:Old Library: Basic Yoga Class
URL:https://www.jackson-nh.gov/event/basic-yoga-class/2026-08-19/
LOCATION:Town of Jackson\, 54 Main St\, Jackson\, NH\, 03846
CATEGORIES:Jackson Old Library
ATTACH;FMTTYPE=image/jpeg:https://www.jackson-nh.gov/wp-content/uploads/2026/01/old-jackson-library.jpg
END:VEVENT
BEGIN:VEVENT
DTSTART;TZID=America/New_York:20260821T083000
DTEND;TZID=America/New_York:20260821T100000
DTSTAMP:20260420T063244
CREATED:20260318T162856Z
LAST-MODIFIED:20260318T162913Z
UID:10001462-1787301000-1787306400@www.jackson-nh.gov
SUMMARY:Old Library: Yoga
DESCRIPTION:Private Yoga Class
URL:https://www.jackson-nh.gov/event/old-library-yoga-3/2026-08-21/
LOCATION:Town of Jackson\, 54 Main St\, Jackson\, NH\, 03846
CATEGORIES:Jackson Old Library
END:VEVENT
BEGIN:VEVENT
DTSTART;TZID=America/New_York:20260824T090000
DTEND;TZID=America/New_York:20260824T101500
DTSTAMP:20260420T063244
CREATED:20260219T200511Z
LAST-MODIFIED:20260219T200728Z
UID:10001061-1787562000-1787566500@www.jackson-nh.gov
SUMMARY:Old Library Vinyassa Yoga
DESCRIPTION:Old Library: Vinyassa Yoga
URL:https://www.jackson-nh.gov/event/vinyassa-yoga/2026-08-24/
LOCATION:Town of Jackson\, 54 Main St\, Jackson\, NH\, 03846
CATEGORIES:Jackson Old Library
ATTACH;FMTTYPE=image/jpeg:https://www.jackson-nh.gov/wp-content/uploads/2026/01/old-jackson-library.jpg
END:VEVENT
BEGIN:VEVENT
DTSTART;TZID=America/New_York:20260826T083000
DTEND;TZID=America/New_York:20260826T094500
DTSTAMP:20260420T063244
CREATED:20260219T200629Z
LAST-MODIFIED:20260219T200744Z
UID:10001123-1787733000-1787737500@www.jackson-nh.gov
SUMMARY:Old Library Basic Yoga Class
DESCRIPTION:Old Library: Basic Yoga Class
URL:https://www.jackson-nh.gov/event/basic-yoga-class/2026-08-26/
LOCATION:Town of Jackson\, 54 Main St\, Jackson\, NH\, 03846
CATEGORIES:Jackson Old Library
ATTACH;FMTTYPE=image/jpeg:https://www.jackson-nh.gov/wp-content/uploads/2026/01/old-jackson-library.jpg
END:VEVENT
BEGIN:VEVENT
DTSTART;TZID=America/New_York:20260828T083000
DTEND;TZID=America/New_York:20260828T100000
DTSTAMP:20260420T063244
CREATED:20260318T162856Z
LAST-MODIFIED:20260318T162913Z
UID:10001463-1787905800-1787911200@www.jackson-nh.gov
SUMMARY:Old Library: Yoga
DESCRIPTION:Private Yoga Class
URL:https://www.jackson-nh.gov/event/old-library-yoga-3/2026-08-28/
LOCATION:Town of Jackson\, 54 Main St\, Jackson\, NH\, 03846
CATEGORIES:Jackson Old Library
END:VEVENT
BEGIN:VEVENT
DTSTART;TZID=America/New_York:20260831T090000
DTEND;TZID=America/New_York:20260831T101500
DTSTAMP:20260420T063244
CREATED:20260219T200511Z
LAST-MODIFIED:20260219T200728Z
UID:10001062-1788166800-1788171300@www.jackson-nh.gov
SUMMARY:Old Library Vinyassa Yoga
DESCRIPTION:Old Library: Vinyassa Yoga
URL:https://www.jackson-nh.gov/event/vinyassa-yoga/2026-08-31/
LOCATION:Town of Jackson\, 54 Main St\, Jackson\, NH\, 03846
CATEGORIES:Jackson Old Library
ATTACH;FMTTYPE=image/jpeg:https://www.jackson-nh.gov/wp-content/uploads/2026/01/old-jackson-library.jpg
END:VEVENT
BEGIN:VEVENT
DTSTART;TZID=America/New_York:20260901T153000
DTEND;TZID=America/New_York:20260901T163000
DTSTAMP:20260420T063244
CREATED:20260316T222408Z
LAST-MODIFIED:20260316T222721Z
UID:10000095-1788276600-1788280200@www.jackson-nh.gov
SUMMARY:Select Board Meeting
DESCRIPTION:
URL:https://www.jackson-nh.gov/event/select-board-meeting-5/2026-09-01/
LOCATION:Town of Jackson\, 54 Main St\, Jackson\, NH\, 03846
CATEGORIES:Select Board
ATTACH;FMTTYPE=image/jpeg:https://www.jackson-nh.gov/wp-content/uploads/2025/10/select-board.jpg
END:VEVENT
BEGIN:VEVENT
DTSTART;TZID=America/New_York:20260902T083000
DTEND;TZID=America/New_York:20260902T094500
DTSTAMP:20260420T063244
CREATED:20260219T200629Z
LAST-MODIFIED:20260219T200744Z
UID:10001124-1788337800-1788342300@www.jackson-nh.gov
SUMMARY:Old Library Basic Yoga Class
DESCRIPTION:Old Library: Basic Yoga Class
URL:https://www.jackson-nh.gov/event/basic-yoga-class/2026-09-02/
LOCATION:Town of Jackson\, 54 Main St\, Jackson\, NH\, 03846
CATEGORIES:Jackson Old Library
ATTACH;FMTTYPE=image/jpeg:https://www.jackson-nh.gov/wp-content/uploads/2026/01/old-jackson-library.jpg
END:VEVENT
BEGIN:VEVENT
DTSTART;TZID=America/New_York:20260904T083000
DTEND;TZID=America/New_York:20260904T100000
DTSTAMP:20260420T063244
CREATED:20260318T162856Z
LAST-MODIFIED:20260318T162913Z
UID:10001464-1788510600-1788516000@www.jackson-nh.gov
SUMMARY:Old Library: Yoga
DESCRIPTION:Private Yoga Class
URL:https://www.jackson-nh.gov/event/old-library-yoga-3/2026-09-04/
LOCATION:Town of Jackson\, 54 Main St\, Jackson\, NH\, 03846
CATEGORIES:Jackson Old Library
END:VEVENT
BEGIN:VEVENT
DTSTART;TZID=America/New_York:20260907T090000
DTEND;TZID=America/New_York:20260907T101500
DTSTAMP:20260420T063244
CREATED:20260219T200511Z
LAST-MODIFIED:20260219T200728Z
UID:10001063-1788771600-1788776100@www.jackson-nh.gov
SUMMARY:Old Library Vinyassa Yoga
DESCRIPTION:Old Library: Vinyassa Yoga
URL:https://www.jackson-nh.gov/event/vinyassa-yoga/2026-09-07/
LOCATION:Town of Jackson\, 54 Main St\, Jackson\, NH\, 03846
CATEGORIES:Jackson Old Library
ATTACH;FMTTYPE=image/jpeg:https://www.jackson-nh.gov/wp-content/uploads/2026/01/old-jackson-library.jpg
END:VEVENT
BEGIN:VEVENT
DTSTART;TZID=UTC:20260907T173000
DTEND;TZID=UTC:20260907T183000
DTSTAMP:20260420T063244
CREATED:20251002T034058Z
LAST-MODIFIED:20260404T124529Z
UID:10000012-1788802200-1788805800@www.jackson-nh.gov
SUMMARY:Conservation Commission Meeting
DESCRIPTION:
URL:https://www.jackson-nh.gov/event/conservation-commission-meeting/2026-09-07/
LOCATION:Town of Jackson\, 54 Main St\, Jackson\, NH\, 03846
CATEGORIES:Conservation Commission
ATTACH;FMTTYPE=image/jpeg:https://www.jackson-nh.gov/wp-content/uploads/2025/10/conservation-commission.jpg
END:VEVENT
BEGIN:VEVENT
DTSTART;TZID=America/New_York:20260909T083000
DTEND;TZID=America/New_York:20260909T094500
DTSTAMP:20260420T063244
CREATED:20260219T200629Z
LAST-MODIFIED:20260219T200744Z
UID:10001125-1788942600-1788947100@www.jackson-nh.gov
SUMMARY:Old Library Basic Yoga Class
DESCRIPTION:Old Library: Basic Yoga Class
URL:https://www.jackson-nh.gov/event/basic-yoga-class/2026-09-09/
LOCATION:Town of Jackson\, 54 Main St\, Jackson\, NH\, 03846
CATEGORIES:Jackson Old Library
ATTACH;FMTTYPE=image/jpeg:https://www.jackson-nh.gov/wp-content/uploads/2026/01/old-jackson-library.jpg
END:VEVENT
BEGIN:VEVENT
DTSTART;TZID=America/New_York:20260910T190000
DTEND;TZID=America/New_York:20260910T200000
DTSTAMP:20260420T063244
CREATED:20260127T161710Z
LAST-MODIFIED:20260127T161956Z
UID:10000272-1789066800-1789070400@www.jackson-nh.gov
SUMMARY:Planning Board Meeting
DESCRIPTION:
URL:https://www.jackson-nh.gov/event/planning-board-meeting/2026-09-10/
LOCATION:Town of Jackson\, 54 Main St\, Jackson\, NH\, 03846
CATEGORIES:Planning Board
ATTACH;FMTTYPE=image/jpeg:https://www.jackson-nh.gov/wp-content/uploads/2025/10/planning-board.jpg
END:VEVENT
END:VCALENDAR