BEGIN:VCALENDAR
VERSION:2.0
PRODID:-//Town of Jackson NH - ECPv6.15.20//NONSGML v1.0//EN
CALSCALE:GREGORIAN
METHOD:PUBLISH
X-ORIGINAL-URL:https://www.jackson-nh.gov
X-WR-CALDESC:Events for Town of Jackson NH
REFRESH-INTERVAL;VALUE=DURATION:PT1H
X-Robots-Tag:noindex
X-PUBLISHED-TTL:PT1H
BEGIN:VTIMEZONE
TZID:America/New_York
BEGIN:DAYLIGHT
TZOFFSETFROM:-0500
TZOFFSETTO:-0400
TZNAME:EDT
DTSTART:20270314T070000
END:DAYLIGHT
BEGIN:STANDARD
TZOFFSETFROM:-0400
TZOFFSETTO:-0500
TZNAME:EST
DTSTART:20271107T060000
END:STANDARD
BEGIN:DAYLIGHT
TZOFFSETFROM:-0500
TZOFFSETTO:-0400
TZNAME:EDT
DTSTART:20280312T070000
END:DAYLIGHT
BEGIN:STANDARD
TZOFFSETFROM:-0400
TZOFFSETTO:-0500
TZNAME:EST
DTSTART:20281105T060000
END:STANDARD
BEGIN:DAYLIGHT
TZOFFSETFROM:-0500
TZOFFSETTO:-0400
TZNAME:EDT
DTSTART:20290311T070000
END:DAYLIGHT
BEGIN:STANDARD
TZOFFSETFROM:-0400
TZOFFSETTO:-0500
TZNAME:EST
DTSTART:20291104T060000
END:STANDARD
END:VTIMEZONE
BEGIN:VTIMEZONE
TZID:UTC
BEGIN:STANDARD
TZOFFSETFROM:+0000
TZOFFSETTO:+0000
TZNAME:UTC
DTSTART:20270101T000000
END:STANDARD
END:VTIMEZONE
BEGIN:VEVENT
DTSTART;TZID=America/New_York:20280324T083000
DTEND;TZID=America/New_York:20280324T100000
DTSTAMP:20260421T135337
CREATED:20260318T162856Z
LAST-MODIFIED:20260318T162913Z
UID:10001545-1837499400-1837504800@www.jackson-nh.gov
SUMMARY:Old Library: Yoga
DESCRIPTION:Private Yoga Class
URL:https://www.jackson-nh.gov/event/old-library-yoga-3/2028-03-24/
LOCATION:Town of Jackson\, 54 Main St\, Jackson\, NH\, 03846
CATEGORIES:Jackson Old Library
END:VEVENT
BEGIN:VEVENT
DTSTART;TZID=America/New_York:20280328T153000
DTEND;TZID=America/New_York:20280328T163000
DTSTAMP:20260421T135337
CREATED:20260316T222408Z
LAST-MODIFIED:20260316T222721Z
UID:10000136-1837870200-1837873800@www.jackson-nh.gov
SUMMARY:Select Board Meeting
DESCRIPTION:
URL:https://www.jackson-nh.gov/event/select-board-meeting-5/2028-03-28/
LOCATION:Town of Jackson\, 54 Main St\, Jackson\, NH\, 03846
CATEGORIES:Select Board
ATTACH;FMTTYPE=image/jpeg:https://www.jackson-nh.gov/wp-content/uploads/2025/10/select-board.jpg
END:VEVENT
BEGIN:VEVENT
DTSTART;TZID=America/New_York:20280329T150000
DTEND;TZID=America/New_York:20280329T170000
DTSTAMP:20260421T135337
CREATED:20260127T164358Z
LAST-MODIFIED:20260127T164358Z
UID:10000437-1837954800-1837962000@www.jackson-nh.gov
SUMMARY:Old Library: Conasta
DESCRIPTION:
URL:https://www.jackson-nh.gov/event/old-library-conasta/2028-03-29/
LOCATION:Old Jackson Library\, 125 Main St\, Jackson\, NH\, 03846
CATEGORIES:Jackson Old Library
ATTACH;FMTTYPE=image/jpeg:https://www.jackson-nh.gov/wp-content/uploads/2026/01/old-jackson-library.jpg
END:VEVENT
BEGIN:VEVENT
DTSTART;TZID=America/New_York:20280330T080000
DTEND;TZID=America/New_York:20280330T120000
DTSTAMP:20260421T135337
CREATED:20260305T193227Z
LAST-MODIFIED:20260305T193227Z
UID:10001350-1838016000-1838030400@www.jackson-nh.gov
SUMMARY:Old Jackson Library Closed
DESCRIPTION:Closed 8am – 12pm for cleaning
URL:https://www.jackson-nh.gov/event/old-jackson-library-closed/2028-03-30/
LOCATION:Old Jackson Library\, 125 Main St\, Jackson\, NH\, 03846
CATEGORIES:Jackson Old Library
END:VEVENT
BEGIN:VEVENT
DTSTART;TZID=America/New_York:20280331T083000
DTEND;TZID=America/New_York:20280331T100000
DTSTAMP:20260421T135337
CREATED:20260318T162856Z
LAST-MODIFIED:20260318T162913Z
UID:10001546-1838104200-1838109600@www.jackson-nh.gov
SUMMARY:Old Library: Yoga
DESCRIPTION:Private Yoga Class
URL:https://www.jackson-nh.gov/event/old-library-yoga-3/2028-03-31/
LOCATION:Town of Jackson\, 54 Main St\, Jackson\, NH\, 03846
CATEGORIES:Jackson Old Library
END:VEVENT
BEGIN:VEVENT
DTSTART;TZID=UTC:20280403T173000
DTEND;TZID=UTC:20280403T183000
DTSTAMP:20260421T135337
CREATED:20251002T034058Z
LAST-MODIFIED:20260404T124529Z
UID:10000031-1838395800-1838399400@www.jackson-nh.gov
SUMMARY:Conservation Commission Meeting
DESCRIPTION:
URL:https://www.jackson-nh.gov/event/conservation-commission-meeting/2028-04-03/
LOCATION:Town of Jackson\, 54 Main St\, Jackson\, NH\, 03846
CATEGORIES:Conservation Commission
ATTACH;FMTTYPE=image/jpeg:https://www.jackson-nh.gov/wp-content/uploads/2025/10/conservation-commission.jpg
END:VEVENT
BEGIN:VEVENT
DTSTART;TZID=America/New_York:20280405T150000
DTEND;TZID=America/New_York:20280405T170000
DTSTAMP:20260421T135337
CREATED:20260127T164358Z
LAST-MODIFIED:20260127T164358Z
UID:10000438-1838559600-1838566800@www.jackson-nh.gov
SUMMARY:Old Library: Conasta
DESCRIPTION:
URL:https://www.jackson-nh.gov/event/old-library-conasta/2028-04-05/
LOCATION:Old Jackson Library\, 125 Main St\, Jackson\, NH\, 03846
CATEGORIES:Jackson Old Library
ATTACH;FMTTYPE=image/jpeg:https://www.jackson-nh.gov/wp-content/uploads/2026/01/old-jackson-library.jpg
END:VEVENT
BEGIN:VEVENT
DTSTART;TZID=America/New_York:20280407T083000
DTEND;TZID=America/New_York:20280407T100000
DTSTAMP:20260421T135337
CREATED:20260318T162856Z
LAST-MODIFIED:20260318T162913Z
UID:10001547-1838709000-1838714400@www.jackson-nh.gov
SUMMARY:Old Library: Yoga
DESCRIPTION:Private Yoga Class
URL:https://www.jackson-nh.gov/event/old-library-yoga-3/2028-04-07/
LOCATION:Town of Jackson\, 54 Main St\, Jackson\, NH\, 03846
CATEGORIES:Jackson Old Library
END:VEVENT
BEGIN:VEVENT
DTSTART;TZID=America/New_York:20280410T190000
DTEND;TZID=America/New_York:20280410T200000
DTSTAMP:20260421T135337
CREATED:20260127T165834Z
LAST-MODIFIED:20260127T165834Z
UID:10000862-1839006000-1839009600@www.jackson-nh.gov
SUMMARY:Jackson Democrats Committee Monthly Meeting
DESCRIPTION:7:00pm to 8:00pm
URL:https://www.jackson-nh.gov/event/jackson-democrats-committee-monthly-meeting/2028-04-10/
LOCATION:Old Jackson Library\, 125 Main St\, Jackson\, NH\, 03846
CATEGORIES:Jackson Old Library
ATTACH;FMTTYPE=image/jpeg:https://www.jackson-nh.gov/wp-content/uploads/2026/01/old-jackson-library.jpg
END:VEVENT
BEGIN:VEVENT
DTSTART;TZID=America/New_York:20280411T153000
DTEND;TZID=America/New_York:20280411T163000
DTSTAMP:20260421T135337
CREATED:20260316T222408Z
LAST-MODIFIED:20260316T222721Z
UID:10000137-1839079800-1839083400@www.jackson-nh.gov
SUMMARY:Select Board Meeting
DESCRIPTION:
URL:https://www.jackson-nh.gov/event/select-board-meeting-5/2028-04-11/
LOCATION:Town of Jackson\, 54 Main St\, Jackson\, NH\, 03846
CATEGORIES:Select Board
ATTACH;FMTTYPE=image/jpeg:https://www.jackson-nh.gov/wp-content/uploads/2025/10/select-board.jpg
END:VEVENT
BEGIN:VEVENT
DTSTART;TZID=America/New_York:20280412T150000
DTEND;TZID=America/New_York:20280412T170000
DTSTAMP:20260421T135337
CREATED:20260127T164358Z
LAST-MODIFIED:20260127T164358Z
UID:10000439-1839164400-1839171600@www.jackson-nh.gov
SUMMARY:Old Library: Conasta
DESCRIPTION:
URL:https://www.jackson-nh.gov/event/old-library-conasta/2028-04-12/
LOCATION:Old Jackson Library\, 125 Main St\, Jackson\, NH\, 03846
CATEGORIES:Jackson Old Library
ATTACH;FMTTYPE=image/jpeg:https://www.jackson-nh.gov/wp-content/uploads/2026/01/old-jackson-library.jpg
END:VEVENT
BEGIN:VEVENT
DTSTART;TZID=America/New_York:20280413T080000
DTEND;TZID=America/New_York:20280413T120000
DTSTAMP:20260421T135337
CREATED:20260305T193227Z
LAST-MODIFIED:20260305T193227Z
UID:10001351-1839225600-1839240000@www.jackson-nh.gov
SUMMARY:Old Jackson Library Closed
DESCRIPTION:Closed 8am – 12pm for cleaning
URL:https://www.jackson-nh.gov/event/old-jackson-library-closed/2028-04-13/
LOCATION:Old Jackson Library\, 125 Main St\, Jackson\, NH\, 03846
CATEGORIES:Jackson Old Library
END:VEVENT
BEGIN:VEVENT
DTSTART;TZID=America/New_York:20280413T190000
DTEND;TZID=America/New_York:20280413T200000
DTSTAMP:20260421T135337
CREATED:20260127T161710Z
LAST-MODIFIED:20260127T161956Z
UID:10000291-1839265200-1839268800@www.jackson-nh.gov
SUMMARY:Planning Board Meeting
DESCRIPTION:
URL:https://www.jackson-nh.gov/event/planning-board-meeting/2028-04-13/
LOCATION:Town of Jackson\, 54 Main St\, Jackson\, NH\, 03846
CATEGORIES:Planning Board
ATTACH;FMTTYPE=image/jpeg:https://www.jackson-nh.gov/wp-content/uploads/2025/10/planning-board.jpg
END:VEVENT
BEGIN:VEVENT
DTSTART;TZID=America/New_York:20280414T083000
DTEND;TZID=America/New_York:20280414T100000
DTSTAMP:20260421T135337
CREATED:20260318T162856Z
LAST-MODIFIED:20260318T162913Z
UID:10001548-1839313800-1839319200@www.jackson-nh.gov
SUMMARY:Old Library: Yoga
DESCRIPTION:Private Yoga Class
URL:https://www.jackson-nh.gov/event/old-library-yoga-3/2028-04-14/
LOCATION:Town of Jackson\, 54 Main St\, Jackson\, NH\, 03846
CATEGORIES:Jackson Old Library
END:VEVENT
BEGIN:VEVENT
DTSTART;TZID=America/New_York:20280417T180000
DTEND;TZID=America/New_York:20280417T200000
DTSTAMP:20260421T135337
CREATED:20251002T201022Z
LAST-MODIFIED:20251002T201159Z
UID:10000233-1839607200-1839614400@www.jackson-nh.gov
SUMMARY:School Board Meeting
DESCRIPTION:Meets 3rd Monday of each month at 6:00 PM at the Whitney Community Center.
URL:https://www.jackson-nh.gov/event/school-board-meeting/2028-04-17/
LOCATION:Whitney Center\, 16 Black Mountain Rd\, Jackson\, NH\, 03846
CATEGORIES:School Board
ATTACH;FMTTYPE=image/jpeg:https://www.jackson-nh.gov/wp-content/uploads/2025/10/school-board.jpg
END:VEVENT
BEGIN:VEVENT
DTSTART;TZID=America/New_York:20280418T180000
DTEND;TZID=America/New_York:20280418T190000
DTSTAMP:20260421T135337
CREATED:20260127T170025Z
LAST-MODIFIED:20260127T170102Z
UID:10000982-1839693600-1839697200@www.jackson-nh.gov
SUMMARY:Housing Commission Meeting
DESCRIPTION:Tuesday\, February 17\, 2026 – 6:00pm\n\n\nThe Jackson Housing Commission meets at 6:00pm on the 3rd Tuesday of each month at the Town Office Building\, 54 Main Street\, Jackson NH
URL:https://www.jackson-nh.gov/event/housing-commission-meeting/2028-04-18/
LOCATION:Town of Jackson\, 54 Main St\, Jackson\, NH\, 03846
CATEGORIES:Housing
END:VEVENT
BEGIN:VEVENT
DTSTART;TZID=America/New_York:20280419T130000
DTEND;TZID=America/New_York:20280419T150000
DTSTAMP:20260421T135337
CREATED:20260127T164840Z
LAST-MODIFIED:20260127T165424Z
UID:10000611-1839762000-1839769200@www.jackson-nh.gov
SUMMARY:Old Library: Jackson/Bartlett Grief Group
DESCRIPTION:1:00pm to 3:00pm For more information contact: Gail Doktor\, Cell 978.273.0308\, Gaildoktor@mac.com
URL:https://www.jackson-nh.gov/event/old-library-jackson-bartlett-grief-group/2028-04-19/
LOCATION:Old Jackson Library\, 125 Main St\, Jackson\, NH\, 03846
CATEGORIES:Jackson Old Library
ATTACH;FMTTYPE=image/jpeg:https://www.jackson-nh.gov/wp-content/uploads/2026/01/old-jackson-library.jpg
END:VEVENT
BEGIN:VEVENT
DTSTART;TZID=America/New_York:20280419T150000
DTEND;TZID=America/New_York:20280419T170000
DTSTAMP:20260421T135337
CREATED:20260127T164358Z
LAST-MODIFIED:20260127T164358Z
UID:10000440-1839769200-1839776400@www.jackson-nh.gov
SUMMARY:Old Library: Conasta
DESCRIPTION:
URL:https://www.jackson-nh.gov/event/old-library-conasta/2028-04-19/
LOCATION:Old Jackson Library\, 125 Main St\, Jackson\, NH\, 03846
CATEGORIES:Jackson Old Library
ATTACH;FMTTYPE=image/jpeg:https://www.jackson-nh.gov/wp-content/uploads/2026/01/old-jackson-library.jpg
END:VEVENT
BEGIN:VEVENT
DTSTART;TZID=America/New_York:20280421T083000
DTEND;TZID=America/New_York:20280421T100000
DTSTAMP:20260421T135337
CREATED:20260318T162856Z
LAST-MODIFIED:20260318T162913Z
UID:10001549-1839918600-1839924000@www.jackson-nh.gov
SUMMARY:Old Library: Yoga
DESCRIPTION:Private Yoga Class
URL:https://www.jackson-nh.gov/event/old-library-yoga-3/2028-04-21/
LOCATION:Town of Jackson\, 54 Main St\, Jackson\, NH\, 03846
CATEGORIES:Jackson Old Library
END:VEVENT
BEGIN:VEVENT
DTSTART;TZID=America/New_York:20280425T153000
DTEND;TZID=America/New_York:20280425T163000
DTSTAMP:20260421T135337
CREATED:20260316T222408Z
LAST-MODIFIED:20260316T222721Z
UID:10000138-1840289400-1840293000@www.jackson-nh.gov
SUMMARY:Select Board Meeting
DESCRIPTION:
URL:https://www.jackson-nh.gov/event/select-board-meeting-5/2028-04-25/
LOCATION:Town of Jackson\, 54 Main St\, Jackson\, NH\, 03846
CATEGORIES:Select Board
ATTACH;FMTTYPE=image/jpeg:https://www.jackson-nh.gov/wp-content/uploads/2025/10/select-board.jpg
END:VEVENT
BEGIN:VEVENT
DTSTART;TZID=America/New_York:20280426T150000
DTEND;TZID=America/New_York:20280426T170000
DTSTAMP:20260421T135337
CREATED:20260127T164358Z
LAST-MODIFIED:20260127T164358Z
UID:10000441-1840374000-1840381200@www.jackson-nh.gov
SUMMARY:Old Library: Conasta
DESCRIPTION:
URL:https://www.jackson-nh.gov/event/old-library-conasta/2028-04-26/
LOCATION:Old Jackson Library\, 125 Main St\, Jackson\, NH\, 03846
CATEGORIES:Jackson Old Library
ATTACH;FMTTYPE=image/jpeg:https://www.jackson-nh.gov/wp-content/uploads/2026/01/old-jackson-library.jpg
END:VEVENT
BEGIN:VEVENT
DTSTART;TZID=America/New_York:20280427T080000
DTEND;TZID=America/New_York:20280427T120000
DTSTAMP:20260421T135337
CREATED:20260305T193227Z
LAST-MODIFIED:20260305T193227Z
UID:10001352-1840435200-1840449600@www.jackson-nh.gov
SUMMARY:Old Jackson Library Closed
DESCRIPTION:Closed 8am – 12pm for cleaning
URL:https://www.jackson-nh.gov/event/old-jackson-library-closed/2028-04-27/
LOCATION:Old Jackson Library\, 125 Main St\, Jackson\, NH\, 03846
CATEGORIES:Jackson Old Library
END:VEVENT
BEGIN:VEVENT
DTSTART;TZID=America/New_York:20280428T083000
DTEND;TZID=America/New_York:20280428T100000
DTSTAMP:20260421T135337
CREATED:20260318T162856Z
LAST-MODIFIED:20260318T162913Z
UID:10001550-1840523400-1840528800@www.jackson-nh.gov
SUMMARY:Old Library: Yoga
DESCRIPTION:Private Yoga Class
URL:https://www.jackson-nh.gov/event/old-library-yoga-3/2028-04-28/
LOCATION:Town of Jackson\, 54 Main St\, Jackson\, NH\, 03846
CATEGORIES:Jackson Old Library
END:VEVENT
BEGIN:VEVENT
DTSTART;TZID=UTC:20280501T173000
DTEND;TZID=UTC:20280501T183000
DTSTAMP:20260421T135337
CREATED:20251002T034058Z
LAST-MODIFIED:20260404T124529Z
UID:10000032-1840815000-1840818600@www.jackson-nh.gov
SUMMARY:Conservation Commission Meeting
DESCRIPTION:
URL:https://www.jackson-nh.gov/event/conservation-commission-meeting/2028-05-01/
LOCATION:Town of Jackson\, 54 Main St\, Jackson\, NH\, 03846
CATEGORIES:Conservation Commission
ATTACH;FMTTYPE=image/jpeg:https://www.jackson-nh.gov/wp-content/uploads/2025/10/conservation-commission.jpg
END:VEVENT
BEGIN:VEVENT
DTSTART;TZID=America/New_York:20280503T150000
DTEND;TZID=America/New_York:20280503T170000
DTSTAMP:20260421T135337
CREATED:20260127T164358Z
LAST-MODIFIED:20260127T164358Z
UID:10000442-1840978800-1840986000@www.jackson-nh.gov
SUMMARY:Old Library: Conasta
DESCRIPTION:
URL:https://www.jackson-nh.gov/event/old-library-conasta/2028-05-03/
LOCATION:Old Jackson Library\, 125 Main St\, Jackson\, NH\, 03846
CATEGORIES:Jackson Old Library
ATTACH;FMTTYPE=image/jpeg:https://www.jackson-nh.gov/wp-content/uploads/2026/01/old-jackson-library.jpg
END:VEVENT
BEGIN:VEVENT
DTSTART;TZID=America/New_York:20280505T083000
DTEND;TZID=America/New_York:20280505T100000
DTSTAMP:20260421T135337
CREATED:20260318T162856Z
LAST-MODIFIED:20260318T162913Z
UID:10001551-1841128200-1841133600@www.jackson-nh.gov
SUMMARY:Old Library: Yoga
DESCRIPTION:Private Yoga Class
URL:https://www.jackson-nh.gov/event/old-library-yoga-3/2028-05-05/
LOCATION:Town of Jackson\, 54 Main St\, Jackson\, NH\, 03846
CATEGORIES:Jackson Old Library
END:VEVENT
BEGIN:VEVENT
DTSTART;TZID=America/New_York:20280508T190000
DTEND;TZID=America/New_York:20280508T200000
DTSTAMP:20260421T135337
CREATED:20260127T165834Z
LAST-MODIFIED:20260127T165834Z
UID:10000863-1841425200-1841428800@www.jackson-nh.gov
SUMMARY:Jackson Democrats Committee Monthly Meeting
DESCRIPTION:7:00pm to 8:00pm
URL:https://www.jackson-nh.gov/event/jackson-democrats-committee-monthly-meeting/2028-05-08/
LOCATION:Old Jackson Library\, 125 Main St\, Jackson\, NH\, 03846
CATEGORIES:Jackson Old Library
ATTACH;FMTTYPE=image/jpeg:https://www.jackson-nh.gov/wp-content/uploads/2026/01/old-jackson-library.jpg
END:VEVENT
BEGIN:VEVENT
DTSTART;TZID=America/New_York:20280509T153000
DTEND;TZID=America/New_York:20280509T163000
DTSTAMP:20260421T135337
CREATED:20260316T222408Z
LAST-MODIFIED:20260316T222721Z
UID:10000139-1841499000-1841502600@www.jackson-nh.gov
SUMMARY:Select Board Meeting
DESCRIPTION:
URL:https://www.jackson-nh.gov/event/select-board-meeting-5/2028-05-09/
LOCATION:Town of Jackson\, 54 Main St\, Jackson\, NH\, 03846
CATEGORIES:Select Board
ATTACH;FMTTYPE=image/jpeg:https://www.jackson-nh.gov/wp-content/uploads/2025/10/select-board.jpg
END:VEVENT
BEGIN:VEVENT
DTSTART;TZID=America/New_York:20280510T150000
DTEND;TZID=America/New_York:20280510T170000
DTSTAMP:20260421T135337
CREATED:20260127T164358Z
LAST-MODIFIED:20260127T164358Z
UID:10000443-1841583600-1841590800@www.jackson-nh.gov
SUMMARY:Old Library: Conasta
DESCRIPTION:
URL:https://www.jackson-nh.gov/event/old-library-conasta/2028-05-10/
LOCATION:Old Jackson Library\, 125 Main St\, Jackson\, NH\, 03846
CATEGORIES:Jackson Old Library
ATTACH;FMTTYPE=image/jpeg:https://www.jackson-nh.gov/wp-content/uploads/2026/01/old-jackson-library.jpg
END:VEVENT
BEGIN:VEVENT
DTSTART;TZID=America/New_York:20280511T080000
DTEND;TZID=America/New_York:20280511T120000
DTSTAMP:20260421T135337
CREATED:20260305T193227Z
LAST-MODIFIED:20260305T193227Z
UID:10001353-1841644800-1841659200@www.jackson-nh.gov
SUMMARY:Old Jackson Library Closed
DESCRIPTION:Closed 8am – 12pm for cleaning
URL:https://www.jackson-nh.gov/event/old-jackson-library-closed/2028-05-11/
LOCATION:Old Jackson Library\, 125 Main St\, Jackson\, NH\, 03846
CATEGORIES:Jackson Old Library
END:VEVENT
END:VCALENDAR