BEGIN:VCALENDAR
VERSION:2.0
PRODID:-//Town of Jackson NH - ECPv6.15.20//NONSGML v1.0//EN
CALSCALE:GREGORIAN
METHOD:PUBLISH
X-ORIGINAL-URL:https://www.jackson-nh.gov
X-WR-CALDESC:Events for Town of Jackson NH
REFRESH-INTERVAL;VALUE=DURATION:PT1H
X-Robots-Tag:noindex
X-PUBLISHED-TTL:PT1H
BEGIN:VTIMEZONE
TZID:America/New_York
BEGIN:DAYLIGHT
TZOFFSETFROM:-0500
TZOFFSETTO:-0400
TZNAME:EDT
DTSTART:20270314T070000
END:DAYLIGHT
BEGIN:STANDARD
TZOFFSETFROM:-0400
TZOFFSETTO:-0500
TZNAME:EST
DTSTART:20271107T060000
END:STANDARD
BEGIN:DAYLIGHT
TZOFFSETFROM:-0500
TZOFFSETTO:-0400
TZNAME:EDT
DTSTART:20280312T070000
END:DAYLIGHT
BEGIN:STANDARD
TZOFFSETFROM:-0400
TZOFFSETTO:-0500
TZNAME:EST
DTSTART:20281105T060000
END:STANDARD
BEGIN:DAYLIGHT
TZOFFSETFROM:-0500
TZOFFSETTO:-0400
TZNAME:EDT
DTSTART:20290311T070000
END:DAYLIGHT
BEGIN:STANDARD
TZOFFSETFROM:-0400
TZOFFSETTO:-0500
TZNAME:EST
DTSTART:20291104T060000
END:STANDARD
END:VTIMEZONE
BEGIN:VTIMEZONE
TZID:UTC
BEGIN:STANDARD
TZOFFSETFROM:+0000
TZOFFSETTO:+0000
TZNAME:UTC
DTSTART:20270101T000000
END:STANDARD
END:VTIMEZONE
BEGIN:VEVENT
DTSTART;TZID=America/New_York:20280107T083000
DTEND;TZID=America/New_York:20280107T100000
DTSTAMP:20260421T081809
CREATED:20260318T162856Z
LAST-MODIFIED:20260318T162913Z
UID:10001534-1830846600-1830852000@www.jackson-nh.gov
SUMMARY:Old Library: Yoga
DESCRIPTION:Private Yoga Class
URL:https://www.jackson-nh.gov/event/old-library-yoga-3/2028-01-07/
LOCATION:Town of Jackson\, 54 Main St\, Jackson\, NH\, 03846
CATEGORIES:Jackson Old Library
END:VEVENT
BEGIN:VEVENT
DTSTART;TZID=America/New_York:20280110T190000
DTEND;TZID=America/New_York:20280110T200000
DTSTAMP:20260421T081809
CREATED:20260127T165834Z
LAST-MODIFIED:20260127T165834Z
UID:10000859-1831143600-1831147200@www.jackson-nh.gov
SUMMARY:Jackson Democrats Committee Monthly Meeting
DESCRIPTION:7:00pm to 8:00pm
URL:https://www.jackson-nh.gov/event/jackson-democrats-committee-monthly-meeting/2028-01-10/
LOCATION:Old Jackson Library\, 125 Main St\, Jackson\, NH\, 03846
CATEGORIES:Jackson Old Library
ATTACH;FMTTYPE=image/jpeg:https://www.jackson-nh.gov/wp-content/uploads/2026/01/old-jackson-library.jpg
END:VEVENT
BEGIN:VEVENT
DTSTART;TZID=America/New_York:20280112T150000
DTEND;TZID=America/New_York:20280112T170000
DTSTAMP:20260421T081809
CREATED:20260127T164358Z
LAST-MODIFIED:20260127T164358Z
UID:10000426-1831302000-1831309200@www.jackson-nh.gov
SUMMARY:Old Library: Conasta
DESCRIPTION:
URL:https://www.jackson-nh.gov/event/old-library-conasta/2028-01-12/
LOCATION:Old Jackson Library\, 125 Main St\, Jackson\, NH\, 03846
CATEGORIES:Jackson Old Library
ATTACH;FMTTYPE=image/jpeg:https://www.jackson-nh.gov/wp-content/uploads/2026/01/old-jackson-library.jpg
END:VEVENT
BEGIN:VEVENT
DTSTART;TZID=America/New_York:20280113T190000
DTEND;TZID=America/New_York:20280113T200000
DTSTAMP:20260421T081809
CREATED:20260127T161710Z
LAST-MODIFIED:20260127T161956Z
UID:10000288-1831402800-1831406400@www.jackson-nh.gov
SUMMARY:Planning Board Meeting
DESCRIPTION:
URL:https://www.jackson-nh.gov/event/planning-board-meeting/2028-01-13/
LOCATION:Town of Jackson\, 54 Main St\, Jackson\, NH\, 03846
CATEGORIES:Planning Board
ATTACH;FMTTYPE=image/jpeg:https://www.jackson-nh.gov/wp-content/uploads/2025/10/planning-board.jpg
END:VEVENT
BEGIN:VEVENT
DTSTART;TZID=America/New_York:20280114T083000
DTEND;TZID=America/New_York:20280114T100000
DTSTAMP:20260421T081809
CREATED:20260318T162856Z
LAST-MODIFIED:20260318T162913Z
UID:10001535-1831451400-1831456800@www.jackson-nh.gov
SUMMARY:Old Library: Yoga
DESCRIPTION:Private Yoga Class
URL:https://www.jackson-nh.gov/event/old-library-yoga-3/2028-01-14/
LOCATION:Town of Jackson\, 54 Main St\, Jackson\, NH\, 03846
CATEGORIES:Jackson Old Library
END:VEVENT
BEGIN:VEVENT
DTSTART;TZID=America/New_York:20280117T180000
DTEND;TZID=America/New_York:20280117T200000
DTSTAMP:20260421T081809
CREATED:20251002T201022Z
LAST-MODIFIED:20251002T201159Z
UID:10000230-1831744800-1831752000@www.jackson-nh.gov
SUMMARY:School Board Meeting
DESCRIPTION:Meets 3rd Monday of each month at 6:00 PM at the Whitney Community Center.
URL:https://www.jackson-nh.gov/event/school-board-meeting/2028-01-17/
LOCATION:Whitney Center\, 16 Black Mountain Rd\, Jackson\, NH\, 03846
CATEGORIES:School Board
ATTACH;FMTTYPE=image/jpeg:https://www.jackson-nh.gov/wp-content/uploads/2025/10/school-board.jpg
END:VEVENT
BEGIN:VEVENT
DTSTART;TZID=America/New_York:20280118T153000
DTEND;TZID=America/New_York:20280118T163000
DTSTAMP:20260421T081809
CREATED:20260316T222408Z
LAST-MODIFIED:20260316T222721Z
UID:10000131-1831822200-1831825800@www.jackson-nh.gov
SUMMARY:Select Board Meeting
DESCRIPTION:
URL:https://www.jackson-nh.gov/event/select-board-meeting-5/2028-01-18/
LOCATION:Town of Jackson\, 54 Main St\, Jackson\, NH\, 03846
CATEGORIES:Select Board
ATTACH;FMTTYPE=image/jpeg:https://www.jackson-nh.gov/wp-content/uploads/2025/10/select-board.jpg
END:VEVENT
BEGIN:VEVENT
DTSTART;TZID=America/New_York:20280118T180000
DTEND;TZID=America/New_York:20280118T190000
DTSTAMP:20260421T081809
CREATED:20260127T170025Z
LAST-MODIFIED:20260127T170102Z
UID:10000979-1831831200-1831834800@www.jackson-nh.gov
SUMMARY:Housing Commission Meeting
DESCRIPTION:Tuesday\, February 17\, 2026 – 6:00pm\n\n\nThe Jackson Housing Commission meets at 6:00pm on the 3rd Tuesday of each month at the Town Office Building\, 54 Main Street\, Jackson NH
URL:https://www.jackson-nh.gov/event/housing-commission-meeting/2028-01-18/
LOCATION:Town of Jackson\, 54 Main St\, Jackson\, NH\, 03846
CATEGORIES:Housing
END:VEVENT
BEGIN:VEVENT
DTSTART;TZID=America/New_York:20280119T130000
DTEND;TZID=America/New_York:20280119T150000
DTSTAMP:20260421T081809
CREATED:20260127T164840Z
LAST-MODIFIED:20260127T165424Z
UID:10000608-1831899600-1831906800@www.jackson-nh.gov
SUMMARY:Old Library: Jackson/Bartlett Grief Group
DESCRIPTION:1:00pm to 3:00pm For more information contact: Gail Doktor\, Cell 978.273.0308\, Gaildoktor@mac.com
URL:https://www.jackson-nh.gov/event/old-library-jackson-bartlett-grief-group/2028-01-19/
LOCATION:Old Jackson Library\, 125 Main St\, Jackson\, NH\, 03846
CATEGORIES:Jackson Old Library
ATTACH;FMTTYPE=image/jpeg:https://www.jackson-nh.gov/wp-content/uploads/2026/01/old-jackson-library.jpg
END:VEVENT
BEGIN:VEVENT
DTSTART;TZID=America/New_York:20280119T150000
DTEND;TZID=America/New_York:20280119T170000
DTSTAMP:20260421T081809
CREATED:20260127T164358Z
LAST-MODIFIED:20260127T164358Z
UID:10000427-1831906800-1831914000@www.jackson-nh.gov
SUMMARY:Old Library: Conasta
DESCRIPTION:
URL:https://www.jackson-nh.gov/event/old-library-conasta/2028-01-19/
LOCATION:Old Jackson Library\, 125 Main St\, Jackson\, NH\, 03846
CATEGORIES:Jackson Old Library
ATTACH;FMTTYPE=image/jpeg:https://www.jackson-nh.gov/wp-content/uploads/2026/01/old-jackson-library.jpg
END:VEVENT
BEGIN:VEVENT
DTSTART;TZID=America/New_York:20280120T080000
DTEND;TZID=America/New_York:20280120T120000
DTSTAMP:20260421T081809
CREATED:20260305T193227Z
LAST-MODIFIED:20260305T193227Z
UID:10001345-1831968000-1831982400@www.jackson-nh.gov
SUMMARY:Old Jackson Library Closed
DESCRIPTION:Closed 8am – 12pm for cleaning
URL:https://www.jackson-nh.gov/event/old-jackson-library-closed/2028-01-20/
LOCATION:Old Jackson Library\, 125 Main St\, Jackson\, NH\, 03846
CATEGORIES:Jackson Old Library
END:VEVENT
BEGIN:VEVENT
DTSTART;TZID=America/New_York:20280121T083000
DTEND;TZID=America/New_York:20280121T100000
DTSTAMP:20260421T081809
CREATED:20260318T162856Z
LAST-MODIFIED:20260318T162913Z
UID:10001536-1832056200-1832061600@www.jackson-nh.gov
SUMMARY:Old Library: Yoga
DESCRIPTION:Private Yoga Class
URL:https://www.jackson-nh.gov/event/old-library-yoga-3/2028-01-21/
LOCATION:Town of Jackson\, 54 Main St\, Jackson\, NH\, 03846
CATEGORIES:Jackson Old Library
END:VEVENT
BEGIN:VEVENT
DTSTART;TZID=America/New_York:20280126T150000
DTEND;TZID=America/New_York:20280126T170000
DTSTAMP:20260421T081809
CREATED:20260127T164358Z
LAST-MODIFIED:20260127T164358Z
UID:10000428-1832511600-1832518800@www.jackson-nh.gov
SUMMARY:Old Library: Conasta
DESCRIPTION:
URL:https://www.jackson-nh.gov/event/old-library-conasta/2028-01-26/
LOCATION:Old Jackson Library\, 125 Main St\, Jackson\, NH\, 03846
CATEGORIES:Jackson Old Library
ATTACH;FMTTYPE=image/jpeg:https://www.jackson-nh.gov/wp-content/uploads/2026/01/old-jackson-library.jpg
END:VEVENT
BEGIN:VEVENT
DTSTART;TZID=America/New_York:20280128T083000
DTEND;TZID=America/New_York:20280128T100000
DTSTAMP:20260421T081809
CREATED:20260318T162856Z
LAST-MODIFIED:20260318T162913Z
UID:10001537-1832661000-1832666400@www.jackson-nh.gov
SUMMARY:Old Library: Yoga
DESCRIPTION:Private Yoga Class
URL:https://www.jackson-nh.gov/event/old-library-yoga-3/2028-01-28/
LOCATION:Town of Jackson\, 54 Main St\, Jackson\, NH\, 03846
CATEGORIES:Jackson Old Library
END:VEVENT
BEGIN:VEVENT
DTSTART;TZID=America/New_York:20280201T153000
DTEND;TZID=America/New_York:20280201T163000
DTSTAMP:20260421T081809
CREATED:20260316T222408Z
LAST-MODIFIED:20260316T222721Z
UID:10000132-1833031800-1833035400@www.jackson-nh.gov
SUMMARY:Select Board Meeting
DESCRIPTION:
URL:https://www.jackson-nh.gov/event/select-board-meeting-5/2028-02-01/
LOCATION:Town of Jackson\, 54 Main St\, Jackson\, NH\, 03846
CATEGORIES:Select Board
ATTACH;FMTTYPE=image/jpeg:https://www.jackson-nh.gov/wp-content/uploads/2025/10/select-board.jpg
END:VEVENT
BEGIN:VEVENT
DTSTART;TZID=America/New_York:20280202T150000
DTEND;TZID=America/New_York:20280202T170000
DTSTAMP:20260421T081809
CREATED:20260127T164358Z
LAST-MODIFIED:20260127T164358Z
UID:10000429-1833116400-1833123600@www.jackson-nh.gov
SUMMARY:Old Library: Conasta
DESCRIPTION:
URL:https://www.jackson-nh.gov/event/old-library-conasta/2028-02-02/
LOCATION:Old Jackson Library\, 125 Main St\, Jackson\, NH\, 03846
CATEGORIES:Jackson Old Library
ATTACH;FMTTYPE=image/jpeg:https://www.jackson-nh.gov/wp-content/uploads/2026/01/old-jackson-library.jpg
END:VEVENT
BEGIN:VEVENT
DTSTART;TZID=America/New_York:20280203T080000
DTEND;TZID=America/New_York:20280203T120000
DTSTAMP:20260421T081809
CREATED:20260305T193227Z
LAST-MODIFIED:20260305T193227Z
UID:10001346-1833177600-1833192000@www.jackson-nh.gov
SUMMARY:Old Jackson Library Closed
DESCRIPTION:Closed 8am – 12pm for cleaning
URL:https://www.jackson-nh.gov/event/old-jackson-library-closed/2028-02-03/
LOCATION:Old Jackson Library\, 125 Main St\, Jackson\, NH\, 03846
CATEGORIES:Jackson Old Library
END:VEVENT
BEGIN:VEVENT
DTSTART;TZID=America/New_York:20280204T083000
DTEND;TZID=America/New_York:20280204T100000
DTSTAMP:20260421T081809
CREATED:20260318T162856Z
LAST-MODIFIED:20260318T162913Z
UID:10001538-1833265800-1833271200@www.jackson-nh.gov
SUMMARY:Old Library: Yoga
DESCRIPTION:Private Yoga Class
URL:https://www.jackson-nh.gov/event/old-library-yoga-3/2028-02-04/
LOCATION:Town of Jackson\, 54 Main St\, Jackson\, NH\, 03846
CATEGORIES:Jackson Old Library
END:VEVENT
BEGIN:VEVENT
DTSTART;TZID=UTC:20280207T173000
DTEND;TZID=UTC:20280207T183000
DTSTAMP:20260421T081809
CREATED:20251002T034058Z
LAST-MODIFIED:20260404T124529Z
UID:10000029-1833557400-1833561000@www.jackson-nh.gov
SUMMARY:Conservation Commission Meeting
DESCRIPTION:
URL:https://www.jackson-nh.gov/event/conservation-commission-meeting/2028-02-07/
LOCATION:Town of Jackson\, 54 Main St\, Jackson\, NH\, 03846
CATEGORIES:Conservation Commission
ATTACH;FMTTYPE=image/jpeg:https://www.jackson-nh.gov/wp-content/uploads/2025/10/conservation-commission.jpg
END:VEVENT
BEGIN:VEVENT
DTSTART;TZID=America/New_York:20280209T150000
DTEND;TZID=America/New_York:20280209T170000
DTSTAMP:20260421T081809
CREATED:20260127T164358Z
LAST-MODIFIED:20260127T164358Z
UID:10000430-1833721200-1833728400@www.jackson-nh.gov
SUMMARY:Old Library: Conasta
DESCRIPTION:
URL:https://www.jackson-nh.gov/event/old-library-conasta/2028-02-09/
LOCATION:Old Jackson Library\, 125 Main St\, Jackson\, NH\, 03846
CATEGORIES:Jackson Old Library
ATTACH;FMTTYPE=image/jpeg:https://www.jackson-nh.gov/wp-content/uploads/2026/01/old-jackson-library.jpg
END:VEVENT
BEGIN:VEVENT
DTSTART;TZID=America/New_York:20280210T190000
DTEND;TZID=America/New_York:20280210T200000
DTSTAMP:20260421T081809
CREATED:20260127T161710Z
LAST-MODIFIED:20260127T161956Z
UID:10000289-1833822000-1833825600@www.jackson-nh.gov
SUMMARY:Planning Board Meeting
DESCRIPTION:
URL:https://www.jackson-nh.gov/event/planning-board-meeting/2028-02-10/
LOCATION:Town of Jackson\, 54 Main St\, Jackson\, NH\, 03846
CATEGORIES:Planning Board
ATTACH;FMTTYPE=image/jpeg:https://www.jackson-nh.gov/wp-content/uploads/2025/10/planning-board.jpg
END:VEVENT
BEGIN:VEVENT
DTSTART;TZID=America/New_York:20280211T083000
DTEND;TZID=America/New_York:20280211T100000
DTSTAMP:20260421T081809
CREATED:20260318T162856Z
LAST-MODIFIED:20260318T162913Z
UID:10001539-1833870600-1833876000@www.jackson-nh.gov
SUMMARY:Old Library: Yoga
DESCRIPTION:Private Yoga Class
URL:https://www.jackson-nh.gov/event/old-library-yoga-3/2028-02-11/
LOCATION:Town of Jackson\, 54 Main St\, Jackson\, NH\, 03846
CATEGORIES:Jackson Old Library
END:VEVENT
BEGIN:VEVENT
DTSTART;TZID=America/New_York:20280214T190000
DTEND;TZID=America/New_York:20280214T200000
DTSTAMP:20260421T081809
CREATED:20260127T165834Z
LAST-MODIFIED:20260127T165834Z
UID:10000860-1834167600-1834171200@www.jackson-nh.gov
SUMMARY:Jackson Democrats Committee Monthly Meeting
DESCRIPTION:7:00pm to 8:00pm
URL:https://www.jackson-nh.gov/event/jackson-democrats-committee-monthly-meeting/2028-02-14/
LOCATION:Old Jackson Library\, 125 Main St\, Jackson\, NH\, 03846
CATEGORIES:Jackson Old Library
ATTACH;FMTTYPE=image/jpeg:https://www.jackson-nh.gov/wp-content/uploads/2026/01/old-jackson-library.jpg
END:VEVENT
BEGIN:VEVENT
DTSTART;TZID=America/New_York:20280215T153000
DTEND;TZID=America/New_York:20280215T163000
DTSTAMP:20260421T081809
CREATED:20260316T222408Z
LAST-MODIFIED:20260316T222721Z
UID:10000133-1834241400-1834245000@www.jackson-nh.gov
SUMMARY:Select Board Meeting
DESCRIPTION:
URL:https://www.jackson-nh.gov/event/select-board-meeting-5/2028-02-15/
LOCATION:Town of Jackson\, 54 Main St\, Jackson\, NH\, 03846
CATEGORIES:Select Board
ATTACH;FMTTYPE=image/jpeg:https://www.jackson-nh.gov/wp-content/uploads/2025/10/select-board.jpg
END:VEVENT
BEGIN:VEVENT
DTSTART;TZID=America/New_York:20280215T180000
DTEND;TZID=America/New_York:20280215T190000
DTSTAMP:20260421T081809
CREATED:20260127T170025Z
LAST-MODIFIED:20260127T170102Z
UID:10000980-1834250400-1834254000@www.jackson-nh.gov
SUMMARY:Housing Commission Meeting
DESCRIPTION:Tuesday\, February 17\, 2026 – 6:00pm\n\n\nThe Jackson Housing Commission meets at 6:00pm on the 3rd Tuesday of each month at the Town Office Building\, 54 Main Street\, Jackson NH
URL:https://www.jackson-nh.gov/event/housing-commission-meeting/2028-02-15/
LOCATION:Town of Jackson\, 54 Main St\, Jackson\, NH\, 03846
CATEGORIES:Housing
END:VEVENT
BEGIN:VEVENT
DTSTART;TZID=America/New_York:20280216T130000
DTEND;TZID=America/New_York:20280216T150000
DTSTAMP:20260421T081809
CREATED:20260127T164840Z
LAST-MODIFIED:20260127T165424Z
UID:10000609-1834318800-1834326000@www.jackson-nh.gov
SUMMARY:Old Library: Jackson/Bartlett Grief Group
DESCRIPTION:1:00pm to 3:00pm For more information contact: Gail Doktor\, Cell 978.273.0308\, Gaildoktor@mac.com
URL:https://www.jackson-nh.gov/event/old-library-jackson-bartlett-grief-group/2028-02-16/
LOCATION:Old Jackson Library\, 125 Main St\, Jackson\, NH\, 03846
CATEGORIES:Jackson Old Library
ATTACH;FMTTYPE=image/jpeg:https://www.jackson-nh.gov/wp-content/uploads/2026/01/old-jackson-library.jpg
END:VEVENT
BEGIN:VEVENT
DTSTART;TZID=America/New_York:20280216T150000
DTEND;TZID=America/New_York:20280216T170000
DTSTAMP:20260421T081809
CREATED:20260127T164358Z
LAST-MODIFIED:20260127T164358Z
UID:10000431-1834326000-1834333200@www.jackson-nh.gov
SUMMARY:Old Library: Conasta
DESCRIPTION:
URL:https://www.jackson-nh.gov/event/old-library-conasta/2028-02-16/
LOCATION:Old Jackson Library\, 125 Main St\, Jackson\, NH\, 03846
CATEGORIES:Jackson Old Library
ATTACH;FMTTYPE=image/jpeg:https://www.jackson-nh.gov/wp-content/uploads/2026/01/old-jackson-library.jpg
END:VEVENT
BEGIN:VEVENT
DTSTART;TZID=America/New_York:20280217T080000
DTEND;TZID=America/New_York:20280217T120000
DTSTAMP:20260421T081809
CREATED:20260305T193227Z
LAST-MODIFIED:20260305T193227Z
UID:10001347-1834387200-1834401600@www.jackson-nh.gov
SUMMARY:Old Jackson Library Closed
DESCRIPTION:Closed 8am – 12pm for cleaning
URL:https://www.jackson-nh.gov/event/old-jackson-library-closed/2028-02-17/
LOCATION:Old Jackson Library\, 125 Main St\, Jackson\, NH\, 03846
CATEGORIES:Jackson Old Library
END:VEVENT
BEGIN:VEVENT
DTSTART;TZID=America/New_York:20280218T083000
DTEND;TZID=America/New_York:20280218T100000
DTSTAMP:20260421T081809
CREATED:20260318T162856Z
LAST-MODIFIED:20260318T162913Z
UID:10001540-1834475400-1834480800@www.jackson-nh.gov
SUMMARY:Old Library: Yoga
DESCRIPTION:Private Yoga Class
URL:https://www.jackson-nh.gov/event/old-library-yoga-3/2028-02-18/
LOCATION:Town of Jackson\, 54 Main St\, Jackson\, NH\, 03846
CATEGORIES:Jackson Old Library
END:VEVENT
BEGIN:VEVENT
DTSTART;TZID=America/New_York:20280221T180000
DTEND;TZID=America/New_York:20280221T200000
DTSTAMP:20260421T081809
CREATED:20251002T201022Z
LAST-MODIFIED:20251002T201159Z
UID:10000231-1834768800-1834776000@www.jackson-nh.gov
SUMMARY:School Board Meeting
DESCRIPTION:Meets 3rd Monday of each month at 6:00 PM at the Whitney Community Center.
URL:https://www.jackson-nh.gov/event/school-board-meeting/2028-02-21/
LOCATION:Whitney Center\, 16 Black Mountain Rd\, Jackson\, NH\, 03846
CATEGORIES:School Board
ATTACH;FMTTYPE=image/jpeg:https://www.jackson-nh.gov/wp-content/uploads/2025/10/school-board.jpg
END:VEVENT
END:VCALENDAR