BEGIN:VCALENDAR
VERSION:2.0
PRODID:-//Town of Jackson NH - ECPv6.15.20//NONSGML v1.0//EN
CALSCALE:GREGORIAN
METHOD:PUBLISH
X-ORIGINAL-URL:https://www.jackson-nh.gov
X-WR-CALDESC:Events for Town of Jackson NH
REFRESH-INTERVAL;VALUE=DURATION:PT1H
X-Robots-Tag:noindex
X-PUBLISHED-TTL:PT1H
BEGIN:VTIMEZONE
TZID:UTC
BEGIN:STANDARD
TZOFFSETFROM:+0000
TZOFFSETTO:+0000
TZNAME:UTC
DTSTART:20260101T000000
END:STANDARD
END:VTIMEZONE
BEGIN:VTIMEZONE
TZID:America/New_York
BEGIN:DAYLIGHT
TZOFFSETFROM:-0500
TZOFFSETTO:-0400
TZNAME:EDT
DTSTART:20260308T070000
END:DAYLIGHT
BEGIN:STANDARD
TZOFFSETFROM:-0400
TZOFFSETTO:-0500
TZNAME:EST
DTSTART:20261101T060000
END:STANDARD
BEGIN:DAYLIGHT
TZOFFSETFROM:-0500
TZOFFSETTO:-0400
TZNAME:EDT
DTSTART:20270314T070000
END:DAYLIGHT
BEGIN:STANDARD
TZOFFSETFROM:-0400
TZOFFSETTO:-0500
TZNAME:EST
DTSTART:20271107T060000
END:STANDARD
BEGIN:DAYLIGHT
TZOFFSETFROM:-0500
TZOFFSETTO:-0400
TZNAME:EDT
DTSTART:20280312T070000
END:DAYLIGHT
BEGIN:STANDARD
TZOFFSETFROM:-0400
TZOFFSETTO:-0500
TZNAME:EST
DTSTART:20281105T060000
END:STANDARD
END:VTIMEZONE
BEGIN:VEVENT
DTSTART;TZID=UTC:20271004T173000
DTEND;TZID=UTC:20271004T183000
DTSTAMP:20260421T010623
CREATED:20251002T034058Z
LAST-MODIFIED:20260404T124529Z
UID:10000025-1822671000-1822674600@www.jackson-nh.gov
SUMMARY:Conservation Commission Meeting
DESCRIPTION:
URL:https://www.jackson-nh.gov/event/conservation-commission-meeting/2027-10-04/
LOCATION:Town of Jackson\, 54 Main St\, Jackson\, NH\, 03846
CATEGORIES:Conservation Commission
ATTACH;FMTTYPE=image/jpeg:https://www.jackson-nh.gov/wp-content/uploads/2025/10/conservation-commission.jpg
END:VEVENT
BEGIN:VEVENT
DTSTART;TZID=America/New_York:20271006T150000
DTEND;TZID=America/New_York:20271006T170000
DTSTAMP:20260421T010623
CREATED:20260127T164358Z
LAST-MODIFIED:20260127T164358Z
UID:10000412-1822834800-1822842000@www.jackson-nh.gov
SUMMARY:Old Library: Conasta
DESCRIPTION:
URL:https://www.jackson-nh.gov/event/old-library-conasta/2027-10-06/
LOCATION:Old Jackson Library\, 125 Main St\, Jackson\, NH\, 03846
CATEGORIES:Jackson Old Library
ATTACH;FMTTYPE=image/jpeg:https://www.jackson-nh.gov/wp-content/uploads/2026/01/old-jackson-library.jpg
END:VEVENT
BEGIN:VEVENT
DTSTART;TZID=America/New_York:20271008T083000
DTEND;TZID=America/New_York:20271008T100000
DTSTAMP:20260421T010623
CREATED:20260318T162856Z
LAST-MODIFIED:20260318T162913Z
UID:10001521-1822984200-1822989600@www.jackson-nh.gov
SUMMARY:Old Library: Yoga
DESCRIPTION:Private Yoga Class
URL:https://www.jackson-nh.gov/event/old-library-yoga-3/2027-10-08/
LOCATION:Town of Jackson\, 54 Main St\, Jackson\, NH\, 03846
CATEGORIES:Jackson Old Library
END:VEVENT
BEGIN:VEVENT
DTSTART;TZID=America/New_York:20271011T190000
DTEND;TZID=America/New_York:20271011T200000
DTSTAMP:20260421T010623
CREATED:20260127T165834Z
LAST-MODIFIED:20260127T165834Z
UID:10000856-1823281200-1823284800@www.jackson-nh.gov
SUMMARY:Jackson Democrats Committee Monthly Meeting
DESCRIPTION:7:00pm to 8:00pm
URL:https://www.jackson-nh.gov/event/jackson-democrats-committee-monthly-meeting/2027-10-11/
LOCATION:Old Jackson Library\, 125 Main St\, Jackson\, NH\, 03846
CATEGORIES:Jackson Old Library
ATTACH;FMTTYPE=image/jpeg:https://www.jackson-nh.gov/wp-content/uploads/2026/01/old-jackson-library.jpg
END:VEVENT
BEGIN:VEVENT
DTSTART;TZID=America/New_York:20271012T153000
DTEND;TZID=America/New_York:20271012T163000
DTSTAMP:20260421T010623
CREATED:20260316T222408Z
LAST-MODIFIED:20260316T222721Z
UID:10000124-1823355000-1823358600@www.jackson-nh.gov
SUMMARY:Select Board Meeting
DESCRIPTION:
URL:https://www.jackson-nh.gov/event/select-board-meeting-5/2027-10-12/
LOCATION:Town of Jackson\, 54 Main St\, Jackson\, NH\, 03846
CATEGORIES:Select Board
ATTACH;FMTTYPE=image/jpeg:https://www.jackson-nh.gov/wp-content/uploads/2025/10/select-board.jpg
END:VEVENT
BEGIN:VEVENT
DTSTART;TZID=America/New_York:20271013T150000
DTEND;TZID=America/New_York:20271013T170000
DTSTAMP:20260421T010623
CREATED:20260127T164358Z
LAST-MODIFIED:20260127T164358Z
UID:10000413-1823439600-1823446800@www.jackson-nh.gov
SUMMARY:Old Library: Conasta
DESCRIPTION:
URL:https://www.jackson-nh.gov/event/old-library-conasta/2027-10-13/
LOCATION:Old Jackson Library\, 125 Main St\, Jackson\, NH\, 03846
CATEGORIES:Jackson Old Library
ATTACH;FMTTYPE=image/jpeg:https://www.jackson-nh.gov/wp-content/uploads/2026/01/old-jackson-library.jpg
END:VEVENT
BEGIN:VEVENT
DTSTART;TZID=America/New_York:20271014T080000
DTEND;TZID=America/New_York:20271014T120000
DTSTAMP:20260421T010623
CREATED:20260305T193227Z
LAST-MODIFIED:20260305T193227Z
UID:10001338-1823500800-1823515200@www.jackson-nh.gov
SUMMARY:Old Jackson Library Closed
DESCRIPTION:Closed 8am – 12pm for cleaning
URL:https://www.jackson-nh.gov/event/old-jackson-library-closed/2027-10-14/
LOCATION:Old Jackson Library\, 125 Main St\, Jackson\, NH\, 03846
CATEGORIES:Jackson Old Library
END:VEVENT
BEGIN:VEVENT
DTSTART;TZID=America/New_York:20271014T190000
DTEND;TZID=America/New_York:20271014T200000
DTSTAMP:20260421T010623
CREATED:20260127T161710Z
LAST-MODIFIED:20260127T161956Z
UID:10000285-1823540400-1823544000@www.jackson-nh.gov
SUMMARY:Planning Board Meeting
DESCRIPTION:
URL:https://www.jackson-nh.gov/event/planning-board-meeting/2027-10-14/
LOCATION:Town of Jackson\, 54 Main St\, Jackson\, NH\, 03846
CATEGORIES:Planning Board
ATTACH;FMTTYPE=image/jpeg:https://www.jackson-nh.gov/wp-content/uploads/2025/10/planning-board.jpg
END:VEVENT
BEGIN:VEVENT
DTSTART;TZID=America/New_York:20271015T083000
DTEND;TZID=America/New_York:20271015T100000
DTSTAMP:20260421T010623
CREATED:20260318T162856Z
LAST-MODIFIED:20260318T162913Z
UID:10001522-1823589000-1823594400@www.jackson-nh.gov
SUMMARY:Old Library: Yoga
DESCRIPTION:Private Yoga Class
URL:https://www.jackson-nh.gov/event/old-library-yoga-3/2027-10-15/
LOCATION:Town of Jackson\, 54 Main St\, Jackson\, NH\, 03846
CATEGORIES:Jackson Old Library
END:VEVENT
BEGIN:VEVENT
DTSTART;TZID=America/New_York:20271018T180000
DTEND;TZID=America/New_York:20271018T200000
DTSTAMP:20260421T010623
CREATED:20251002T201022Z
LAST-MODIFIED:20251002T201159Z
UID:10000227-1823882400-1823889600@www.jackson-nh.gov
SUMMARY:School Board Meeting
DESCRIPTION:Meets 3rd Monday of each month at 6:00 PM at the Whitney Community Center.
URL:https://www.jackson-nh.gov/event/school-board-meeting/2027-10-18/
LOCATION:Whitney Center\, 16 Black Mountain Rd\, Jackson\, NH\, 03846
CATEGORIES:School Board
ATTACH;FMTTYPE=image/jpeg:https://www.jackson-nh.gov/wp-content/uploads/2025/10/school-board.jpg
END:VEVENT
BEGIN:VEVENT
DTSTART;TZID=America/New_York:20271019T180000
DTEND;TZID=America/New_York:20271019T190000
DTSTAMP:20260421T010623
CREATED:20260127T170025Z
LAST-MODIFIED:20260127T170102Z
UID:10000976-1823968800-1823972400@www.jackson-nh.gov
SUMMARY:Housing Commission Meeting
DESCRIPTION:Tuesday\, February 17\, 2026 – 6:00pm\n\n\nThe Jackson Housing Commission meets at 6:00pm on the 3rd Tuesday of each month at the Town Office Building\, 54 Main Street\, Jackson NH
URL:https://www.jackson-nh.gov/event/housing-commission-meeting/2027-10-19/
LOCATION:Town of Jackson\, 54 Main St\, Jackson\, NH\, 03846
CATEGORIES:Housing
END:VEVENT
BEGIN:VEVENT
DTSTART;TZID=America/New_York:20271020T130000
DTEND;TZID=America/New_York:20271020T150000
DTSTAMP:20260421T010623
CREATED:20260127T164840Z
LAST-MODIFIED:20260127T165424Z
UID:10000605-1824037200-1824044400@www.jackson-nh.gov
SUMMARY:Old Library: Jackson/Bartlett Grief Group
DESCRIPTION:1:00pm to 3:00pm For more information contact: Gail Doktor\, Cell 978.273.0308\, Gaildoktor@mac.com
URL:https://www.jackson-nh.gov/event/old-library-jackson-bartlett-grief-group/2027-10-20/
LOCATION:Old Jackson Library\, 125 Main St\, Jackson\, NH\, 03846
CATEGORIES:Jackson Old Library
ATTACH;FMTTYPE=image/jpeg:https://www.jackson-nh.gov/wp-content/uploads/2026/01/old-jackson-library.jpg
END:VEVENT
BEGIN:VEVENT
DTSTART;TZID=America/New_York:20271020T150000
DTEND;TZID=America/New_York:20271020T170000
DTSTAMP:20260421T010623
CREATED:20260127T164358Z
LAST-MODIFIED:20260127T164358Z
UID:10000414-1824044400-1824051600@www.jackson-nh.gov
SUMMARY:Old Library: Conasta
DESCRIPTION:
URL:https://www.jackson-nh.gov/event/old-library-conasta/2027-10-20/
LOCATION:Old Jackson Library\, 125 Main St\, Jackson\, NH\, 03846
CATEGORIES:Jackson Old Library
ATTACH;FMTTYPE=image/jpeg:https://www.jackson-nh.gov/wp-content/uploads/2026/01/old-jackson-library.jpg
END:VEVENT
BEGIN:VEVENT
DTSTART;TZID=America/New_York:20271022T083000
DTEND;TZID=America/New_York:20271022T100000
DTSTAMP:20260421T010623
CREATED:20260318T162856Z
LAST-MODIFIED:20260318T162913Z
UID:10001523-1824193800-1824199200@www.jackson-nh.gov
SUMMARY:Old Library: Yoga
DESCRIPTION:Private Yoga Class
URL:https://www.jackson-nh.gov/event/old-library-yoga-3/2027-10-22/
LOCATION:Town of Jackson\, 54 Main St\, Jackson\, NH\, 03846
CATEGORIES:Jackson Old Library
END:VEVENT
BEGIN:VEVENT
DTSTART;TZID=America/New_York:20271026T153000
DTEND;TZID=America/New_York:20271026T163000
DTSTAMP:20260421T010623
CREATED:20260316T222408Z
LAST-MODIFIED:20260316T222721Z
UID:10000125-1824564600-1824568200@www.jackson-nh.gov
SUMMARY:Select Board Meeting
DESCRIPTION:
URL:https://www.jackson-nh.gov/event/select-board-meeting-5/2027-10-26/
LOCATION:Town of Jackson\, 54 Main St\, Jackson\, NH\, 03846
CATEGORIES:Select Board
ATTACH;FMTTYPE=image/jpeg:https://www.jackson-nh.gov/wp-content/uploads/2025/10/select-board.jpg
END:VEVENT
BEGIN:VEVENT
DTSTART;TZID=America/New_York:20271027T150000
DTEND;TZID=America/New_York:20271027T170000
DTSTAMP:20260421T010623
CREATED:20260127T164358Z
LAST-MODIFIED:20260127T164358Z
UID:10000415-1824649200-1824656400@www.jackson-nh.gov
SUMMARY:Old Library: Conasta
DESCRIPTION:
URL:https://www.jackson-nh.gov/event/old-library-conasta/2027-10-27/
LOCATION:Old Jackson Library\, 125 Main St\, Jackson\, NH\, 03846
CATEGORIES:Jackson Old Library
ATTACH;FMTTYPE=image/jpeg:https://www.jackson-nh.gov/wp-content/uploads/2026/01/old-jackson-library.jpg
END:VEVENT
BEGIN:VEVENT
DTSTART;TZID=America/New_York:20271028T080000
DTEND;TZID=America/New_York:20271028T120000
DTSTAMP:20260421T010623
CREATED:20260305T193227Z
LAST-MODIFIED:20260305T193227Z
UID:10001339-1824710400-1824724800@www.jackson-nh.gov
SUMMARY:Old Jackson Library Closed
DESCRIPTION:Closed 8am – 12pm for cleaning
URL:https://www.jackson-nh.gov/event/old-jackson-library-closed/2027-10-28/
LOCATION:Old Jackson Library\, 125 Main St\, Jackson\, NH\, 03846
CATEGORIES:Jackson Old Library
END:VEVENT
BEGIN:VEVENT
DTSTART;TZID=America/New_York:20271029T083000
DTEND;TZID=America/New_York:20271029T100000
DTSTAMP:20260421T010623
CREATED:20260318T162856Z
LAST-MODIFIED:20260318T162913Z
UID:10001524-1824798600-1824804000@www.jackson-nh.gov
SUMMARY:Old Library: Yoga
DESCRIPTION:Private Yoga Class
URL:https://www.jackson-nh.gov/event/old-library-yoga-3/2027-10-29/
LOCATION:Town of Jackson\, 54 Main St\, Jackson\, NH\, 03846
CATEGORIES:Jackson Old Library
END:VEVENT
BEGIN:VEVENT
DTSTART;TZID=UTC:20271101T173000
DTEND;TZID=UTC:20271101T183000
DTSTAMP:20260421T010623
CREATED:20251002T034058Z
LAST-MODIFIED:20260404T124529Z
UID:10000026-1825090200-1825093800@www.jackson-nh.gov
SUMMARY:Conservation Commission Meeting
DESCRIPTION:
URL:https://www.jackson-nh.gov/event/conservation-commission-meeting/2027-11-01/
LOCATION:Town of Jackson\, 54 Main St\, Jackson\, NH\, 03846
CATEGORIES:Conservation Commission
ATTACH;FMTTYPE=image/jpeg:https://www.jackson-nh.gov/wp-content/uploads/2025/10/conservation-commission.jpg
END:VEVENT
BEGIN:VEVENT
DTSTART;TZID=America/New_York:20271103T150000
DTEND;TZID=America/New_York:20271103T170000
DTSTAMP:20260421T010623
CREATED:20260127T164358Z
LAST-MODIFIED:20260127T164358Z
UID:10000416-1825254000-1825261200@www.jackson-nh.gov
SUMMARY:Old Library: Conasta
DESCRIPTION:
URL:https://www.jackson-nh.gov/event/old-library-conasta/2027-11-03/
LOCATION:Old Jackson Library\, 125 Main St\, Jackson\, NH\, 03846
CATEGORIES:Jackson Old Library
ATTACH;FMTTYPE=image/jpeg:https://www.jackson-nh.gov/wp-content/uploads/2026/01/old-jackson-library.jpg
END:VEVENT
BEGIN:VEVENT
DTSTART;TZID=America/New_York:20271105T083000
DTEND;TZID=America/New_York:20271105T100000
DTSTAMP:20260421T010623
CREATED:20260318T162856Z
LAST-MODIFIED:20260318T162913Z
UID:10001525-1825403400-1825408800@www.jackson-nh.gov
SUMMARY:Old Library: Yoga
DESCRIPTION:Private Yoga Class
URL:https://www.jackson-nh.gov/event/old-library-yoga-3/2027-11-05/
LOCATION:Town of Jackson\, 54 Main St\, Jackson\, NH\, 03846
CATEGORIES:Jackson Old Library
END:VEVENT
BEGIN:VEVENT
DTSTART;TZID=America/New_York:20271108T190000
DTEND;TZID=America/New_York:20271108T200000
DTSTAMP:20260421T010623
CREATED:20260127T165834Z
LAST-MODIFIED:20260127T165834Z
UID:10000857-1825700400-1825704000@www.jackson-nh.gov
SUMMARY:Jackson Democrats Committee Monthly Meeting
DESCRIPTION:7:00pm to 8:00pm
URL:https://www.jackson-nh.gov/event/jackson-democrats-committee-monthly-meeting/2027-11-08/
LOCATION:Old Jackson Library\, 125 Main St\, Jackson\, NH\, 03846
CATEGORIES:Jackson Old Library
ATTACH;FMTTYPE=image/jpeg:https://www.jackson-nh.gov/wp-content/uploads/2026/01/old-jackson-library.jpg
END:VEVENT
BEGIN:VEVENT
DTSTART;TZID=America/New_York:20271109T153000
DTEND;TZID=America/New_York:20271109T163000
DTSTAMP:20260421T010623
CREATED:20260316T222408Z
LAST-MODIFIED:20260316T222721Z
UID:10000126-1825774200-1825777800@www.jackson-nh.gov
SUMMARY:Select Board Meeting
DESCRIPTION:
URL:https://www.jackson-nh.gov/event/select-board-meeting-5/2027-11-09/
LOCATION:Town of Jackson\, 54 Main St\, Jackson\, NH\, 03846
CATEGORIES:Select Board
ATTACH;FMTTYPE=image/jpeg:https://www.jackson-nh.gov/wp-content/uploads/2025/10/select-board.jpg
END:VEVENT
BEGIN:VEVENT
DTSTART;TZID=America/New_York:20271110T150000
DTEND;TZID=America/New_York:20271110T170000
DTSTAMP:20260421T010623
CREATED:20260127T164358Z
LAST-MODIFIED:20260127T164358Z
UID:10000417-1825858800-1825866000@www.jackson-nh.gov
SUMMARY:Old Library: Conasta
DESCRIPTION:
URL:https://www.jackson-nh.gov/event/old-library-conasta/2027-11-10/
LOCATION:Old Jackson Library\, 125 Main St\, Jackson\, NH\, 03846
CATEGORIES:Jackson Old Library
ATTACH;FMTTYPE=image/jpeg:https://www.jackson-nh.gov/wp-content/uploads/2026/01/old-jackson-library.jpg
END:VEVENT
BEGIN:VEVENT
DTSTART;TZID=America/New_York:20271111T080000
DTEND;TZID=America/New_York:20271111T120000
DTSTAMP:20260421T010623
CREATED:20260305T193227Z
LAST-MODIFIED:20260305T193227Z
UID:10001340-1825920000-1825934400@www.jackson-nh.gov
SUMMARY:Old Jackson Library Closed
DESCRIPTION:Closed 8am – 12pm for cleaning
URL:https://www.jackson-nh.gov/event/old-jackson-library-closed/2027-11-11/
LOCATION:Old Jackson Library\, 125 Main St\, Jackson\, NH\, 03846
CATEGORIES:Jackson Old Library
END:VEVENT
BEGIN:VEVENT
DTSTART;TZID=America/New_York:20271111T190000
DTEND;TZID=America/New_York:20271111T200000
DTSTAMP:20260421T010623
CREATED:20260127T161710Z
LAST-MODIFIED:20260127T161956Z
UID:10000286-1825959600-1825963200@www.jackson-nh.gov
SUMMARY:Planning Board Meeting
DESCRIPTION:
URL:https://www.jackson-nh.gov/event/planning-board-meeting/2027-11-11/
LOCATION:Town of Jackson\, 54 Main St\, Jackson\, NH\, 03846
CATEGORIES:Planning Board
ATTACH;FMTTYPE=image/jpeg:https://www.jackson-nh.gov/wp-content/uploads/2025/10/planning-board.jpg
END:VEVENT
BEGIN:VEVENT
DTSTART;TZID=America/New_York:20271112T083000
DTEND;TZID=America/New_York:20271112T100000
DTSTAMP:20260421T010623
CREATED:20260318T162856Z
LAST-MODIFIED:20260318T162913Z
UID:10001526-1826008200-1826013600@www.jackson-nh.gov
SUMMARY:Old Library: Yoga
DESCRIPTION:Private Yoga Class
URL:https://www.jackson-nh.gov/event/old-library-yoga-3/2027-11-12/
LOCATION:Town of Jackson\, 54 Main St\, Jackson\, NH\, 03846
CATEGORIES:Jackson Old Library
END:VEVENT
BEGIN:VEVENT
DTSTART;TZID=America/New_York:20271115T180000
DTEND;TZID=America/New_York:20271115T200000
DTSTAMP:20260421T010623
CREATED:20251002T201022Z
LAST-MODIFIED:20251002T201159Z
UID:10000228-1826301600-1826308800@www.jackson-nh.gov
SUMMARY:School Board Meeting
DESCRIPTION:Meets 3rd Monday of each month at 6:00 PM at the Whitney Community Center.
URL:https://www.jackson-nh.gov/event/school-board-meeting/2027-11-15/
LOCATION:Whitney Center\, 16 Black Mountain Rd\, Jackson\, NH\, 03846
CATEGORIES:School Board
ATTACH;FMTTYPE=image/jpeg:https://www.jackson-nh.gov/wp-content/uploads/2025/10/school-board.jpg
END:VEVENT
BEGIN:VEVENT
DTSTART;TZID=America/New_York:20271116T180000
DTEND;TZID=America/New_York:20271116T190000
DTSTAMP:20260421T010623
CREATED:20260127T170025Z
LAST-MODIFIED:20260127T170102Z
UID:10000977-1826388000-1826391600@www.jackson-nh.gov
SUMMARY:Housing Commission Meeting
DESCRIPTION:Tuesday\, February 17\, 2026 – 6:00pm\n\n\nThe Jackson Housing Commission meets at 6:00pm on the 3rd Tuesday of each month at the Town Office Building\, 54 Main Street\, Jackson NH
URL:https://www.jackson-nh.gov/event/housing-commission-meeting/2027-11-16/
LOCATION:Town of Jackson\, 54 Main St\, Jackson\, NH\, 03846
CATEGORIES:Housing
END:VEVENT
BEGIN:VEVENT
DTSTART;TZID=America/New_York:20271117T130000
DTEND;TZID=America/New_York:20271117T150000
DTSTAMP:20260421T010623
CREATED:20260127T164840Z
LAST-MODIFIED:20260127T165424Z
UID:10000606-1826456400-1826463600@www.jackson-nh.gov
SUMMARY:Old Library: Jackson/Bartlett Grief Group
DESCRIPTION:1:00pm to 3:00pm For more information contact: Gail Doktor\, Cell 978.273.0308\, Gaildoktor@mac.com
URL:https://www.jackson-nh.gov/event/old-library-jackson-bartlett-grief-group/2027-11-17/
LOCATION:Old Jackson Library\, 125 Main St\, Jackson\, NH\, 03846
CATEGORIES:Jackson Old Library
ATTACH;FMTTYPE=image/jpeg:https://www.jackson-nh.gov/wp-content/uploads/2026/01/old-jackson-library.jpg
END:VEVENT
END:VCALENDAR