BEGIN:VCALENDAR
VERSION:2.0
PRODID:-//Town of Jackson NH - ECPv6.15.20//NONSGML v1.0//EN
CALSCALE:GREGORIAN
METHOD:PUBLISH
X-ORIGINAL-URL:https://www.jackson-nh.gov
X-WR-CALDESC:Events for Town of Jackson NH
REFRESH-INTERVAL;VALUE=DURATION:PT1H
X-Robots-Tag:noindex
X-PUBLISHED-TTL:PT1H
BEGIN:VTIMEZONE
TZID:America/New_York
BEGIN:DAYLIGHT
TZOFFSETFROM:-0500
TZOFFSETTO:-0400
TZNAME:EDT
DTSTART:20260308T070000
END:DAYLIGHT
BEGIN:STANDARD
TZOFFSETFROM:-0400
TZOFFSETTO:-0500
TZNAME:EST
DTSTART:20261101T060000
END:STANDARD
BEGIN:DAYLIGHT
TZOFFSETFROM:-0500
TZOFFSETTO:-0400
TZNAME:EDT
DTSTART:20270314T070000
END:DAYLIGHT
BEGIN:STANDARD
TZOFFSETFROM:-0400
TZOFFSETTO:-0500
TZNAME:EST
DTSTART:20271107T060000
END:STANDARD
BEGIN:DAYLIGHT
TZOFFSETFROM:-0500
TZOFFSETTO:-0400
TZNAME:EDT
DTSTART:20280312T070000
END:DAYLIGHT
BEGIN:STANDARD
TZOFFSETFROM:-0400
TZOFFSETTO:-0500
TZNAME:EST
DTSTART:20281105T060000
END:STANDARD
END:VTIMEZONE
BEGIN:VTIMEZONE
TZID:UTC
BEGIN:STANDARD
TZOFFSETFROM:+0000
TZOFFSETTO:+0000
TZNAME:UTC
DTSTART:20260101T000000
END:STANDARD
END:VTIMEZONE
BEGIN:VEVENT
DTSTART;TZID=America/New_York:20270609T150000
DTEND;TZID=America/New_York:20270609T170000
DTSTAMP:20260420T113632
CREATED:20260127T164358Z
LAST-MODIFIED:20260127T164358Z
UID:10000395-1812553200-1812560400@www.jackson-nh.gov
SUMMARY:Old Library: Conasta
DESCRIPTION:
URL:https://www.jackson-nh.gov/event/old-library-conasta/2027-06-09/
LOCATION:Old Jackson Library\, 125 Main St\, Jackson\, NH\, 03846
CATEGORIES:Jackson Old Library
ATTACH;FMTTYPE=image/jpeg:https://www.jackson-nh.gov/wp-content/uploads/2026/01/old-jackson-library.jpg
END:VEVENT
BEGIN:VEVENT
DTSTART;TZID=America/New_York:20270610T080000
DTEND;TZID=America/New_York:20270610T120000
DTSTAMP:20260420T113632
CREATED:20260305T193227Z
LAST-MODIFIED:20260305T193227Z
UID:10001329-1812614400-1812628800@www.jackson-nh.gov
SUMMARY:Old Jackson Library Closed
DESCRIPTION:Closed 8am – 12pm for cleaning
URL:https://www.jackson-nh.gov/event/old-jackson-library-closed/2027-06-10/
LOCATION:Old Jackson Library\, 125 Main St\, Jackson\, NH\, 03846
CATEGORIES:Jackson Old Library
END:VEVENT
BEGIN:VEVENT
DTSTART;TZID=America/New_York:20270610T190000
DTEND;TZID=America/New_York:20270610T200000
DTSTAMP:20260420T113632
CREATED:20260127T161710Z
LAST-MODIFIED:20260127T161956Z
UID:10000281-1812654000-1812657600@www.jackson-nh.gov
SUMMARY:Planning Board Meeting
DESCRIPTION:
URL:https://www.jackson-nh.gov/event/planning-board-meeting/2027-06-10/
LOCATION:Town of Jackson\, 54 Main St\, Jackson\, NH\, 03846
CATEGORIES:Planning Board
ATTACH;FMTTYPE=image/jpeg:https://www.jackson-nh.gov/wp-content/uploads/2025/10/planning-board.jpg
END:VEVENT
BEGIN:VEVENT
DTSTART;TZID=America/New_York:20270611T083000
DTEND;TZID=America/New_York:20270611T100000
DTSTAMP:20260420T113632
CREATED:20260318T162856Z
LAST-MODIFIED:20260318T162913Z
UID:10001504-1812702600-1812708000@www.jackson-nh.gov
SUMMARY:Old Library: Yoga
DESCRIPTION:Private Yoga Class
URL:https://www.jackson-nh.gov/event/old-library-yoga-3/2027-06-11/
LOCATION:Town of Jackson\, 54 Main St\, Jackson\, NH\, 03846
CATEGORIES:Jackson Old Library
END:VEVENT
BEGIN:VEVENT
DTSTART;TZID=America/New_York:20270614T190000
DTEND;TZID=America/New_York:20270614T200000
DTSTAMP:20260420T113632
CREATED:20260127T165834Z
LAST-MODIFIED:20260127T165834Z
UID:10000852-1812999600-1813003200@www.jackson-nh.gov
SUMMARY:Jackson Democrats Committee Monthly Meeting
DESCRIPTION:7:00pm to 8:00pm
URL:https://www.jackson-nh.gov/event/jackson-democrats-committee-monthly-meeting/2027-06-14/
LOCATION:Old Jackson Library\, 125 Main St\, Jackson\, NH\, 03846
CATEGORIES:Jackson Old Library
ATTACH;FMTTYPE=image/jpeg:https://www.jackson-nh.gov/wp-content/uploads/2026/01/old-jackson-library.jpg
END:VEVENT
BEGIN:VEVENT
DTSTART;TZID=America/New_York:20270615T180000
DTEND;TZID=America/New_York:20270615T190000
DTSTAMP:20260420T113632
CREATED:20260127T170025Z
LAST-MODIFIED:20260127T170102Z
UID:10000972-1813082400-1813086000@www.jackson-nh.gov
SUMMARY:Housing Commission Meeting
DESCRIPTION:Tuesday\, February 17\, 2026 – 6:00pm\n\n\nThe Jackson Housing Commission meets at 6:00pm on the 3rd Tuesday of each month at the Town Office Building\, 54 Main Street\, Jackson NH
URL:https://www.jackson-nh.gov/event/housing-commission-meeting/2027-06-15/
LOCATION:Town of Jackson\, 54 Main St\, Jackson\, NH\, 03846
CATEGORIES:Housing
END:VEVENT
BEGIN:VEVENT
DTSTART;TZID=America/New_York:20270616T130000
DTEND;TZID=America/New_York:20270616T150000
DTSTAMP:20260420T113632
CREATED:20260127T164840Z
LAST-MODIFIED:20260127T165424Z
UID:10000601-1813150800-1813158000@www.jackson-nh.gov
SUMMARY:Old Library: Jackson/Bartlett Grief Group
DESCRIPTION:1:00pm to 3:00pm For more information contact: Gail Doktor\, Cell 978.273.0308\, Gaildoktor@mac.com
URL:https://www.jackson-nh.gov/event/old-library-jackson-bartlett-grief-group/2027-06-16/
LOCATION:Old Jackson Library\, 125 Main St\, Jackson\, NH\, 03846
CATEGORIES:Jackson Old Library
ATTACH;FMTTYPE=image/jpeg:https://www.jackson-nh.gov/wp-content/uploads/2026/01/old-jackson-library.jpg
END:VEVENT
BEGIN:VEVENT
DTSTART;TZID=America/New_York:20270616T150000
DTEND;TZID=America/New_York:20270616T170000
DTSTAMP:20260420T113632
CREATED:20260127T164358Z
LAST-MODIFIED:20260127T164358Z
UID:10000396-1813158000-1813165200@www.jackson-nh.gov
SUMMARY:Old Library: Conasta
DESCRIPTION:
URL:https://www.jackson-nh.gov/event/old-library-conasta/2027-06-16/
LOCATION:Old Jackson Library\, 125 Main St\, Jackson\, NH\, 03846
CATEGORIES:Jackson Old Library
ATTACH;FMTTYPE=image/jpeg:https://www.jackson-nh.gov/wp-content/uploads/2026/01/old-jackson-library.jpg
END:VEVENT
BEGIN:VEVENT
DTSTART;TZID=America/New_York:20270618T083000
DTEND;TZID=America/New_York:20270618T100000
DTSTAMP:20260420T113632
CREATED:20260318T162856Z
LAST-MODIFIED:20260318T162913Z
UID:10001505-1813307400-1813312800@www.jackson-nh.gov
SUMMARY:Old Library: Yoga
DESCRIPTION:Private Yoga Class
URL:https://www.jackson-nh.gov/event/old-library-yoga-3/2027-06-18/
LOCATION:Town of Jackson\, 54 Main St\, Jackson\, NH\, 03846
CATEGORIES:Jackson Old Library
END:VEVENT
BEGIN:VEVENT
DTSTART;TZID=America/New_York:20270621T180000
DTEND;TZID=America/New_York:20270621T200000
DTSTAMP:20260420T113632
CREATED:20251002T201022Z
LAST-MODIFIED:20251002T201159Z
UID:10000223-1813600800-1813608000@www.jackson-nh.gov
SUMMARY:School Board Meeting
DESCRIPTION:Meets 3rd Monday of each month at 6:00 PM at the Whitney Community Center.
URL:https://www.jackson-nh.gov/event/school-board-meeting/2027-06-21/
LOCATION:Whitney Center\, 16 Black Mountain Rd\, Jackson\, NH\, 03846
CATEGORIES:School Board
ATTACH;FMTTYPE=image/jpeg:https://www.jackson-nh.gov/wp-content/uploads/2025/10/school-board.jpg
END:VEVENT
BEGIN:VEVENT
DTSTART;TZID=America/New_York:20270622T153000
DTEND;TZID=America/New_York:20270622T163000
DTSTAMP:20260420T113632
CREATED:20260316T222408Z
LAST-MODIFIED:20260316T222721Z
UID:10000116-1813678200-1813681800@www.jackson-nh.gov
SUMMARY:Select Board Meeting
DESCRIPTION:
URL:https://www.jackson-nh.gov/event/select-board-meeting-5/2027-06-22/
LOCATION:Town of Jackson\, 54 Main St\, Jackson\, NH\, 03846
CATEGORIES:Select Board
ATTACH;FMTTYPE=image/jpeg:https://www.jackson-nh.gov/wp-content/uploads/2025/10/select-board.jpg
END:VEVENT
BEGIN:VEVENT
DTSTART;TZID=America/New_York:20270623T150000
DTEND;TZID=America/New_York:20270623T170000
DTSTAMP:20260420T113632
CREATED:20260127T164358Z
LAST-MODIFIED:20260127T164358Z
UID:10000397-1813762800-1813770000@www.jackson-nh.gov
SUMMARY:Old Library: Conasta
DESCRIPTION:
URL:https://www.jackson-nh.gov/event/old-library-conasta/2027-06-23/
LOCATION:Old Jackson Library\, 125 Main St\, Jackson\, NH\, 03846
CATEGORIES:Jackson Old Library
ATTACH;FMTTYPE=image/jpeg:https://www.jackson-nh.gov/wp-content/uploads/2026/01/old-jackson-library.jpg
END:VEVENT
BEGIN:VEVENT
DTSTART;TZID=America/New_York:20270624T080000
DTEND;TZID=America/New_York:20270624T120000
DTSTAMP:20260420T113632
CREATED:20260305T193227Z
LAST-MODIFIED:20260305T193227Z
UID:10001330-1813824000-1813838400@www.jackson-nh.gov
SUMMARY:Old Jackson Library Closed
DESCRIPTION:Closed 8am – 12pm for cleaning
URL:https://www.jackson-nh.gov/event/old-jackson-library-closed/2027-06-24/
LOCATION:Old Jackson Library\, 125 Main St\, Jackson\, NH\, 03846
CATEGORIES:Jackson Old Library
END:VEVENT
BEGIN:VEVENT
DTSTART;TZID=America/New_York:20270625T083000
DTEND;TZID=America/New_York:20270625T100000
DTSTAMP:20260420T113632
CREATED:20260318T162856Z
LAST-MODIFIED:20260318T162913Z
UID:10001506-1813912200-1813917600@www.jackson-nh.gov
SUMMARY:Old Library: Yoga
DESCRIPTION:Private Yoga Class
URL:https://www.jackson-nh.gov/event/old-library-yoga-3/2027-06-25/
LOCATION:Town of Jackson\, 54 Main St\, Jackson\, NH\, 03846
CATEGORIES:Jackson Old Library
END:VEVENT
BEGIN:VEVENT
DTSTART;TZID=America/New_York:20270630T150000
DTEND;TZID=America/New_York:20270630T170000
DTSTAMP:20260420T113632
CREATED:20260127T164358Z
LAST-MODIFIED:20260127T164358Z
UID:10000398-1814367600-1814374800@www.jackson-nh.gov
SUMMARY:Old Library: Conasta
DESCRIPTION:
URL:https://www.jackson-nh.gov/event/old-library-conasta/2027-06-30/
LOCATION:Old Jackson Library\, 125 Main St\, Jackson\, NH\, 03846
CATEGORIES:Jackson Old Library
ATTACH;FMTTYPE=image/jpeg:https://www.jackson-nh.gov/wp-content/uploads/2026/01/old-jackson-library.jpg
END:VEVENT
BEGIN:VEVENT
DTSTART;TZID=America/New_York:20270702T083000
DTEND;TZID=America/New_York:20270702T100000
DTSTAMP:20260420T113632
CREATED:20260318T162856Z
LAST-MODIFIED:20260318T162913Z
UID:10001507-1814517000-1814522400@www.jackson-nh.gov
SUMMARY:Old Library: Yoga
DESCRIPTION:Private Yoga Class
URL:https://www.jackson-nh.gov/event/old-library-yoga-3/2027-07-02/
LOCATION:Town of Jackson\, 54 Main St\, Jackson\, NH\, 03846
CATEGORIES:Jackson Old Library
END:VEVENT
BEGIN:VEVENT
DTSTART;TZID=UTC:20270705T173000
DTEND;TZID=UTC:20270705T183000
DTSTAMP:20260420T113632
CREATED:20251002T034058Z
LAST-MODIFIED:20260404T124529Z
UID:10000022-1814808600-1814812200@www.jackson-nh.gov
SUMMARY:Conservation Commission Meeting
DESCRIPTION:
URL:https://www.jackson-nh.gov/event/conservation-commission-meeting/2027-07-05/
LOCATION:Town of Jackson\, 54 Main St\, Jackson\, NH\, 03846
CATEGORIES:Conservation Commission
ATTACH;FMTTYPE=image/jpeg:https://www.jackson-nh.gov/wp-content/uploads/2025/10/conservation-commission.jpg
END:VEVENT
BEGIN:VEVENT
DTSTART;TZID=America/New_York:20270706T153000
DTEND;TZID=America/New_York:20270706T163000
DTSTAMP:20260420T113632
CREATED:20260316T222408Z
LAST-MODIFIED:20260316T222721Z
UID:10000117-1814887800-1814891400@www.jackson-nh.gov
SUMMARY:Select Board Meeting
DESCRIPTION:
URL:https://www.jackson-nh.gov/event/select-board-meeting-5/2027-07-06/
LOCATION:Town of Jackson\, 54 Main St\, Jackson\, NH\, 03846
CATEGORIES:Select Board
ATTACH;FMTTYPE=image/jpeg:https://www.jackson-nh.gov/wp-content/uploads/2025/10/select-board.jpg
END:VEVENT
BEGIN:VEVENT
DTSTART;TZID=America/New_York:20270707T150000
DTEND;TZID=America/New_York:20270707T170000
DTSTAMP:20260420T113632
CREATED:20260127T164358Z
LAST-MODIFIED:20260127T164358Z
UID:10000399-1814972400-1814979600@www.jackson-nh.gov
SUMMARY:Old Library: Conasta
DESCRIPTION:
URL:https://www.jackson-nh.gov/event/old-library-conasta/2027-07-07/
LOCATION:Old Jackson Library\, 125 Main St\, Jackson\, NH\, 03846
CATEGORIES:Jackson Old Library
ATTACH;FMTTYPE=image/jpeg:https://www.jackson-nh.gov/wp-content/uploads/2026/01/old-jackson-library.jpg
END:VEVENT
BEGIN:VEVENT
DTSTART;TZID=America/New_York:20270708T080000
DTEND;TZID=America/New_York:20270708T120000
DTSTAMP:20260420T113632
CREATED:20260305T193227Z
LAST-MODIFIED:20260305T193227Z
UID:10001331-1815033600-1815048000@www.jackson-nh.gov
SUMMARY:Old Jackson Library Closed
DESCRIPTION:Closed 8am – 12pm for cleaning
URL:https://www.jackson-nh.gov/event/old-jackson-library-closed/2027-07-08/
LOCATION:Old Jackson Library\, 125 Main St\, Jackson\, NH\, 03846
CATEGORIES:Jackson Old Library
END:VEVENT
BEGIN:VEVENT
DTSTART;TZID=America/New_York:20270708T190000
DTEND;TZID=America/New_York:20270708T200000
DTSTAMP:20260420T113632
CREATED:20260127T161710Z
LAST-MODIFIED:20260127T161956Z
UID:10000282-1815073200-1815076800@www.jackson-nh.gov
SUMMARY:Planning Board Meeting
DESCRIPTION:
URL:https://www.jackson-nh.gov/event/planning-board-meeting/2027-07-08/
LOCATION:Town of Jackson\, 54 Main St\, Jackson\, NH\, 03846
CATEGORIES:Planning Board
ATTACH;FMTTYPE=image/jpeg:https://www.jackson-nh.gov/wp-content/uploads/2025/10/planning-board.jpg
END:VEVENT
BEGIN:VEVENT
DTSTART;TZID=America/New_York:20270709T083000
DTEND;TZID=America/New_York:20270709T100000
DTSTAMP:20260420T113632
CREATED:20260318T162856Z
LAST-MODIFIED:20260318T162913Z
UID:10001508-1815121800-1815127200@www.jackson-nh.gov
SUMMARY:Old Library: Yoga
DESCRIPTION:Private Yoga Class
URL:https://www.jackson-nh.gov/event/old-library-yoga-3/2027-07-09/
LOCATION:Town of Jackson\, 54 Main St\, Jackson\, NH\, 03846
CATEGORIES:Jackson Old Library
END:VEVENT
BEGIN:VEVENT
DTSTART;TZID=America/New_York:20270712T190000
DTEND;TZID=America/New_York:20270712T200000
DTSTAMP:20260420T113632
CREATED:20260127T165834Z
LAST-MODIFIED:20260127T165834Z
UID:10000853-1815418800-1815422400@www.jackson-nh.gov
SUMMARY:Jackson Democrats Committee Monthly Meeting
DESCRIPTION:7:00pm to 8:00pm
URL:https://www.jackson-nh.gov/event/jackson-democrats-committee-monthly-meeting/2027-07-12/
LOCATION:Old Jackson Library\, 125 Main St\, Jackson\, NH\, 03846
CATEGORIES:Jackson Old Library
ATTACH;FMTTYPE=image/jpeg:https://www.jackson-nh.gov/wp-content/uploads/2026/01/old-jackson-library.jpg
END:VEVENT
BEGIN:VEVENT
DTSTART;TZID=America/New_York:20270714T150000
DTEND;TZID=America/New_York:20270714T170000
DTSTAMP:20260420T113632
CREATED:20260127T164358Z
LAST-MODIFIED:20260127T164358Z
UID:10000400-1815577200-1815584400@www.jackson-nh.gov
SUMMARY:Old Library: Conasta
DESCRIPTION:
URL:https://www.jackson-nh.gov/event/old-library-conasta/2027-07-14/
LOCATION:Old Jackson Library\, 125 Main St\, Jackson\, NH\, 03846
CATEGORIES:Jackson Old Library
ATTACH;FMTTYPE=image/jpeg:https://www.jackson-nh.gov/wp-content/uploads/2026/01/old-jackson-library.jpg
END:VEVENT
BEGIN:VEVENT
DTSTART;TZID=America/New_York:20270716T083000
DTEND;TZID=America/New_York:20270716T100000
DTSTAMP:20260420T113632
CREATED:20260318T162856Z
LAST-MODIFIED:20260318T162913Z
UID:10001509-1815726600-1815732000@www.jackson-nh.gov
SUMMARY:Old Library: Yoga
DESCRIPTION:Private Yoga Class
URL:https://www.jackson-nh.gov/event/old-library-yoga-3/2027-07-16/
LOCATION:Town of Jackson\, 54 Main St\, Jackson\, NH\, 03846
CATEGORIES:Jackson Old Library
END:VEVENT
BEGIN:VEVENT
DTSTART;TZID=America/New_York:20270719T180000
DTEND;TZID=America/New_York:20270719T200000
DTSTAMP:20260420T113632
CREATED:20251002T201022Z
LAST-MODIFIED:20251002T201159Z
UID:10000224-1816020000-1816027200@www.jackson-nh.gov
SUMMARY:School Board Meeting
DESCRIPTION:Meets 3rd Monday of each month at 6:00 PM at the Whitney Community Center.
URL:https://www.jackson-nh.gov/event/school-board-meeting/2027-07-19/
LOCATION:Whitney Center\, 16 Black Mountain Rd\, Jackson\, NH\, 03846
CATEGORIES:School Board
ATTACH;FMTTYPE=image/jpeg:https://www.jackson-nh.gov/wp-content/uploads/2025/10/school-board.jpg
END:VEVENT
BEGIN:VEVENT
DTSTART;TZID=America/New_York:20270720T153000
DTEND;TZID=America/New_York:20270720T163000
DTSTAMP:20260420T113632
CREATED:20260316T222408Z
LAST-MODIFIED:20260316T222721Z
UID:10000118-1816097400-1816101000@www.jackson-nh.gov
SUMMARY:Select Board Meeting
DESCRIPTION:
URL:https://www.jackson-nh.gov/event/select-board-meeting-5/2027-07-20/
LOCATION:Town of Jackson\, 54 Main St\, Jackson\, NH\, 03846
CATEGORIES:Select Board
ATTACH;FMTTYPE=image/jpeg:https://www.jackson-nh.gov/wp-content/uploads/2025/10/select-board.jpg
END:VEVENT
BEGIN:VEVENT
DTSTART;TZID=America/New_York:20270720T180000
DTEND;TZID=America/New_York:20270720T190000
DTSTAMP:20260420T113632
CREATED:20260127T170025Z
LAST-MODIFIED:20260127T170102Z
UID:10000973-1816106400-1816110000@www.jackson-nh.gov
SUMMARY:Housing Commission Meeting
DESCRIPTION:Tuesday\, February 17\, 2026 – 6:00pm\n\n\nThe Jackson Housing Commission meets at 6:00pm on the 3rd Tuesday of each month at the Town Office Building\, 54 Main Street\, Jackson NH
URL:https://www.jackson-nh.gov/event/housing-commission-meeting/2027-07-20/
LOCATION:Town of Jackson\, 54 Main St\, Jackson\, NH\, 03846
CATEGORIES:Housing
END:VEVENT
BEGIN:VEVENT
DTSTART;TZID=America/New_York:20270721T130000
DTEND;TZID=America/New_York:20270721T150000
DTSTAMP:20260420T113632
CREATED:20260127T164840Z
LAST-MODIFIED:20260127T165424Z
UID:10000602-1816174800-1816182000@www.jackson-nh.gov
SUMMARY:Old Library: Jackson/Bartlett Grief Group
DESCRIPTION:1:00pm to 3:00pm For more information contact: Gail Doktor\, Cell 978.273.0308\, Gaildoktor@mac.com
URL:https://www.jackson-nh.gov/event/old-library-jackson-bartlett-grief-group/2027-07-21/
LOCATION:Old Jackson Library\, 125 Main St\, Jackson\, NH\, 03846
CATEGORIES:Jackson Old Library
ATTACH;FMTTYPE=image/jpeg:https://www.jackson-nh.gov/wp-content/uploads/2026/01/old-jackson-library.jpg
END:VEVENT
BEGIN:VEVENT
DTSTART;TZID=America/New_York:20270721T150000
DTEND;TZID=America/New_York:20270721T170000
DTSTAMP:20260420T113632
CREATED:20260127T164358Z
LAST-MODIFIED:20260127T164358Z
UID:10000401-1816182000-1816189200@www.jackson-nh.gov
SUMMARY:Old Library: Conasta
DESCRIPTION:
URL:https://www.jackson-nh.gov/event/old-library-conasta/2027-07-21/
LOCATION:Old Jackson Library\, 125 Main St\, Jackson\, NH\, 03846
CATEGORIES:Jackson Old Library
ATTACH;FMTTYPE=image/jpeg:https://www.jackson-nh.gov/wp-content/uploads/2026/01/old-jackson-library.jpg
END:VEVENT
END:VCALENDAR