BEGIN:VCALENDAR
VERSION:2.0
PRODID:-//Town of Jackson NH - ECPv6.15.20//NONSGML v1.0//EN
CALSCALE:GREGORIAN
METHOD:PUBLISH
X-WR-CALNAME:Town of Jackson NH
X-ORIGINAL-URL:https://www.jackson-nh.gov
X-WR-CALDESC:Events for Town of Jackson NH
REFRESH-INTERVAL;VALUE=DURATION:PT1H
X-Robots-Tag:noindex
X-PUBLISHED-TTL:PT1H
BEGIN:VTIMEZONE
TZID:America/New_York
BEGIN:DAYLIGHT
TZOFFSETFROM:-0500
TZOFFSETTO:-0400
TZNAME:EDT
DTSTART:20260308T070000
END:DAYLIGHT
BEGIN:STANDARD
TZOFFSETFROM:-0400
TZOFFSETTO:-0500
TZNAME:EST
DTSTART:20261101T060000
END:STANDARD
BEGIN:DAYLIGHT
TZOFFSETFROM:-0500
TZOFFSETTO:-0400
TZNAME:EDT
DTSTART:20270314T070000
END:DAYLIGHT
BEGIN:STANDARD
TZOFFSETFROM:-0400
TZOFFSETTO:-0500
TZNAME:EST
DTSTART:20271107T060000
END:STANDARD
BEGIN:DAYLIGHT
TZOFFSETFROM:-0500
TZOFFSETTO:-0400
TZNAME:EDT
DTSTART:20280312T070000
END:DAYLIGHT
BEGIN:STANDARD
TZOFFSETFROM:-0400
TZOFFSETTO:-0500
TZNAME:EST
DTSTART:20281105T060000
END:STANDARD
END:VTIMEZONE
BEGIN:VTIMEZONE
TZID:UTC
BEGIN:STANDARD
TZOFFSETFROM:+0000
TZOFFSETTO:+0000
TZNAME:UTC
DTSTART:20260101T000000
END:STANDARD
END:VTIMEZONE
BEGIN:VEVENT
DTSTART;TZID=America/New_York:20270421T130000
DTEND;TZID=America/New_York:20270421T150000
DTSTAMP:20260420T072234
CREATED:20260127T164840Z
LAST-MODIFIED:20260127T165424Z
UID:10000599-1808312400-1808319600@www.jackson-nh.gov
SUMMARY:Old Library: Jackson/Bartlett Grief Group
DESCRIPTION:1:00pm to 3:00pm For more information contact: Gail Doktor\, Cell 978.273.0308\, Gaildoktor@mac.com
URL:https://www.jackson-nh.gov/event/old-library-jackson-bartlett-grief-group/2027-04-21/
LOCATION:Old Jackson Library\, 125 Main St\, Jackson\, NH\, 03846
CATEGORIES:Jackson Old Library
ATTACH;FMTTYPE=image/jpeg:https://www.jackson-nh.gov/wp-content/uploads/2026/01/old-jackson-library.jpg
END:VEVENT
BEGIN:VEVENT
DTSTART;TZID=America/New_York:20270421T150000
DTEND;TZID=America/New_York:20270421T170000
DTSTAMP:20260420T072234
CREATED:20260127T164358Z
LAST-MODIFIED:20260127T164358Z
UID:10000388-1808319600-1808326800@www.jackson-nh.gov
SUMMARY:Old Library: Conasta
DESCRIPTION:
URL:https://www.jackson-nh.gov/event/old-library-conasta/2027-04-21/
LOCATION:Old Jackson Library\, 125 Main St\, Jackson\, NH\, 03846
CATEGORIES:Jackson Old Library
ATTACH;FMTTYPE=image/jpeg:https://www.jackson-nh.gov/wp-content/uploads/2026/01/old-jackson-library.jpg
END:VEVENT
BEGIN:VEVENT
DTSTART;TZID=America/New_York:20270423T083000
DTEND;TZID=America/New_York:20270423T100000
DTSTAMP:20260420T072234
CREATED:20260318T162856Z
LAST-MODIFIED:20260318T162913Z
UID:10001497-1808469000-1808474400@www.jackson-nh.gov
SUMMARY:Old Library: Yoga
DESCRIPTION:Private Yoga Class
URL:https://www.jackson-nh.gov/event/old-library-yoga-3/2027-04-23/
LOCATION:Town of Jackson\, 54 Main St\, Jackson\, NH\, 03846
CATEGORIES:Jackson Old Library
END:VEVENT
BEGIN:VEVENT
DTSTART;TZID=America/New_York:20270424T090000
DTEND;TZID=America/New_York:20270424T100000
DTSTAMP:20260420T072234
CREATED:20260414T161808Z
LAST-MODIFIED:20260414T161808Z
UID:10001775-1808557200-1808560800@www.jackson-nh.gov
SUMMARY:Old Library: Yoga Class
DESCRIPTION:
URL:https://www.jackson-nh.gov/event/old-library-yoga-class/2027-04-24/
LOCATION:Old Jackson Library\, 125 Main St\, Jackson\, NH\, 03846
CATEGORIES:Jackson Old Library
END:VEVENT
BEGIN:VEVENT
DTSTART;TZID=America/New_York:20270426T090000
DTEND;TZID=America/New_York:20270426T101500
DTSTAMP:20260420T072234
CREATED:20260219T200511Z
LAST-MODIFIED:20260219T200728Z
UID:10001096-1808730000-1808734500@www.jackson-nh.gov
SUMMARY:Old Library Vinyassa Yoga
DESCRIPTION:Old Library: Vinyassa Yoga
URL:https://www.jackson-nh.gov/event/vinyassa-yoga/2027-04-26/
LOCATION:Town of Jackson\, 54 Main St\, Jackson\, NH\, 03846
CATEGORIES:Jackson Old Library
ATTACH;FMTTYPE=image/jpeg:https://www.jackson-nh.gov/wp-content/uploads/2026/01/old-jackson-library.jpg
END:VEVENT
BEGIN:VEVENT
DTSTART;TZID=America/New_York:20270427T153000
DTEND;TZID=America/New_York:20270427T163000
DTSTAMP:20260420T072234
CREATED:20260316T222408Z
LAST-MODIFIED:20260316T222721Z
UID:10000112-1808839800-1808843400@www.jackson-nh.gov
SUMMARY:Select Board Meeting
DESCRIPTION:
URL:https://www.jackson-nh.gov/event/select-board-meeting-5/2027-04-27/
LOCATION:Town of Jackson\, 54 Main St\, Jackson\, NH\, 03846
CATEGORIES:Select Board
ATTACH;FMTTYPE=image/jpeg:https://www.jackson-nh.gov/wp-content/uploads/2025/10/select-board.jpg
END:VEVENT
BEGIN:VEVENT
DTSTART;TZID=America/New_York:20270428T083000
DTEND;TZID=America/New_York:20270428T094500
DTSTAMP:20260420T072234
CREATED:20260219T200629Z
LAST-MODIFIED:20260219T200744Z
UID:10001158-1808901000-1808905500@www.jackson-nh.gov
SUMMARY:Old Library Basic Yoga Class
DESCRIPTION:Old Library: Basic Yoga Class
URL:https://www.jackson-nh.gov/event/basic-yoga-class/2027-04-28/
LOCATION:Town of Jackson\, 54 Main St\, Jackson\, NH\, 03846
CATEGORIES:Jackson Old Library
ATTACH;FMTTYPE=image/jpeg:https://www.jackson-nh.gov/wp-content/uploads/2026/01/old-jackson-library.jpg
END:VEVENT
BEGIN:VEVENT
DTSTART;TZID=America/New_York:20270428T150000
DTEND;TZID=America/New_York:20270428T170000
DTSTAMP:20260420T072234
CREATED:20260127T164358Z
LAST-MODIFIED:20260127T164358Z
UID:10000389-1808924400-1808931600@www.jackson-nh.gov
SUMMARY:Old Library: Conasta
DESCRIPTION:
URL:https://www.jackson-nh.gov/event/old-library-conasta/2027-04-28/
LOCATION:Old Jackson Library\, 125 Main St\, Jackson\, NH\, 03846
CATEGORIES:Jackson Old Library
ATTACH;FMTTYPE=image/jpeg:https://www.jackson-nh.gov/wp-content/uploads/2026/01/old-jackson-library.jpg
END:VEVENT
BEGIN:VEVENT
DTSTART;TZID=America/New_York:20270429T080000
DTEND;TZID=America/New_York:20270429T120000
DTSTAMP:20260420T072234
CREATED:20260305T193227Z
LAST-MODIFIED:20260305T193227Z
UID:10001326-1808985600-1809000000@www.jackson-nh.gov
SUMMARY:Old Jackson Library Closed
DESCRIPTION:Closed 8am – 12pm for cleaning
URL:https://www.jackson-nh.gov/event/old-jackson-library-closed/2027-04-29/
LOCATION:Old Jackson Library\, 125 Main St\, Jackson\, NH\, 03846
CATEGORIES:Jackson Old Library
END:VEVENT
BEGIN:VEVENT
DTSTART;TZID=America/New_York:20270430T083000
DTEND;TZID=America/New_York:20270430T100000
DTSTAMP:20260420T072234
CREATED:20260318T162856Z
LAST-MODIFIED:20260318T162913Z
UID:10001498-1809073800-1809079200@www.jackson-nh.gov
SUMMARY:Old Library: Yoga
DESCRIPTION:Private Yoga Class
URL:https://www.jackson-nh.gov/event/old-library-yoga-3/2027-04-30/
LOCATION:Town of Jackson\, 54 Main St\, Jackson\, NH\, 03846
CATEGORIES:Jackson Old Library
END:VEVENT
BEGIN:VEVENT
DTSTART;TZID=America/New_York:20270501T090000
DTEND;TZID=America/New_York:20270501T100000
DTSTAMP:20260420T072234
CREATED:20260414T161808Z
LAST-MODIFIED:20260414T161808Z
UID:10001776-1809162000-1809165600@www.jackson-nh.gov
SUMMARY:Old Library: Yoga Class
DESCRIPTION:
URL:https://www.jackson-nh.gov/event/old-library-yoga-class/2027-05-01/
LOCATION:Old Jackson Library\, 125 Main St\, Jackson\, NH\, 03846
CATEGORIES:Jackson Old Library
END:VEVENT
BEGIN:VEVENT
DTSTART;TZID=UTC:20270503T173000
DTEND;TZID=UTC:20270503T183000
DTSTAMP:20260420T072234
CREATED:20251002T034058Z
LAST-MODIFIED:20260404T124529Z
UID:10000020-1809365400-1809369000@www.jackson-nh.gov
SUMMARY:Conservation Commission Meeting
DESCRIPTION:
URL:https://www.jackson-nh.gov/event/conservation-commission-meeting/2027-05-03/
LOCATION:Town of Jackson\, 54 Main St\, Jackson\, NH\, 03846
CATEGORIES:Conservation Commission
ATTACH;FMTTYPE=image/jpeg:https://www.jackson-nh.gov/wp-content/uploads/2025/10/conservation-commission.jpg
END:VEVENT
BEGIN:VEVENT
DTSTART;TZID=America/New_York:20270505T150000
DTEND;TZID=America/New_York:20270505T170000
DTSTAMP:20260420T072234
CREATED:20260127T164358Z
LAST-MODIFIED:20260127T164358Z
UID:10000390-1809529200-1809536400@www.jackson-nh.gov
SUMMARY:Old Library: Conasta
DESCRIPTION:
URL:https://www.jackson-nh.gov/event/old-library-conasta/2027-05-05/
LOCATION:Old Jackson Library\, 125 Main St\, Jackson\, NH\, 03846
CATEGORIES:Jackson Old Library
ATTACH;FMTTYPE=image/jpeg:https://www.jackson-nh.gov/wp-content/uploads/2026/01/old-jackson-library.jpg
END:VEVENT
BEGIN:VEVENT
DTSTART;TZID=America/New_York:20270507T083000
DTEND;TZID=America/New_York:20270507T100000
DTSTAMP:20260420T072234
CREATED:20260318T162856Z
LAST-MODIFIED:20260318T162913Z
UID:10001499-1809678600-1809684000@www.jackson-nh.gov
SUMMARY:Old Library: Yoga
DESCRIPTION:Private Yoga Class
URL:https://www.jackson-nh.gov/event/old-library-yoga-3/2027-05-07/
LOCATION:Town of Jackson\, 54 Main St\, Jackson\, NH\, 03846
CATEGORIES:Jackson Old Library
END:VEVENT
BEGIN:VEVENT
DTSTART;TZID=America/New_York:20270508T090000
DTEND;TZID=America/New_York:20270508T100000
DTSTAMP:20260420T072234
CREATED:20260414T161808Z
LAST-MODIFIED:20260414T161808Z
UID:10001777-1809766800-1809770400@www.jackson-nh.gov
SUMMARY:Old Library: Yoga Class
DESCRIPTION:
URL:https://www.jackson-nh.gov/event/old-library-yoga-class/2027-05-08/
LOCATION:Old Jackson Library\, 125 Main St\, Jackson\, NH\, 03846
CATEGORIES:Jackson Old Library
END:VEVENT
BEGIN:VEVENT
DTSTART;TZID=America/New_York:20270510T190000
DTEND;TZID=America/New_York:20270510T200000
DTSTAMP:20260420T072234
CREATED:20260127T165834Z
LAST-MODIFIED:20260127T165834Z
UID:10000851-1809975600-1809979200@www.jackson-nh.gov
SUMMARY:Jackson Democrats Committee Monthly Meeting
DESCRIPTION:7:00pm to 8:00pm
URL:https://www.jackson-nh.gov/event/jackson-democrats-committee-monthly-meeting/2027-05-10/
LOCATION:Old Jackson Library\, 125 Main St\, Jackson\, NH\, 03846
CATEGORIES:Jackson Old Library
ATTACH;FMTTYPE=image/jpeg:https://www.jackson-nh.gov/wp-content/uploads/2026/01/old-jackson-library.jpg
END:VEVENT
BEGIN:VEVENT
DTSTART;TZID=America/New_York:20270511T153000
DTEND;TZID=America/New_York:20270511T163000
DTSTAMP:20260420T072234
CREATED:20260316T222408Z
LAST-MODIFIED:20260316T222721Z
UID:10000113-1810049400-1810053000@www.jackson-nh.gov
SUMMARY:Select Board Meeting
DESCRIPTION:
URL:https://www.jackson-nh.gov/event/select-board-meeting-5/2027-05-11/
LOCATION:Town of Jackson\, 54 Main St\, Jackson\, NH\, 03846
CATEGORIES:Select Board
ATTACH;FMTTYPE=image/jpeg:https://www.jackson-nh.gov/wp-content/uploads/2025/10/select-board.jpg
END:VEVENT
BEGIN:VEVENT
DTSTART;TZID=America/New_York:20270512T150000
DTEND;TZID=America/New_York:20270512T170000
DTSTAMP:20260420T072234
CREATED:20260127T164358Z
LAST-MODIFIED:20260127T164358Z
UID:10000391-1810134000-1810141200@www.jackson-nh.gov
SUMMARY:Old Library: Conasta
DESCRIPTION:
URL:https://www.jackson-nh.gov/event/old-library-conasta/2027-05-12/
LOCATION:Old Jackson Library\, 125 Main St\, Jackson\, NH\, 03846
CATEGORIES:Jackson Old Library
ATTACH;FMTTYPE=image/jpeg:https://www.jackson-nh.gov/wp-content/uploads/2026/01/old-jackson-library.jpg
END:VEVENT
BEGIN:VEVENT
DTSTART;TZID=America/New_York:20270513T080000
DTEND;TZID=America/New_York:20270513T120000
DTSTAMP:20260420T072234
CREATED:20260305T193227Z
LAST-MODIFIED:20260305T193227Z
UID:10001327-1810195200-1810209600@www.jackson-nh.gov
SUMMARY:Old Jackson Library Closed
DESCRIPTION:Closed 8am – 12pm for cleaning
URL:https://www.jackson-nh.gov/event/old-jackson-library-closed/2027-05-13/
LOCATION:Old Jackson Library\, 125 Main St\, Jackson\, NH\, 03846
CATEGORIES:Jackson Old Library
END:VEVENT
BEGIN:VEVENT
DTSTART;TZID=America/New_York:20270513T190000
DTEND;TZID=America/New_York:20270513T200000
DTSTAMP:20260420T072234
CREATED:20260127T161710Z
LAST-MODIFIED:20260127T161956Z
UID:10000280-1810234800-1810238400@www.jackson-nh.gov
SUMMARY:Planning Board Meeting
DESCRIPTION:
URL:https://www.jackson-nh.gov/event/planning-board-meeting/2027-05-13/
LOCATION:Town of Jackson\, 54 Main St\, Jackson\, NH\, 03846
CATEGORIES:Planning Board
ATTACH;FMTTYPE=image/jpeg:https://www.jackson-nh.gov/wp-content/uploads/2025/10/planning-board.jpg
END:VEVENT
BEGIN:VEVENT
DTSTART;TZID=America/New_York:20270514T083000
DTEND;TZID=America/New_York:20270514T100000
DTSTAMP:20260420T072234
CREATED:20260318T162856Z
LAST-MODIFIED:20260318T162913Z
UID:10001500-1810283400-1810288800@www.jackson-nh.gov
SUMMARY:Old Library: Yoga
DESCRIPTION:Private Yoga Class
URL:https://www.jackson-nh.gov/event/old-library-yoga-3/2027-05-14/
LOCATION:Town of Jackson\, 54 Main St\, Jackson\, NH\, 03846
CATEGORIES:Jackson Old Library
END:VEVENT
BEGIN:VEVENT
DTSTART;TZID=America/New_York:20270515T090000
DTEND;TZID=America/New_York:20270515T100000
DTSTAMP:20260420T072234
CREATED:20260414T161808Z
LAST-MODIFIED:20260414T161808Z
UID:10001778-1810371600-1810375200@www.jackson-nh.gov
SUMMARY:Old Library: Yoga Class
DESCRIPTION:
URL:https://www.jackson-nh.gov/event/old-library-yoga-class/2027-05-15/
LOCATION:Old Jackson Library\, 125 Main St\, Jackson\, NH\, 03846
CATEGORIES:Jackson Old Library
END:VEVENT
BEGIN:VEVENT
DTSTART;TZID=America/New_York:20270517T180000
DTEND;TZID=America/New_York:20270517T200000
DTSTAMP:20260420T072234
CREATED:20251002T201022Z
LAST-MODIFIED:20251002T201159Z
UID:10000222-1810576800-1810584000@www.jackson-nh.gov
SUMMARY:School Board Meeting
DESCRIPTION:Meets 3rd Monday of each month at 6:00 PM at the Whitney Community Center.
URL:https://www.jackson-nh.gov/event/school-board-meeting/2027-05-17/
LOCATION:Whitney Center\, 16 Black Mountain Rd\, Jackson\, NH\, 03846
CATEGORIES:School Board
ATTACH;FMTTYPE=image/jpeg:https://www.jackson-nh.gov/wp-content/uploads/2025/10/school-board.jpg
END:VEVENT
BEGIN:VEVENT
DTSTART;TZID=America/New_York:20270518T180000
DTEND;TZID=America/New_York:20270518T190000
DTSTAMP:20260420T072234
CREATED:20260127T170025Z
LAST-MODIFIED:20260127T170102Z
UID:10000971-1810663200-1810666800@www.jackson-nh.gov
SUMMARY:Housing Commission Meeting
DESCRIPTION:Tuesday\, February 17\, 2026 – 6:00pm\n\n\nThe Jackson Housing Commission meets at 6:00pm on the 3rd Tuesday of each month at the Town Office Building\, 54 Main Street\, Jackson NH
URL:https://www.jackson-nh.gov/event/housing-commission-meeting/2027-05-18/
LOCATION:Town of Jackson\, 54 Main St\, Jackson\, NH\, 03846
CATEGORIES:Housing
END:VEVENT
BEGIN:VEVENT
DTSTART;TZID=America/New_York:20270519T130000
DTEND;TZID=America/New_York:20270519T150000
DTSTAMP:20260420T072234
CREATED:20260127T164840Z
LAST-MODIFIED:20260127T165424Z
UID:10000600-1810731600-1810738800@www.jackson-nh.gov
SUMMARY:Old Library: Jackson/Bartlett Grief Group
DESCRIPTION:1:00pm to 3:00pm For more information contact: Gail Doktor\, Cell 978.273.0308\, Gaildoktor@mac.com
URL:https://www.jackson-nh.gov/event/old-library-jackson-bartlett-grief-group/2027-05-19/
LOCATION:Old Jackson Library\, 125 Main St\, Jackson\, NH\, 03846
CATEGORIES:Jackson Old Library
ATTACH;FMTTYPE=image/jpeg:https://www.jackson-nh.gov/wp-content/uploads/2026/01/old-jackson-library.jpg
END:VEVENT
BEGIN:VEVENT
DTSTART;TZID=America/New_York:20270519T150000
DTEND;TZID=America/New_York:20270519T170000
DTSTAMP:20260420T072234
CREATED:20260127T164358Z
LAST-MODIFIED:20260127T164358Z
UID:10000392-1810738800-1810746000@www.jackson-nh.gov
SUMMARY:Old Library: Conasta
DESCRIPTION:
URL:https://www.jackson-nh.gov/event/old-library-conasta/2027-05-19/
LOCATION:Old Jackson Library\, 125 Main St\, Jackson\, NH\, 03846
CATEGORIES:Jackson Old Library
ATTACH;FMTTYPE=image/jpeg:https://www.jackson-nh.gov/wp-content/uploads/2026/01/old-jackson-library.jpg
END:VEVENT
BEGIN:VEVENT
DTSTART;TZID=America/New_York:20270521T083000
DTEND;TZID=America/New_York:20270521T100000
DTSTAMP:20260420T072234
CREATED:20260318T162856Z
LAST-MODIFIED:20260318T162913Z
UID:10001501-1810888200-1810893600@www.jackson-nh.gov
SUMMARY:Old Library: Yoga
DESCRIPTION:Private Yoga Class
URL:https://www.jackson-nh.gov/event/old-library-yoga-3/2027-05-21/
LOCATION:Town of Jackson\, 54 Main St\, Jackson\, NH\, 03846
CATEGORIES:Jackson Old Library
END:VEVENT
BEGIN:VEVENT
DTSTART;TZID=America/New_York:20270522T090000
DTEND;TZID=America/New_York:20270522T100000
DTSTAMP:20260420T072234
CREATED:20260414T161808Z
LAST-MODIFIED:20260414T161808Z
UID:10001779-1810976400-1810980000@www.jackson-nh.gov
SUMMARY:Old Library: Yoga Class
DESCRIPTION:
URL:https://www.jackson-nh.gov/event/old-library-yoga-class/2027-05-22/
LOCATION:Old Jackson Library\, 125 Main St\, Jackson\, NH\, 03846
CATEGORIES:Jackson Old Library
END:VEVENT
BEGIN:VEVENT
DTSTART;TZID=America/New_York:20270525T153000
DTEND;TZID=America/New_York:20270525T163000
DTSTAMP:20260420T072234
CREATED:20260316T222408Z
LAST-MODIFIED:20260316T222721Z
UID:10000114-1811259000-1811262600@www.jackson-nh.gov
SUMMARY:Select Board Meeting
DESCRIPTION:
URL:https://www.jackson-nh.gov/event/select-board-meeting-5/2027-05-25/
LOCATION:Town of Jackson\, 54 Main St\, Jackson\, NH\, 03846
CATEGORIES:Select Board
ATTACH;FMTTYPE=image/jpeg:https://www.jackson-nh.gov/wp-content/uploads/2025/10/select-board.jpg
END:VEVENT
BEGIN:VEVENT
DTSTART;TZID=America/New_York:20270526T150000
DTEND;TZID=America/New_York:20270526T170000
DTSTAMP:20260420T072234
CREATED:20260127T164358Z
LAST-MODIFIED:20260127T164358Z
UID:10000393-1811343600-1811350800@www.jackson-nh.gov
SUMMARY:Old Library: Conasta
DESCRIPTION:
URL:https://www.jackson-nh.gov/event/old-library-conasta/2027-05-26/
LOCATION:Old Jackson Library\, 125 Main St\, Jackson\, NH\, 03846
CATEGORIES:Jackson Old Library
ATTACH;FMTTYPE=image/jpeg:https://www.jackson-nh.gov/wp-content/uploads/2026/01/old-jackson-library.jpg
END:VEVENT
END:VCALENDAR