BEGIN:VCALENDAR
VERSION:2.0
PRODID:-//Town of Jackson NH - ECPv6.15.20//NONSGML v1.0//EN
CALSCALE:GREGORIAN
METHOD:PUBLISH
X-ORIGINAL-URL:https://www.jackson-nh.gov
X-WR-CALDESC:Events for Town of Jackson NH
REFRESH-INTERVAL;VALUE=DURATION:PT1H
X-Robots-Tag:noindex
X-PUBLISHED-TTL:PT1H
BEGIN:VTIMEZONE
TZID:America/New_York
BEGIN:DAYLIGHT
TZOFFSETFROM:-0500
TZOFFSETTO:-0400
TZNAME:EDT
DTSTART:20260308T070000
END:DAYLIGHT
BEGIN:STANDARD
TZOFFSETFROM:-0400
TZOFFSETTO:-0500
TZNAME:EST
DTSTART:20261101T060000
END:STANDARD
BEGIN:DAYLIGHT
TZOFFSETFROM:-0500
TZOFFSETTO:-0400
TZNAME:EDT
DTSTART:20270314T070000
END:DAYLIGHT
BEGIN:STANDARD
TZOFFSETFROM:-0400
TZOFFSETTO:-0500
TZNAME:EST
DTSTART:20271107T060000
END:STANDARD
BEGIN:DAYLIGHT
TZOFFSETFROM:-0500
TZOFFSETTO:-0400
TZNAME:EDT
DTSTART:20280312T070000
END:DAYLIGHT
BEGIN:STANDARD
TZOFFSETFROM:-0400
TZOFFSETTO:-0500
TZNAME:EST
DTSTART:20281105T060000
END:STANDARD
END:VTIMEZONE
BEGIN:VTIMEZONE
TZID:UTC
BEGIN:STANDARD
TZOFFSETFROM:+0000
TZOFFSETTO:+0000
TZNAME:UTC
DTSTART:20260101T000000
END:STANDARD
END:VTIMEZONE
BEGIN:VEVENT
DTSTART;TZID=America/New_York:20270224T083000
DTEND;TZID=America/New_York:20270224T094500
DTSTAMP:20260420T000153
CREATED:20260219T200629Z
LAST-MODIFIED:20260219T200744Z
UID:10001149-1803457800-1803462300@www.jackson-nh.gov
SUMMARY:Old Library Basic Yoga Class
DESCRIPTION:Old Library: Basic Yoga Class
URL:https://www.jackson-nh.gov/event/basic-yoga-class/2027-02-24/
LOCATION:Town of Jackson\, 54 Main St\, Jackson\, NH\, 03846
CATEGORIES:Jackson Old Library
ATTACH;FMTTYPE=image/jpeg:https://www.jackson-nh.gov/wp-content/uploads/2026/01/old-jackson-library.jpg
END:VEVENT
BEGIN:VEVENT
DTSTART;TZID=America/New_York:20270224T150000
DTEND;TZID=America/New_York:20270224T170000
DTSTAMP:20260420T000153
CREATED:20260127T164358Z
LAST-MODIFIED:20260127T164358Z
UID:10000380-1803481200-1803488400@www.jackson-nh.gov
SUMMARY:Old Library: Conasta
DESCRIPTION:
URL:https://www.jackson-nh.gov/event/old-library-conasta/2027-02-24/
LOCATION:Old Jackson Library\, 125 Main St\, Jackson\, NH\, 03846
CATEGORIES:Jackson Old Library
ATTACH;FMTTYPE=image/jpeg:https://www.jackson-nh.gov/wp-content/uploads/2026/01/old-jackson-library.jpg
END:VEVENT
BEGIN:VEVENT
DTSTART;TZID=America/New_York:20270226T083000
DTEND;TZID=America/New_York:20270226T100000
DTSTAMP:20260420T000153
CREATED:20260318T162856Z
LAST-MODIFIED:20260318T162913Z
UID:10001489-1803630600-1803636000@www.jackson-nh.gov
SUMMARY:Old Library: Yoga
DESCRIPTION:Private Yoga Class
URL:https://www.jackson-nh.gov/event/old-library-yoga-3/2027-02-26/
LOCATION:Town of Jackson\, 54 Main St\, Jackson\, NH\, 03846
CATEGORIES:Jackson Old Library
END:VEVENT
BEGIN:VEVENT
DTSTART;TZID=America/New_York:20270227T090000
DTEND;TZID=America/New_York:20270227T100000
DTSTAMP:20260420T000153
CREATED:20260414T161808Z
LAST-MODIFIED:20260414T161808Z
UID:10001767-1803718800-1803722400@www.jackson-nh.gov
SUMMARY:Old Library: Yoga Class
DESCRIPTION:
URL:https://www.jackson-nh.gov/event/old-library-yoga-class/2027-02-27/
LOCATION:Old Jackson Library\, 125 Main St\, Jackson\, NH\, 03846
CATEGORIES:Jackson Old Library
END:VEVENT
BEGIN:VEVENT
DTSTART;TZID=America/New_York:20270301T090000
DTEND;TZID=America/New_York:20270301T101500
DTSTAMP:20260420T000153
CREATED:20260219T200511Z
LAST-MODIFIED:20260219T200728Z
UID:10001088-1803891600-1803896100@www.jackson-nh.gov
SUMMARY:Old Library Vinyassa Yoga
DESCRIPTION:Old Library: Vinyassa Yoga
URL:https://www.jackson-nh.gov/event/vinyassa-yoga/2027-03-01/
LOCATION:Town of Jackson\, 54 Main St\, Jackson\, NH\, 03846
CATEGORIES:Jackson Old Library
ATTACH;FMTTYPE=image/jpeg:https://www.jackson-nh.gov/wp-content/uploads/2026/01/old-jackson-library.jpg
END:VEVENT
BEGIN:VEVENT
DTSTART;TZID=UTC:20270301T173000
DTEND;TZID=UTC:20270301T183000
DTSTAMP:20260420T000153
CREATED:20251002T034058Z
LAST-MODIFIED:20260404T124529Z
UID:10000018-1803922200-1803925800@www.jackson-nh.gov
SUMMARY:Conservation Commission Meeting
DESCRIPTION:
URL:https://www.jackson-nh.gov/event/conservation-commission-meeting/2027-03-01/
LOCATION:Town of Jackson\, 54 Main St\, Jackson\, NH\, 03846
CATEGORIES:Conservation Commission
ATTACH;FMTTYPE=image/jpeg:https://www.jackson-nh.gov/wp-content/uploads/2025/10/conservation-commission.jpg
END:VEVENT
BEGIN:VEVENT
DTSTART;TZID=America/New_York:20270302T153000
DTEND;TZID=America/New_York:20270302T163000
DTSTAMP:20260420T000153
CREATED:20260316T222408Z
LAST-MODIFIED:20260316T222721Z
UID:10000108-1804001400-1804005000@www.jackson-nh.gov
SUMMARY:Select Board Meeting
DESCRIPTION:
URL:https://www.jackson-nh.gov/event/select-board-meeting-5/2027-03-02/
LOCATION:Town of Jackson\, 54 Main St\, Jackson\, NH\, 03846
CATEGORIES:Select Board
ATTACH;FMTTYPE=image/jpeg:https://www.jackson-nh.gov/wp-content/uploads/2025/10/select-board.jpg
END:VEVENT
BEGIN:VEVENT
DTSTART;TZID=America/New_York:20270303T083000
DTEND;TZID=America/New_York:20270303T094500
DTSTAMP:20260420T000153
CREATED:20260219T200629Z
LAST-MODIFIED:20260219T200744Z
UID:10001150-1804062600-1804067100@www.jackson-nh.gov
SUMMARY:Old Library Basic Yoga Class
DESCRIPTION:Old Library: Basic Yoga Class
URL:https://www.jackson-nh.gov/event/basic-yoga-class/2027-03-03/
LOCATION:Town of Jackson\, 54 Main St\, Jackson\, NH\, 03846
CATEGORIES:Jackson Old Library
ATTACH;FMTTYPE=image/jpeg:https://www.jackson-nh.gov/wp-content/uploads/2026/01/old-jackson-library.jpg
END:VEVENT
BEGIN:VEVENT
DTSTART;TZID=America/New_York:20270303T150000
DTEND;TZID=America/New_York:20270303T170000
DTSTAMP:20260420T000153
CREATED:20260127T164358Z
LAST-MODIFIED:20260127T164358Z
UID:10000381-1804086000-1804093200@www.jackson-nh.gov
SUMMARY:Old Library: Conasta
DESCRIPTION:
URL:https://www.jackson-nh.gov/event/old-library-conasta/2027-03-03/
LOCATION:Old Jackson Library\, 125 Main St\, Jackson\, NH\, 03846
CATEGORIES:Jackson Old Library
ATTACH;FMTTYPE=image/jpeg:https://www.jackson-nh.gov/wp-content/uploads/2026/01/old-jackson-library.jpg
END:VEVENT
BEGIN:VEVENT
DTSTART;TZID=America/New_York:20270304T080000
DTEND;TZID=America/New_York:20270304T120000
DTSTAMP:20260420T000153
CREATED:20260305T193227Z
LAST-MODIFIED:20260305T193227Z
UID:10001322-1804147200-1804161600@www.jackson-nh.gov
SUMMARY:Old Jackson Library Closed
DESCRIPTION:Closed 8am – 12pm for cleaning
URL:https://www.jackson-nh.gov/event/old-jackson-library-closed/2027-03-04/
LOCATION:Old Jackson Library\, 125 Main St\, Jackson\, NH\, 03846
CATEGORIES:Jackson Old Library
END:VEVENT
BEGIN:VEVENT
DTSTART;TZID=America/New_York:20270305T083000
DTEND;TZID=America/New_York:20270305T100000
DTSTAMP:20260420T000153
CREATED:20260318T162856Z
LAST-MODIFIED:20260318T162913Z
UID:10001490-1804235400-1804240800@www.jackson-nh.gov
SUMMARY:Old Library: Yoga
DESCRIPTION:Private Yoga Class
URL:https://www.jackson-nh.gov/event/old-library-yoga-3/2027-03-05/
LOCATION:Town of Jackson\, 54 Main St\, Jackson\, NH\, 03846
CATEGORIES:Jackson Old Library
END:VEVENT
BEGIN:VEVENT
DTSTART;TZID=America/New_York:20270306T090000
DTEND;TZID=America/New_York:20270306T100000
DTSTAMP:20260420T000153
CREATED:20260414T161808Z
LAST-MODIFIED:20260414T161808Z
UID:10001768-1804323600-1804327200@www.jackson-nh.gov
SUMMARY:Old Library: Yoga Class
DESCRIPTION:
URL:https://www.jackson-nh.gov/event/old-library-yoga-class/2027-03-06/
LOCATION:Old Jackson Library\, 125 Main St\, Jackson\, NH\, 03846
CATEGORIES:Jackson Old Library
END:VEVENT
BEGIN:VEVENT
DTSTART;TZID=America/New_York:20270308T090000
DTEND;TZID=America/New_York:20270308T101500
DTSTAMP:20260420T000153
CREATED:20260219T200511Z
LAST-MODIFIED:20260219T200728Z
UID:10001089-1804496400-1804500900@www.jackson-nh.gov
SUMMARY:Old Library Vinyassa Yoga
DESCRIPTION:Old Library: Vinyassa Yoga
URL:https://www.jackson-nh.gov/event/vinyassa-yoga/2027-03-08/
LOCATION:Town of Jackson\, 54 Main St\, Jackson\, NH\, 03846
CATEGORIES:Jackson Old Library
ATTACH;FMTTYPE=image/jpeg:https://www.jackson-nh.gov/wp-content/uploads/2026/01/old-jackson-library.jpg
END:VEVENT
BEGIN:VEVENT
DTSTART;TZID=America/New_York:20270308T190000
DTEND;TZID=America/New_York:20270308T200000
DTSTAMP:20260420T000153
CREATED:20260127T165834Z
LAST-MODIFIED:20260127T165834Z
UID:10000849-1804532400-1804536000@www.jackson-nh.gov
SUMMARY:Jackson Democrats Committee Monthly Meeting
DESCRIPTION:7:00pm to 8:00pm
URL:https://www.jackson-nh.gov/event/jackson-democrats-committee-monthly-meeting/2027-03-08/
LOCATION:Old Jackson Library\, 125 Main St\, Jackson\, NH\, 03846
CATEGORIES:Jackson Old Library
ATTACH;FMTTYPE=image/jpeg:https://www.jackson-nh.gov/wp-content/uploads/2026/01/old-jackson-library.jpg
END:VEVENT
BEGIN:VEVENT
DTSTART;TZID=America/New_York:20270310T083000
DTEND;TZID=America/New_York:20270310T094500
DTSTAMP:20260420T000153
CREATED:20260219T200629Z
LAST-MODIFIED:20260219T200744Z
UID:10001151-1804667400-1804671900@www.jackson-nh.gov
SUMMARY:Old Library Basic Yoga Class
DESCRIPTION:Old Library: Basic Yoga Class
URL:https://www.jackson-nh.gov/event/basic-yoga-class/2027-03-10/
LOCATION:Town of Jackson\, 54 Main St\, Jackson\, NH\, 03846
CATEGORIES:Jackson Old Library
ATTACH;FMTTYPE=image/jpeg:https://www.jackson-nh.gov/wp-content/uploads/2026/01/old-jackson-library.jpg
END:VEVENT
BEGIN:VEVENT
DTSTART;TZID=America/New_York:20270310T150000
DTEND;TZID=America/New_York:20270310T170000
DTSTAMP:20260420T000153
CREATED:20260127T164358Z
LAST-MODIFIED:20260127T164358Z
UID:10000382-1804690800-1804698000@www.jackson-nh.gov
SUMMARY:Old Library: Conasta
DESCRIPTION:
URL:https://www.jackson-nh.gov/event/old-library-conasta/2027-03-10/
LOCATION:Old Jackson Library\, 125 Main St\, Jackson\, NH\, 03846
CATEGORIES:Jackson Old Library
ATTACH;FMTTYPE=image/jpeg:https://www.jackson-nh.gov/wp-content/uploads/2026/01/old-jackson-library.jpg
END:VEVENT
BEGIN:VEVENT
DTSTART;TZID=America/New_York:20270311T190000
DTEND;TZID=America/New_York:20270311T200000
DTSTAMP:20260420T000153
CREATED:20260127T161710Z
LAST-MODIFIED:20260127T161956Z
UID:10000278-1804791600-1804795200@www.jackson-nh.gov
SUMMARY:Planning Board Meeting
DESCRIPTION:
URL:https://www.jackson-nh.gov/event/planning-board-meeting/2027-03-11/
LOCATION:Town of Jackson\, 54 Main St\, Jackson\, NH\, 03846
CATEGORIES:Planning Board
ATTACH;FMTTYPE=image/jpeg:https://www.jackson-nh.gov/wp-content/uploads/2025/10/planning-board.jpg
END:VEVENT
BEGIN:VEVENT
DTSTART;TZID=America/New_York:20270312T083000
DTEND;TZID=America/New_York:20270312T100000
DTSTAMP:20260420T000153
CREATED:20260318T162856Z
LAST-MODIFIED:20260318T162913Z
UID:10001491-1804840200-1804845600@www.jackson-nh.gov
SUMMARY:Old Library: Yoga
DESCRIPTION:Private Yoga Class
URL:https://www.jackson-nh.gov/event/old-library-yoga-3/2027-03-12/
LOCATION:Town of Jackson\, 54 Main St\, Jackson\, NH\, 03846
CATEGORIES:Jackson Old Library
END:VEVENT
BEGIN:VEVENT
DTSTART;TZID=America/New_York:20270313T090000
DTEND;TZID=America/New_York:20270313T100000
DTSTAMP:20260420T000153
CREATED:20260414T161808Z
LAST-MODIFIED:20260414T161808Z
UID:10001769-1804928400-1804932000@www.jackson-nh.gov
SUMMARY:Old Library: Yoga Class
DESCRIPTION:
URL:https://www.jackson-nh.gov/event/old-library-yoga-class/2027-03-13/
LOCATION:Old Jackson Library\, 125 Main St\, Jackson\, NH\, 03846
CATEGORIES:Jackson Old Library
END:VEVENT
BEGIN:VEVENT
DTSTART;TZID=America/New_York:20270315T090000
DTEND;TZID=America/New_York:20270315T101500
DTSTAMP:20260420T000153
CREATED:20260219T200511Z
LAST-MODIFIED:20260219T200728Z
UID:10001090-1805101200-1805105700@www.jackson-nh.gov
SUMMARY:Old Library Vinyassa Yoga
DESCRIPTION:Old Library: Vinyassa Yoga
URL:https://www.jackson-nh.gov/event/vinyassa-yoga/2027-03-15/
LOCATION:Town of Jackson\, 54 Main St\, Jackson\, NH\, 03846
CATEGORIES:Jackson Old Library
ATTACH;FMTTYPE=image/jpeg:https://www.jackson-nh.gov/wp-content/uploads/2026/01/old-jackson-library.jpg
END:VEVENT
BEGIN:VEVENT
DTSTART;TZID=America/New_York:20270315T180000
DTEND;TZID=America/New_York:20270315T200000
DTSTAMP:20260420T000153
CREATED:20251002T201022Z
LAST-MODIFIED:20251002T201159Z
UID:10000220-1805133600-1805140800@www.jackson-nh.gov
SUMMARY:School Board Meeting
DESCRIPTION:Meets 3rd Monday of each month at 6:00 PM at the Whitney Community Center.
URL:https://www.jackson-nh.gov/event/school-board-meeting/2027-03-15/
LOCATION:Whitney Center\, 16 Black Mountain Rd\, Jackson\, NH\, 03846
CATEGORIES:School Board
ATTACH;FMTTYPE=image/jpeg:https://www.jackson-nh.gov/wp-content/uploads/2025/10/school-board.jpg
END:VEVENT
BEGIN:VEVENT
DTSTART;TZID=America/New_York:20270316T153000
DTEND;TZID=America/New_York:20270316T163000
DTSTAMP:20260420T000153
CREATED:20260316T222408Z
LAST-MODIFIED:20260316T222721Z
UID:10000109-1805211000-1805214600@www.jackson-nh.gov
SUMMARY:Select Board Meeting
DESCRIPTION:
URL:https://www.jackson-nh.gov/event/select-board-meeting-5/2027-03-16/
LOCATION:Town of Jackson\, 54 Main St\, Jackson\, NH\, 03846
CATEGORIES:Select Board
ATTACH;FMTTYPE=image/jpeg:https://www.jackson-nh.gov/wp-content/uploads/2025/10/select-board.jpg
END:VEVENT
BEGIN:VEVENT
DTSTART;TZID=America/New_York:20270316T180000
DTEND;TZID=America/New_York:20270316T190000
DTSTAMP:20260420T000153
CREATED:20260127T170025Z
LAST-MODIFIED:20260127T170102Z
UID:10000969-1805220000-1805223600@www.jackson-nh.gov
SUMMARY:Housing Commission Meeting
DESCRIPTION:Tuesday\, February 17\, 2026 – 6:00pm\n\n\nThe Jackson Housing Commission meets at 6:00pm on the 3rd Tuesday of each month at the Town Office Building\, 54 Main Street\, Jackson NH
URL:https://www.jackson-nh.gov/event/housing-commission-meeting/2027-03-16/
LOCATION:Town of Jackson\, 54 Main St\, Jackson\, NH\, 03846
CATEGORIES:Housing
END:VEVENT
BEGIN:VEVENT
DTSTART;TZID=America/New_York:20270317T083000
DTEND;TZID=America/New_York:20270317T094500
DTSTAMP:20260420T000153
CREATED:20260219T200629Z
LAST-MODIFIED:20260219T200744Z
UID:10001152-1805272200-1805276700@www.jackson-nh.gov
SUMMARY:Old Library Basic Yoga Class
DESCRIPTION:Old Library: Basic Yoga Class
URL:https://www.jackson-nh.gov/event/basic-yoga-class/2027-03-17/
LOCATION:Town of Jackson\, 54 Main St\, Jackson\, NH\, 03846
CATEGORIES:Jackson Old Library
ATTACH;FMTTYPE=image/jpeg:https://www.jackson-nh.gov/wp-content/uploads/2026/01/old-jackson-library.jpg
END:VEVENT
BEGIN:VEVENT
DTSTART;TZID=America/New_York:20270317T130000
DTEND;TZID=America/New_York:20270317T150000
DTSTAMP:20260420T000153
CREATED:20260127T164840Z
LAST-MODIFIED:20260127T165424Z
UID:10000598-1805288400-1805295600@www.jackson-nh.gov
SUMMARY:Old Library: Jackson/Bartlett Grief Group
DESCRIPTION:1:00pm to 3:00pm For more information contact: Gail Doktor\, Cell 978.273.0308\, Gaildoktor@mac.com
URL:https://www.jackson-nh.gov/event/old-library-jackson-bartlett-grief-group/2027-03-17/
LOCATION:Old Jackson Library\, 125 Main St\, Jackson\, NH\, 03846
CATEGORIES:Jackson Old Library
ATTACH;FMTTYPE=image/jpeg:https://www.jackson-nh.gov/wp-content/uploads/2026/01/old-jackson-library.jpg
END:VEVENT
BEGIN:VEVENT
DTSTART;TZID=America/New_York:20270317T150000
DTEND;TZID=America/New_York:20270317T170000
DTSTAMP:20260420T000153
CREATED:20260127T164358Z
LAST-MODIFIED:20260127T164358Z
UID:10000383-1805295600-1805302800@www.jackson-nh.gov
SUMMARY:Old Library: Conasta
DESCRIPTION:
URL:https://www.jackson-nh.gov/event/old-library-conasta/2027-03-17/
LOCATION:Old Jackson Library\, 125 Main St\, Jackson\, NH\, 03846
CATEGORIES:Jackson Old Library
ATTACH;FMTTYPE=image/jpeg:https://www.jackson-nh.gov/wp-content/uploads/2026/01/old-jackson-library.jpg
END:VEVENT
BEGIN:VEVENT
DTSTART;TZID=America/New_York:20270318T080000
DTEND;TZID=America/New_York:20270318T120000
DTSTAMP:20260420T000153
CREATED:20260305T193227Z
LAST-MODIFIED:20260305T193227Z
UID:10001323-1805356800-1805371200@www.jackson-nh.gov
SUMMARY:Old Jackson Library Closed
DESCRIPTION:Closed 8am – 12pm for cleaning
URL:https://www.jackson-nh.gov/event/old-jackson-library-closed/2027-03-18/
LOCATION:Old Jackson Library\, 125 Main St\, Jackson\, NH\, 03846
CATEGORIES:Jackson Old Library
END:VEVENT
BEGIN:VEVENT
DTSTART;TZID=America/New_York:20270319T083000
DTEND;TZID=America/New_York:20270319T100000
DTSTAMP:20260420T000153
CREATED:20260318T162856Z
LAST-MODIFIED:20260318T162913Z
UID:10001492-1805445000-1805450400@www.jackson-nh.gov
SUMMARY:Old Library: Yoga
DESCRIPTION:Private Yoga Class
URL:https://www.jackson-nh.gov/event/old-library-yoga-3/2027-03-19/
LOCATION:Town of Jackson\, 54 Main St\, Jackson\, NH\, 03846
CATEGORIES:Jackson Old Library
END:VEVENT
BEGIN:VEVENT
DTSTART;TZID=America/New_York:20270320T090000
DTEND;TZID=America/New_York:20270320T100000
DTSTAMP:20260420T000153
CREATED:20260414T161808Z
LAST-MODIFIED:20260414T161808Z
UID:10001770-1805533200-1805536800@www.jackson-nh.gov
SUMMARY:Old Library: Yoga Class
DESCRIPTION:
URL:https://www.jackson-nh.gov/event/old-library-yoga-class/2027-03-20/
LOCATION:Old Jackson Library\, 125 Main St\, Jackson\, NH\, 03846
CATEGORIES:Jackson Old Library
END:VEVENT
BEGIN:VEVENT
DTSTART;TZID=America/New_York:20270322T090000
DTEND;TZID=America/New_York:20270322T101500
DTSTAMP:20260420T000153
CREATED:20260219T200511Z
LAST-MODIFIED:20260219T200728Z
UID:10001091-1805706000-1805710500@www.jackson-nh.gov
SUMMARY:Old Library Vinyassa Yoga
DESCRIPTION:Old Library: Vinyassa Yoga
URL:https://www.jackson-nh.gov/event/vinyassa-yoga/2027-03-22/
LOCATION:Town of Jackson\, 54 Main St\, Jackson\, NH\, 03846
CATEGORIES:Jackson Old Library
ATTACH;FMTTYPE=image/jpeg:https://www.jackson-nh.gov/wp-content/uploads/2026/01/old-jackson-library.jpg
END:VEVENT
END:VCALENDAR