BEGIN:VCALENDAR
VERSION:2.0
PRODID:-//Town of Jackson NH - ECPv6.15.20//NONSGML v1.0//EN
CALSCALE:GREGORIAN
METHOD:PUBLISH
X-ORIGINAL-URL:https://www.jackson-nh.gov
X-WR-CALDESC:Events for Town of Jackson NH
REFRESH-INTERVAL;VALUE=DURATION:PT1H
X-Robots-Tag:noindex
X-PUBLISHED-TTL:PT1H
BEGIN:VTIMEZONE
TZID:America/New_York
BEGIN:DAYLIGHT
TZOFFSETFROM:-0500
TZOFFSETTO:-0400
TZNAME:EDT
DTSTART:20250309T070000
END:DAYLIGHT
BEGIN:STANDARD
TZOFFSETFROM:-0400
TZOFFSETTO:-0500
TZNAME:EST
DTSTART:20251102T060000
END:STANDARD
BEGIN:DAYLIGHT
TZOFFSETFROM:-0500
TZOFFSETTO:-0400
TZNAME:EDT
DTSTART:20260308T070000
END:DAYLIGHT
BEGIN:STANDARD
TZOFFSETFROM:-0400
TZOFFSETTO:-0500
TZNAME:EST
DTSTART:20261101T060000
END:STANDARD
BEGIN:DAYLIGHT
TZOFFSETFROM:-0500
TZOFFSETTO:-0400
TZNAME:EDT
DTSTART:20270314T070000
END:DAYLIGHT
BEGIN:STANDARD
TZOFFSETFROM:-0400
TZOFFSETTO:-0500
TZNAME:EST
DTSTART:20271107T060000
END:STANDARD
BEGIN:DAYLIGHT
TZOFFSETFROM:-0500
TZOFFSETTO:-0400
TZNAME:EDT
DTSTART:20280312T070000
END:DAYLIGHT
BEGIN:STANDARD
TZOFFSETFROM:-0400
TZOFFSETTO:-0500
TZNAME:EST
DTSTART:20281105T060000
END:STANDARD
END:VTIMEZONE
BEGIN:VTIMEZONE
TZID:UTC
BEGIN:STANDARD
TZOFFSETFROM:+0000
TZOFFSETTO:+0000
TZNAME:UTC
DTSTART:20260101T000000
END:STANDARD
END:VTIMEZONE
BEGIN:VEVENT
DTSTART;TZID=America/New_York:20261230T083000
DTEND;TZID=America/New_York:20261230T094500
DTSTAMP:20260419T170432
CREATED:20260219T200629Z
LAST-MODIFIED:20260219T200744Z
UID:10001141-1798619400-1798623900@www.jackson-nh.gov
SUMMARY:Old Library Basic Yoga Class
DESCRIPTION:Old Library: Basic Yoga Class
URL:https://www.jackson-nh.gov/event/basic-yoga-class/2026-12-30/
LOCATION:Town of Jackson\, 54 Main St\, Jackson\, NH\, 03846
CATEGORIES:Jackson Old Library
ATTACH;FMTTYPE=image/jpeg:https://www.jackson-nh.gov/wp-content/uploads/2026/01/old-jackson-library.jpg
END:VEVENT
BEGIN:VEVENT
DTSTART;TZID=America/New_York:20261230T150000
DTEND;TZID=America/New_York:20261230T170000
DTSTAMP:20260419T170432
CREATED:20260127T164358Z
LAST-MODIFIED:20260127T164358Z
UID:10000372-1798642800-1798650000@www.jackson-nh.gov
SUMMARY:Old Library: Conasta
DESCRIPTION:
URL:https://www.jackson-nh.gov/event/old-library-conasta/2026-12-30/
LOCATION:Old Jackson Library\, 125 Main St\, Jackson\, NH\, 03846
CATEGORIES:Jackson Old Library
ATTACH;FMTTYPE=image/jpeg:https://www.jackson-nh.gov/wp-content/uploads/2026/01/old-jackson-library.jpg
END:VEVENT
BEGIN:VEVENT
DTSTART;TZID=America/New_York:20270101T083000
DTEND;TZID=America/New_York:20270101T100000
DTSTAMP:20260419T170432
CREATED:20260318T162856Z
LAST-MODIFIED:20260318T162913Z
UID:10001481-1798792200-1798797600@www.jackson-nh.gov
SUMMARY:Old Library: Yoga
DESCRIPTION:Private Yoga Class
URL:https://www.jackson-nh.gov/event/old-library-yoga-3/2027-01-01/
LOCATION:Town of Jackson\, 54 Main St\, Jackson\, NH\, 03846
CATEGORIES:Jackson Old Library
END:VEVENT
BEGIN:VEVENT
DTSTART;TZID=America/New_York:20270102T090000
DTEND;TZID=America/New_York:20270102T100000
DTSTAMP:20260419T170432
CREATED:20260414T161808Z
LAST-MODIFIED:20260414T161808Z
UID:10001759-1798880400-1798884000@www.jackson-nh.gov
SUMMARY:Old Library: Yoga Class
DESCRIPTION:
URL:https://www.jackson-nh.gov/event/old-library-yoga-class/2027-01-02/
LOCATION:Old Jackson Library\, 125 Main St\, Jackson\, NH\, 03846
CATEGORIES:Jackson Old Library
END:VEVENT
BEGIN:VEVENT
DTSTART;TZID=America/New_York:20270104T090000
DTEND;TZID=America/New_York:20270104T101500
DTSTAMP:20260419T170432
CREATED:20260219T200511Z
LAST-MODIFIED:20260219T200728Z
UID:10001080-1799053200-1799057700@www.jackson-nh.gov
SUMMARY:Old Library Vinyassa Yoga
DESCRIPTION:Old Library: Vinyassa Yoga
URL:https://www.jackson-nh.gov/event/vinyassa-yoga/2027-01-04/
LOCATION:Town of Jackson\, 54 Main St\, Jackson\, NH\, 03846
CATEGORIES:Jackson Old Library
ATTACH;FMTTYPE=image/jpeg:https://www.jackson-nh.gov/wp-content/uploads/2026/01/old-jackson-library.jpg
END:VEVENT
BEGIN:VEVENT
DTSTART;TZID=UTC:20270104T173000
DTEND;TZID=UTC:20270104T183000
DTSTAMP:20260419T170432
CREATED:20251002T034058Z
LAST-MODIFIED:20260404T124529Z
UID:10000016-1799083800-1799087400@www.jackson-nh.gov
SUMMARY:Conservation Commission Meeting
DESCRIPTION:
URL:https://www.jackson-nh.gov/event/conservation-commission-meeting/2027-01-04/
LOCATION:Town of Jackson\, 54 Main St\, Jackson\, NH\, 03846
CATEGORIES:Conservation Commission
ATTACH;FMTTYPE=image/jpeg:https://www.jackson-nh.gov/wp-content/uploads/2025/10/conservation-commission.jpg
END:VEVENT
BEGIN:VEVENT
DTSTART;TZID=America/New_York:20270105T153000
DTEND;TZID=America/New_York:20270105T163000
DTSTAMP:20260419T170432
CREATED:20260316T222408Z
LAST-MODIFIED:20260316T222721Z
UID:10000104-1799163000-1799166600@www.jackson-nh.gov
SUMMARY:Select Board Meeting
DESCRIPTION:
URL:https://www.jackson-nh.gov/event/select-board-meeting-5/2027-01-05/
LOCATION:Town of Jackson\, 54 Main St\, Jackson\, NH\, 03846
CATEGORIES:Select Board
ATTACH;FMTTYPE=image/jpeg:https://www.jackson-nh.gov/wp-content/uploads/2025/10/select-board.jpg
END:VEVENT
BEGIN:VEVENT
DTSTART;TZID=America/New_York:20270106T083000
DTEND;TZID=America/New_York:20270106T094500
DTSTAMP:20260419T170432
CREATED:20260219T200629Z
LAST-MODIFIED:20260219T200744Z
UID:10001142-1799224200-1799228700@www.jackson-nh.gov
SUMMARY:Old Library Basic Yoga Class
DESCRIPTION:Old Library: Basic Yoga Class
URL:https://www.jackson-nh.gov/event/basic-yoga-class/2027-01-06/
LOCATION:Town of Jackson\, 54 Main St\, Jackson\, NH\, 03846
CATEGORIES:Jackson Old Library
ATTACH;FMTTYPE=image/jpeg:https://www.jackson-nh.gov/wp-content/uploads/2026/01/old-jackson-library.jpg
END:VEVENT
BEGIN:VEVENT
DTSTART;TZID=America/New_York:20270106T150000
DTEND;TZID=America/New_York:20270106T170000
DTSTAMP:20260419T170432
CREATED:20260127T164358Z
LAST-MODIFIED:20260127T164358Z
UID:10000373-1799247600-1799254800@www.jackson-nh.gov
SUMMARY:Old Library: Conasta
DESCRIPTION:
URL:https://www.jackson-nh.gov/event/old-library-conasta/2027-01-06/
LOCATION:Old Jackson Library\, 125 Main St\, Jackson\, NH\, 03846
CATEGORIES:Jackson Old Library
ATTACH;FMTTYPE=image/jpeg:https://www.jackson-nh.gov/wp-content/uploads/2026/01/old-jackson-library.jpg
END:VEVENT
BEGIN:VEVENT
DTSTART;TZID=America/New_York:20270107T080000
DTEND;TZID=America/New_York:20270107T120000
DTSTAMP:20260419T170432
CREATED:20260305T193227Z
LAST-MODIFIED:20260305T193227Z
UID:10001318-1799308800-1799323200@www.jackson-nh.gov
SUMMARY:Old Jackson Library Closed
DESCRIPTION:Closed 8am – 12pm for cleaning
URL:https://www.jackson-nh.gov/event/old-jackson-library-closed/2027-01-07/
LOCATION:Old Jackson Library\, 125 Main St\, Jackson\, NH\, 03846
CATEGORIES:Jackson Old Library
END:VEVENT
BEGIN:VEVENT
DTSTART;TZID=America/New_York:20270108T083000
DTEND;TZID=America/New_York:20270108T100000
DTSTAMP:20260419T170432
CREATED:20260318T162856Z
LAST-MODIFIED:20260318T162913Z
UID:10001482-1799397000-1799402400@www.jackson-nh.gov
SUMMARY:Old Library: Yoga
DESCRIPTION:Private Yoga Class
URL:https://www.jackson-nh.gov/event/old-library-yoga-3/2027-01-08/
LOCATION:Town of Jackson\, 54 Main St\, Jackson\, NH\, 03846
CATEGORIES:Jackson Old Library
END:VEVENT
BEGIN:VEVENT
DTSTART;TZID=America/New_York:20270109T090000
DTEND;TZID=America/New_York:20270109T100000
DTSTAMP:20260419T170432
CREATED:20260414T161808Z
LAST-MODIFIED:20260414T161808Z
UID:10001760-1799485200-1799488800@www.jackson-nh.gov
SUMMARY:Old Library: Yoga Class
DESCRIPTION:
URL:https://www.jackson-nh.gov/event/old-library-yoga-class/2027-01-09/
LOCATION:Old Jackson Library\, 125 Main St\, Jackson\, NH\, 03846
CATEGORIES:Jackson Old Library
END:VEVENT
BEGIN:VEVENT
DTSTART;TZID=America/New_York:20270111T090000
DTEND;TZID=America/New_York:20270111T101500
DTSTAMP:20260419T170432
CREATED:20260219T200511Z
LAST-MODIFIED:20260219T200728Z
UID:10001081-1799658000-1799662500@www.jackson-nh.gov
SUMMARY:Old Library Vinyassa Yoga
DESCRIPTION:Old Library: Vinyassa Yoga
URL:https://www.jackson-nh.gov/event/vinyassa-yoga/2027-01-11/
LOCATION:Town of Jackson\, 54 Main St\, Jackson\, NH\, 03846
CATEGORIES:Jackson Old Library
ATTACH;FMTTYPE=image/jpeg:https://www.jackson-nh.gov/wp-content/uploads/2026/01/old-jackson-library.jpg
END:VEVENT
BEGIN:VEVENT
DTSTART;TZID=America/New_York:20270111T190000
DTEND;TZID=America/New_York:20270111T200000
DTSTAMP:20260419T170432
CREATED:20260127T165834Z
LAST-MODIFIED:20260127T165834Z
UID:10000847-1799694000-1799697600@www.jackson-nh.gov
SUMMARY:Jackson Democrats Committee Monthly Meeting
DESCRIPTION:7:00pm to 8:00pm
URL:https://www.jackson-nh.gov/event/jackson-democrats-committee-monthly-meeting/2027-01-11/
LOCATION:Old Jackson Library\, 125 Main St\, Jackson\, NH\, 03846
CATEGORIES:Jackson Old Library
ATTACH;FMTTYPE=image/jpeg:https://www.jackson-nh.gov/wp-content/uploads/2026/01/old-jackson-library.jpg
END:VEVENT
BEGIN:VEVENT
DTSTART;TZID=America/New_York:20270113T083000
DTEND;TZID=America/New_York:20270113T094500
DTSTAMP:20260419T170432
CREATED:20260219T200629Z
LAST-MODIFIED:20260219T200744Z
UID:10001143-1799829000-1799833500@www.jackson-nh.gov
SUMMARY:Old Library Basic Yoga Class
DESCRIPTION:Old Library: Basic Yoga Class
URL:https://www.jackson-nh.gov/event/basic-yoga-class/2027-01-13/
LOCATION:Town of Jackson\, 54 Main St\, Jackson\, NH\, 03846
CATEGORIES:Jackson Old Library
ATTACH;FMTTYPE=image/jpeg:https://www.jackson-nh.gov/wp-content/uploads/2026/01/old-jackson-library.jpg
END:VEVENT
BEGIN:VEVENT
DTSTART;TZID=America/New_York:20270113T150000
DTEND;TZID=America/New_York:20270113T170000
DTSTAMP:20260419T170432
CREATED:20260127T164358Z
LAST-MODIFIED:20260127T164358Z
UID:10000374-1799852400-1799859600@www.jackson-nh.gov
SUMMARY:Old Library: Conasta
DESCRIPTION:
URL:https://www.jackson-nh.gov/event/old-library-conasta/2027-01-13/
LOCATION:Old Jackson Library\, 125 Main St\, Jackson\, NH\, 03846
CATEGORIES:Jackson Old Library
ATTACH;FMTTYPE=image/jpeg:https://www.jackson-nh.gov/wp-content/uploads/2026/01/old-jackson-library.jpg
END:VEVENT
BEGIN:VEVENT
DTSTART;TZID=America/New_York:20270114T190000
DTEND;TZID=America/New_York:20270114T200000
DTSTAMP:20260419T170432
CREATED:20260127T161710Z
LAST-MODIFIED:20260127T161956Z
UID:10000276-1799953200-1799956800@www.jackson-nh.gov
SUMMARY:Planning Board Meeting
DESCRIPTION:
URL:https://www.jackson-nh.gov/event/planning-board-meeting/2027-01-14/
LOCATION:Town of Jackson\, 54 Main St\, Jackson\, NH\, 03846
CATEGORIES:Planning Board
ATTACH;FMTTYPE=image/jpeg:https://www.jackson-nh.gov/wp-content/uploads/2025/10/planning-board.jpg
END:VEVENT
BEGIN:VEVENT
DTSTART;TZID=America/New_York:20270115T083000
DTEND;TZID=America/New_York:20270115T100000
DTSTAMP:20260419T170432
CREATED:20260318T162856Z
LAST-MODIFIED:20260318T162913Z
UID:10001483-1800001800-1800007200@www.jackson-nh.gov
SUMMARY:Old Library: Yoga
DESCRIPTION:Private Yoga Class
URL:https://www.jackson-nh.gov/event/old-library-yoga-3/2027-01-15/
LOCATION:Town of Jackson\, 54 Main St\, Jackson\, NH\, 03846
CATEGORIES:Jackson Old Library
END:VEVENT
BEGIN:VEVENT
DTSTART;TZID=America/New_York:20270116T090000
DTEND;TZID=America/New_York:20270116T100000
DTSTAMP:20260419T170432
CREATED:20260414T161808Z
LAST-MODIFIED:20260414T161808Z
UID:10001761-1800090000-1800093600@www.jackson-nh.gov
SUMMARY:Old Library: Yoga Class
DESCRIPTION:
URL:https://www.jackson-nh.gov/event/old-library-yoga-class/2027-01-16/
LOCATION:Old Jackson Library\, 125 Main St\, Jackson\, NH\, 03846
CATEGORIES:Jackson Old Library
END:VEVENT
BEGIN:VEVENT
DTSTART;TZID=America/New_York:20270118T090000
DTEND;TZID=America/New_York:20270118T101500
DTSTAMP:20260419T170432
CREATED:20260219T200511Z
LAST-MODIFIED:20260219T200728Z
UID:10001082-1800262800-1800267300@www.jackson-nh.gov
SUMMARY:Old Library Vinyassa Yoga
DESCRIPTION:Old Library: Vinyassa Yoga
URL:https://www.jackson-nh.gov/event/vinyassa-yoga/2027-01-18/
LOCATION:Town of Jackson\, 54 Main St\, Jackson\, NH\, 03846
CATEGORIES:Jackson Old Library
ATTACH;FMTTYPE=image/jpeg:https://www.jackson-nh.gov/wp-content/uploads/2026/01/old-jackson-library.jpg
END:VEVENT
BEGIN:VEVENT
DTSTART;TZID=America/New_York:20270118T180000
DTEND;TZID=America/New_York:20270118T200000
DTSTAMP:20260419T170432
CREATED:20251002T201022Z
LAST-MODIFIED:20251002T201159Z
UID:10000218-1800295200-1800302400@www.jackson-nh.gov
SUMMARY:School Board Meeting
DESCRIPTION:Meets 3rd Monday of each month at 6:00 PM at the Whitney Community Center.
URL:https://www.jackson-nh.gov/event/school-board-meeting/2027-01-18/
LOCATION:Whitney Center\, 16 Black Mountain Rd\, Jackson\, NH\, 03846
CATEGORIES:School Board
ATTACH;FMTTYPE=image/jpeg:https://www.jackson-nh.gov/wp-content/uploads/2025/10/school-board.jpg
END:VEVENT
BEGIN:VEVENT
DTSTART;TZID=America/New_York:20270119T153000
DTEND;TZID=America/New_York:20270119T163000
DTSTAMP:20260419T170432
CREATED:20260316T222408Z
LAST-MODIFIED:20260316T222721Z
UID:10000105-1800372600-1800376200@www.jackson-nh.gov
SUMMARY:Select Board Meeting
DESCRIPTION:
URL:https://www.jackson-nh.gov/event/select-board-meeting-5/2027-01-19/
LOCATION:Town of Jackson\, 54 Main St\, Jackson\, NH\, 03846
CATEGORIES:Select Board
ATTACH;FMTTYPE=image/jpeg:https://www.jackson-nh.gov/wp-content/uploads/2025/10/select-board.jpg
END:VEVENT
BEGIN:VEVENT
DTSTART;TZID=America/New_York:20270119T180000
DTEND;TZID=America/New_York:20270119T190000
DTSTAMP:20260419T170432
CREATED:20260127T170025Z
LAST-MODIFIED:20260127T170102Z
UID:10000967-1800381600-1800385200@www.jackson-nh.gov
SUMMARY:Housing Commission Meeting
DESCRIPTION:Tuesday\, February 17\, 2026 – 6:00pm\n\n\nThe Jackson Housing Commission meets at 6:00pm on the 3rd Tuesday of each month at the Town Office Building\, 54 Main Street\, Jackson NH
URL:https://www.jackson-nh.gov/event/housing-commission-meeting/2027-01-19/
LOCATION:Town of Jackson\, 54 Main St\, Jackson\, NH\, 03846
CATEGORIES:Housing
END:VEVENT
BEGIN:VEVENT
DTSTART;TZID=America/New_York:20270120T083000
DTEND;TZID=America/New_York:20270120T094500
DTSTAMP:20260419T170432
CREATED:20260219T200629Z
LAST-MODIFIED:20260219T200744Z
UID:10001144-1800433800-1800438300@www.jackson-nh.gov
SUMMARY:Old Library Basic Yoga Class
DESCRIPTION:Old Library: Basic Yoga Class
URL:https://www.jackson-nh.gov/event/basic-yoga-class/2027-01-20/
LOCATION:Town of Jackson\, 54 Main St\, Jackson\, NH\, 03846
CATEGORIES:Jackson Old Library
ATTACH;FMTTYPE=image/jpeg:https://www.jackson-nh.gov/wp-content/uploads/2026/01/old-jackson-library.jpg
END:VEVENT
BEGIN:VEVENT
DTSTART;TZID=America/New_York:20270120T130000
DTEND;TZID=America/New_York:20270120T150000
DTSTAMP:20260419T170432
CREATED:20260127T164840Z
LAST-MODIFIED:20260127T165424Z
UID:10000596-1800450000-1800457200@www.jackson-nh.gov
SUMMARY:Old Library: Jackson/Bartlett Grief Group
DESCRIPTION:1:00pm to 3:00pm For more information contact: Gail Doktor\, Cell 978.273.0308\, Gaildoktor@mac.com
URL:https://www.jackson-nh.gov/event/old-library-jackson-bartlett-grief-group/2027-01-20/
LOCATION:Old Jackson Library\, 125 Main St\, Jackson\, NH\, 03846
CATEGORIES:Jackson Old Library
ATTACH;FMTTYPE=image/jpeg:https://www.jackson-nh.gov/wp-content/uploads/2026/01/old-jackson-library.jpg
END:VEVENT
BEGIN:VEVENT
DTSTART;TZID=America/New_York:20270120T150000
DTEND;TZID=America/New_York:20270120T170000
DTSTAMP:20260419T170432
CREATED:20260127T164358Z
LAST-MODIFIED:20260127T164358Z
UID:10000375-1800457200-1800464400@www.jackson-nh.gov
SUMMARY:Old Library: Conasta
DESCRIPTION:
URL:https://www.jackson-nh.gov/event/old-library-conasta/2027-01-20/
LOCATION:Old Jackson Library\, 125 Main St\, Jackson\, NH\, 03846
CATEGORIES:Jackson Old Library
ATTACH;FMTTYPE=image/jpeg:https://www.jackson-nh.gov/wp-content/uploads/2026/01/old-jackson-library.jpg
END:VEVENT
BEGIN:VEVENT
DTSTART;TZID=America/New_York:20270121T080000
DTEND;TZID=America/New_York:20270121T120000
DTSTAMP:20260419T170432
CREATED:20260305T193227Z
LAST-MODIFIED:20260305T193227Z
UID:10001319-1800518400-1800532800@www.jackson-nh.gov
SUMMARY:Old Jackson Library Closed
DESCRIPTION:Closed 8am – 12pm for cleaning
URL:https://www.jackson-nh.gov/event/old-jackson-library-closed/2027-01-21/
LOCATION:Old Jackson Library\, 125 Main St\, Jackson\, NH\, 03846
CATEGORIES:Jackson Old Library
END:VEVENT
BEGIN:VEVENT
DTSTART;TZID=America/New_York:20270122T083000
DTEND;TZID=America/New_York:20270122T100000
DTSTAMP:20260419T170432
CREATED:20260318T162856Z
LAST-MODIFIED:20260318T162913Z
UID:10001484-1800606600-1800612000@www.jackson-nh.gov
SUMMARY:Old Library: Yoga
DESCRIPTION:Private Yoga Class
URL:https://www.jackson-nh.gov/event/old-library-yoga-3/2027-01-22/
LOCATION:Town of Jackson\, 54 Main St\, Jackson\, NH\, 03846
CATEGORIES:Jackson Old Library
END:VEVENT
BEGIN:VEVENT
DTSTART;TZID=America/New_York:20270123T090000
DTEND;TZID=America/New_York:20270123T100000
DTSTAMP:20260419T170432
CREATED:20260414T161808Z
LAST-MODIFIED:20260414T161808Z
UID:10001762-1800694800-1800698400@www.jackson-nh.gov
SUMMARY:Old Library: Yoga Class
DESCRIPTION:
URL:https://www.jackson-nh.gov/event/old-library-yoga-class/2027-01-23/
LOCATION:Old Jackson Library\, 125 Main St\, Jackson\, NH\, 03846
CATEGORIES:Jackson Old Library
END:VEVENT
BEGIN:VEVENT
DTSTART;TZID=America/New_York:20270125T090000
DTEND;TZID=America/New_York:20270125T101500
DTSTAMP:20260419T170432
CREATED:20260219T200511Z
LAST-MODIFIED:20260219T200728Z
UID:10001083-1800867600-1800872100@www.jackson-nh.gov
SUMMARY:Old Library Vinyassa Yoga
DESCRIPTION:Old Library: Vinyassa Yoga
URL:https://www.jackson-nh.gov/event/vinyassa-yoga/2027-01-25/
LOCATION:Town of Jackson\, 54 Main St\, Jackson\, NH\, 03846
CATEGORIES:Jackson Old Library
ATTACH;FMTTYPE=image/jpeg:https://www.jackson-nh.gov/wp-content/uploads/2026/01/old-jackson-library.jpg
END:VEVENT
END:VCALENDAR