BEGIN:VCALENDAR
VERSION:2.0
PRODID:-//Town of Jackson NH - ECPv6.15.20//NONSGML v1.0//EN
CALSCALE:GREGORIAN
METHOD:PUBLISH
X-WR-CALNAME:Town of Jackson NH
X-ORIGINAL-URL:https://www.jackson-nh.gov
X-WR-CALDESC:Events for Town of Jackson NH
REFRESH-INTERVAL;VALUE=DURATION:PT1H
X-Robots-Tag:noindex
X-PUBLISHED-TTL:PT1H
BEGIN:VTIMEZONE
TZID:America/New_York
BEGIN:DAYLIGHT
TZOFFSETFROM:-0500
TZOFFSETTO:-0400
TZNAME:EDT
DTSTART:20270314T070000
END:DAYLIGHT
BEGIN:STANDARD
TZOFFSETFROM:-0400
TZOFFSETTO:-0500
TZNAME:EST
DTSTART:20271107T060000
END:STANDARD
BEGIN:DAYLIGHT
TZOFFSETFROM:-0500
TZOFFSETTO:-0400
TZNAME:EDT
DTSTART:20280312T070000
END:DAYLIGHT
BEGIN:STANDARD
TZOFFSETFROM:-0400
TZOFFSETTO:-0500
TZNAME:EST
DTSTART:20281105T060000
END:STANDARD
BEGIN:DAYLIGHT
TZOFFSETFROM:-0500
TZOFFSETTO:-0400
TZNAME:EDT
DTSTART:20290311T070000
END:DAYLIGHT
BEGIN:STANDARD
TZOFFSETFROM:-0400
TZOFFSETTO:-0500
TZNAME:EST
DTSTART:20291104T060000
END:STANDARD
BEGIN:DAYLIGHT
TZOFFSETFROM:-0500
TZOFFSETTO:-0400
TZNAME:EDT
DTSTART:20300310T070000
END:DAYLIGHT
BEGIN:STANDARD
TZOFFSETFROM:-0400
TZOFFSETTO:-0500
TZNAME:EST
DTSTART:20301103T060000
END:STANDARD
BEGIN:DAYLIGHT
TZOFFSETFROM:-0500
TZOFFSETTO:-0400
TZNAME:EDT
DTSTART:20310309T070000
END:DAYLIGHT
BEGIN:STANDARD
TZOFFSETFROM:-0400
TZOFFSETTO:-0500
TZNAME:EST
DTSTART:20311102T060000
END:STANDARD
END:VTIMEZONE
BEGIN:VEVENT
DTSTART;TZID=America/New_York:20280511T190000
DTEND;TZID=America/New_York:20280511T200000
DTSTAMP:20260420T231448
CREATED:20260127T161710Z
LAST-MODIFIED:20260127T161956Z
UID:10000292-1841684400-1841688000@www.jackson-nh.gov
SUMMARY:Planning Board Meeting
DESCRIPTION:
URL:https://www.jackson-nh.gov/event/planning-board-meeting/2028-05-11/
LOCATION:Town of Jackson\, 54 Main St\, Jackson\, NH\, 03846
CATEGORIES:Planning Board
ATTACH;FMTTYPE=image/jpeg:https://www.jackson-nh.gov/wp-content/uploads/2025/10/planning-board.jpg
END:VEVENT
BEGIN:VEVENT
DTSTART;TZID=America/New_York:20280608T190000
DTEND;TZID=America/New_York:20280608T200000
DTSTAMP:20260420T231448
CREATED:20260127T161710Z
LAST-MODIFIED:20260127T161956Z
UID:10000293-1844103600-1844107200@www.jackson-nh.gov
SUMMARY:Planning Board Meeting
DESCRIPTION:
URL:https://www.jackson-nh.gov/event/planning-board-meeting/2028-06-08/
LOCATION:Town of Jackson\, 54 Main St\, Jackson\, NH\, 03846
CATEGORIES:Planning Board
ATTACH;FMTTYPE=image/jpeg:https://www.jackson-nh.gov/wp-content/uploads/2025/10/planning-board.jpg
END:VEVENT
BEGIN:VEVENT
DTSTART;TZID=America/New_York:20280713T190000
DTEND;TZID=America/New_York:20280713T200000
DTSTAMP:20260420T231448
CREATED:20260127T161710Z
LAST-MODIFIED:20260127T161956Z
UID:10000294-1847127600-1847131200@www.jackson-nh.gov
SUMMARY:Planning Board Meeting
DESCRIPTION:
URL:https://www.jackson-nh.gov/event/planning-board-meeting/2028-07-13/
LOCATION:Town of Jackson\, 54 Main St\, Jackson\, NH\, 03846
CATEGORIES:Planning Board
ATTACH;FMTTYPE=image/jpeg:https://www.jackson-nh.gov/wp-content/uploads/2025/10/planning-board.jpg
END:VEVENT
BEGIN:VEVENT
DTSTART;TZID=America/New_York:20280810T190000
DTEND;TZID=America/New_York:20280810T200000
DTSTAMP:20260420T231448
CREATED:20260127T161710Z
LAST-MODIFIED:20260127T161956Z
UID:10000295-1849546800-1849550400@www.jackson-nh.gov
SUMMARY:Planning Board Meeting
DESCRIPTION:
URL:https://www.jackson-nh.gov/event/planning-board-meeting/2028-08-10/
LOCATION:Town of Jackson\, 54 Main St\, Jackson\, NH\, 03846
CATEGORIES:Planning Board
ATTACH;FMTTYPE=image/jpeg:https://www.jackson-nh.gov/wp-content/uploads/2025/10/planning-board.jpg
END:VEVENT
BEGIN:VEVENT
DTSTART;TZID=America/New_York:20280914T190000
DTEND;TZID=America/New_York:20280914T200000
DTSTAMP:20260420T231448
CREATED:20260127T161710Z
LAST-MODIFIED:20260127T161956Z
UID:10000296-1852570800-1852574400@www.jackson-nh.gov
SUMMARY:Planning Board Meeting
DESCRIPTION:
URL:https://www.jackson-nh.gov/event/planning-board-meeting/2028-09-14/
LOCATION:Town of Jackson\, 54 Main St\, Jackson\, NH\, 03846
CATEGORIES:Planning Board
ATTACH;FMTTYPE=image/jpeg:https://www.jackson-nh.gov/wp-content/uploads/2025/10/planning-board.jpg
END:VEVENT
BEGIN:VEVENT
DTSTART;TZID=America/New_York:20281012T190000
DTEND;TZID=America/New_York:20281012T200000
DTSTAMP:20260420T231448
CREATED:20260127T161710Z
LAST-MODIFIED:20260127T161956Z
UID:10000297-1854990000-1854993600@www.jackson-nh.gov
SUMMARY:Planning Board Meeting
DESCRIPTION:
URL:https://www.jackson-nh.gov/event/planning-board-meeting/2028-10-12/
LOCATION:Town of Jackson\, 54 Main St\, Jackson\, NH\, 03846
CATEGORIES:Planning Board
ATTACH;FMTTYPE=image/jpeg:https://www.jackson-nh.gov/wp-content/uploads/2025/10/planning-board.jpg
END:VEVENT
BEGIN:VEVENT
DTSTART;TZID=America/New_York:20281109T190000
DTEND;TZID=America/New_York:20281109T200000
DTSTAMP:20260420T231448
CREATED:20260127T161710Z
LAST-MODIFIED:20260127T161956Z
UID:10000298-1857409200-1857412800@www.jackson-nh.gov
SUMMARY:Planning Board Meeting
DESCRIPTION:
URL:https://www.jackson-nh.gov/event/planning-board-meeting/2028-11-09/
LOCATION:Town of Jackson\, 54 Main St\, Jackson\, NH\, 03846
CATEGORIES:Planning Board
ATTACH;FMTTYPE=image/jpeg:https://www.jackson-nh.gov/wp-content/uploads/2025/10/planning-board.jpg
END:VEVENT
BEGIN:VEVENT
DTSTART;TZID=America/New_York:20281214T190000
DTEND;TZID=America/New_York:20281214T200000
DTSTAMP:20260420T231448
CREATED:20260127T161710Z
LAST-MODIFIED:20260127T161956Z
UID:10000299-1860433200-1860436800@www.jackson-nh.gov
SUMMARY:Planning Board Meeting
DESCRIPTION:
URL:https://www.jackson-nh.gov/event/planning-board-meeting/2028-12-14/
LOCATION:Town of Jackson\, 54 Main St\, Jackson\, NH\, 03846
CATEGORIES:Planning Board
ATTACH;FMTTYPE=image/jpeg:https://www.jackson-nh.gov/wp-content/uploads/2025/10/planning-board.jpg
END:VEVENT
BEGIN:VEVENT
DTSTART;TZID=America/New_York:20290111T190000
DTEND;TZID=America/New_York:20290111T200000
DTSTAMP:20260420T231448
CREATED:20260127T161710Z
LAST-MODIFIED:20260127T161956Z
UID:10000300-1862852400-1862856000@www.jackson-nh.gov
SUMMARY:Planning Board Meeting
DESCRIPTION:
URL:https://www.jackson-nh.gov/event/planning-board-meeting/2029-01-11/
LOCATION:Town of Jackson\, 54 Main St\, Jackson\, NH\, 03846
CATEGORIES:Planning Board
ATTACH;FMTTYPE=image/jpeg:https://www.jackson-nh.gov/wp-content/uploads/2025/10/planning-board.jpg
END:VEVENT
BEGIN:VEVENT
DTSTART;TZID=America/New_York:20290208T190000
DTEND;TZID=America/New_York:20290208T200000
DTSTAMP:20260420T231448
CREATED:20260127T161710Z
LAST-MODIFIED:20260127T161956Z
UID:10000301-1865271600-1865275200@www.jackson-nh.gov
SUMMARY:Planning Board Meeting
DESCRIPTION:
URL:https://www.jackson-nh.gov/event/planning-board-meeting/2029-02-08/
LOCATION:Town of Jackson\, 54 Main St\, Jackson\, NH\, 03846
CATEGORIES:Planning Board
ATTACH;FMTTYPE=image/jpeg:https://www.jackson-nh.gov/wp-content/uploads/2025/10/planning-board.jpg
END:VEVENT
BEGIN:VEVENT
DTSTART;TZID=America/New_York:20290308T190000
DTEND;TZID=America/New_York:20290308T200000
DTSTAMP:20260420T231448
CREATED:20260127T161710Z
LAST-MODIFIED:20260127T161956Z
UID:10000302-1867690800-1867694400@www.jackson-nh.gov
SUMMARY:Planning Board Meeting
DESCRIPTION:
URL:https://www.jackson-nh.gov/event/planning-board-meeting/2029-03-08/
LOCATION:Town of Jackson\, 54 Main St\, Jackson\, NH\, 03846
CATEGORIES:Planning Board
ATTACH;FMTTYPE=image/jpeg:https://www.jackson-nh.gov/wp-content/uploads/2025/10/planning-board.jpg
END:VEVENT
BEGIN:VEVENT
DTSTART;TZID=America/New_York:20290412T190000
DTEND;TZID=America/New_York:20290412T200000
DTSTAMP:20260420T231448
CREATED:20260127T161710Z
LAST-MODIFIED:20260127T161956Z
UID:10000303-1870714800-1870718400@www.jackson-nh.gov
SUMMARY:Planning Board Meeting
DESCRIPTION:
URL:https://www.jackson-nh.gov/event/planning-board-meeting/2029-04-12/
LOCATION:Town of Jackson\, 54 Main St\, Jackson\, NH\, 03846
CATEGORIES:Planning Board
ATTACH;FMTTYPE=image/jpeg:https://www.jackson-nh.gov/wp-content/uploads/2025/10/planning-board.jpg
END:VEVENT
BEGIN:VEVENT
DTSTART;TZID=America/New_York:20290510T190000
DTEND;TZID=America/New_York:20290510T200000
DTSTAMP:20260420T231448
CREATED:20260127T161710Z
LAST-MODIFIED:20260127T161956Z
UID:10000304-1873134000-1873137600@www.jackson-nh.gov
SUMMARY:Planning Board Meeting
DESCRIPTION:
URL:https://www.jackson-nh.gov/event/planning-board-meeting/2029-05-10/
LOCATION:Town of Jackson\, 54 Main St\, Jackson\, NH\, 03846
CATEGORIES:Planning Board
ATTACH;FMTTYPE=image/jpeg:https://www.jackson-nh.gov/wp-content/uploads/2025/10/planning-board.jpg
END:VEVENT
BEGIN:VEVENT
DTSTART;TZID=America/New_York:20290614T190000
DTEND;TZID=America/New_York:20290614T200000
DTSTAMP:20260420T231448
CREATED:20260127T161710Z
LAST-MODIFIED:20260127T161956Z
UID:10000305-1876158000-1876161600@www.jackson-nh.gov
SUMMARY:Planning Board Meeting
DESCRIPTION:
URL:https://www.jackson-nh.gov/event/planning-board-meeting/2029-06-14/
LOCATION:Town of Jackson\, 54 Main St\, Jackson\, NH\, 03846
CATEGORIES:Planning Board
ATTACH;FMTTYPE=image/jpeg:https://www.jackson-nh.gov/wp-content/uploads/2025/10/planning-board.jpg
END:VEVENT
BEGIN:VEVENT
DTSTART;TZID=America/New_York:20290712T190000
DTEND;TZID=America/New_York:20290712T200000
DTSTAMP:20260420T231448
CREATED:20260127T161710Z
LAST-MODIFIED:20260127T161956Z
UID:10000306-1878577200-1878580800@www.jackson-nh.gov
SUMMARY:Planning Board Meeting
DESCRIPTION:
URL:https://www.jackson-nh.gov/event/planning-board-meeting/2029-07-12/
LOCATION:Town of Jackson\, 54 Main St\, Jackson\, NH\, 03846
CATEGORIES:Planning Board
ATTACH;FMTTYPE=image/jpeg:https://www.jackson-nh.gov/wp-content/uploads/2025/10/planning-board.jpg
END:VEVENT
BEGIN:VEVENT
DTSTART;TZID=America/New_York:20290809T190000
DTEND;TZID=America/New_York:20290809T200000
DTSTAMP:20260420T231448
CREATED:20260127T161710Z
LAST-MODIFIED:20260127T161956Z
UID:10000307-1880996400-1881000000@www.jackson-nh.gov
SUMMARY:Planning Board Meeting
DESCRIPTION:
URL:https://www.jackson-nh.gov/event/planning-board-meeting/2029-08-09/
LOCATION:Town of Jackson\, 54 Main St\, Jackson\, NH\, 03846
CATEGORIES:Planning Board
ATTACH;FMTTYPE=image/jpeg:https://www.jackson-nh.gov/wp-content/uploads/2025/10/planning-board.jpg
END:VEVENT
BEGIN:VEVENT
DTSTART;TZID=America/New_York:20290913T190000
DTEND;TZID=America/New_York:20290913T200000
DTSTAMP:20260420T231448
CREATED:20260127T161710Z
LAST-MODIFIED:20260127T161956Z
UID:10000308-1884020400-1884024000@www.jackson-nh.gov
SUMMARY:Planning Board Meeting
DESCRIPTION:
URL:https://www.jackson-nh.gov/event/planning-board-meeting/2029-09-13/
LOCATION:Town of Jackson\, 54 Main St\, Jackson\, NH\, 03846
CATEGORIES:Planning Board
ATTACH;FMTTYPE=image/jpeg:https://www.jackson-nh.gov/wp-content/uploads/2025/10/planning-board.jpg
END:VEVENT
BEGIN:VEVENT
DTSTART;TZID=America/New_York:20291011T190000
DTEND;TZID=America/New_York:20291011T200000
DTSTAMP:20260420T231448
CREATED:20260127T161710Z
LAST-MODIFIED:20260127T161956Z
UID:10000309-1886439600-1886443200@www.jackson-nh.gov
SUMMARY:Planning Board Meeting
DESCRIPTION:
URL:https://www.jackson-nh.gov/event/planning-board-meeting/2029-10-11/
LOCATION:Town of Jackson\, 54 Main St\, Jackson\, NH\, 03846
CATEGORIES:Planning Board
ATTACH;FMTTYPE=image/jpeg:https://www.jackson-nh.gov/wp-content/uploads/2025/10/planning-board.jpg
END:VEVENT
BEGIN:VEVENT
DTSTART;TZID=America/New_York:20291108T190000
DTEND;TZID=America/New_York:20291108T200000
DTSTAMP:20260420T231448
CREATED:20260127T161710Z
LAST-MODIFIED:20260127T161956Z
UID:10000310-1888858800-1888862400@www.jackson-nh.gov
SUMMARY:Planning Board Meeting
DESCRIPTION:
URL:https://www.jackson-nh.gov/event/planning-board-meeting/2029-11-08/
LOCATION:Town of Jackson\, 54 Main St\, Jackson\, NH\, 03846
CATEGORIES:Planning Board
ATTACH;FMTTYPE=image/jpeg:https://www.jackson-nh.gov/wp-content/uploads/2025/10/planning-board.jpg
END:VEVENT
BEGIN:VEVENT
DTSTART;TZID=America/New_York:20291213T190000
DTEND;TZID=America/New_York:20291213T200000
DTSTAMP:20260420T231448
CREATED:20260127T161710Z
LAST-MODIFIED:20260127T161956Z
UID:10000311-1891882800-1891886400@www.jackson-nh.gov
SUMMARY:Planning Board Meeting
DESCRIPTION:
URL:https://www.jackson-nh.gov/event/planning-board-meeting/2029-12-13/
LOCATION:Town of Jackson\, 54 Main St\, Jackson\, NH\, 03846
CATEGORIES:Planning Board
ATTACH;FMTTYPE=image/jpeg:https://www.jackson-nh.gov/wp-content/uploads/2025/10/planning-board.jpg
END:VEVENT
BEGIN:VEVENT
DTSTART;TZID=America/New_York:20300110T190000
DTEND;TZID=America/New_York:20300110T200000
DTSTAMP:20260420T231448
CREATED:20260127T161710Z
LAST-MODIFIED:20260127T161956Z
UID:10000312-1894302000-1894305600@www.jackson-nh.gov
SUMMARY:Planning Board Meeting
DESCRIPTION:
URL:https://www.jackson-nh.gov/event/planning-board-meeting/2030-01-10/
LOCATION:Town of Jackson\, 54 Main St\, Jackson\, NH\, 03846
CATEGORIES:Planning Board
ATTACH;FMTTYPE=image/jpeg:https://www.jackson-nh.gov/wp-content/uploads/2025/10/planning-board.jpg
END:VEVENT
BEGIN:VEVENT
DTSTART;TZID=America/New_York:20300214T190000
DTEND;TZID=America/New_York:20300214T200000
DTSTAMP:20260420T231448
CREATED:20260127T161710Z
LAST-MODIFIED:20260127T161956Z
UID:10000313-1897326000-1897329600@www.jackson-nh.gov
SUMMARY:Planning Board Meeting
DESCRIPTION:
URL:https://www.jackson-nh.gov/event/planning-board-meeting/2030-02-14/
LOCATION:Town of Jackson\, 54 Main St\, Jackson\, NH\, 03846
CATEGORIES:Planning Board
ATTACH;FMTTYPE=image/jpeg:https://www.jackson-nh.gov/wp-content/uploads/2025/10/planning-board.jpg
END:VEVENT
BEGIN:VEVENT
DTSTART;TZID=America/New_York:20300314T190000
DTEND;TZID=America/New_York:20300314T200000
DTSTAMP:20260420T231448
CREATED:20260127T161710Z
LAST-MODIFIED:20260127T161956Z
UID:10000314-1899745200-1899748800@www.jackson-nh.gov
SUMMARY:Planning Board Meeting
DESCRIPTION:
URL:https://www.jackson-nh.gov/event/planning-board-meeting/2030-03-14/
LOCATION:Town of Jackson\, 54 Main St\, Jackson\, NH\, 03846
CATEGORIES:Planning Board
ATTACH;FMTTYPE=image/jpeg:https://www.jackson-nh.gov/wp-content/uploads/2025/10/planning-board.jpg
END:VEVENT
BEGIN:VEVENT
DTSTART;TZID=America/New_York:20300411T190000
DTEND;TZID=America/New_York:20300411T200000
DTSTAMP:20260420T231448
CREATED:20260127T161710Z
LAST-MODIFIED:20260127T161956Z
UID:10000315-1902164400-1902168000@www.jackson-nh.gov
SUMMARY:Planning Board Meeting
DESCRIPTION:
URL:https://www.jackson-nh.gov/event/planning-board-meeting/2030-04-11/
LOCATION:Town of Jackson\, 54 Main St\, Jackson\, NH\, 03846
CATEGORIES:Planning Board
ATTACH;FMTTYPE=image/jpeg:https://www.jackson-nh.gov/wp-content/uploads/2025/10/planning-board.jpg
END:VEVENT
BEGIN:VEVENT
DTSTART;TZID=America/New_York:20300509T190000
DTEND;TZID=America/New_York:20300509T200000
DTSTAMP:20260420T231448
CREATED:20260127T161710Z
LAST-MODIFIED:20260127T161956Z
UID:10000316-1904583600-1904587200@www.jackson-nh.gov
SUMMARY:Planning Board Meeting
DESCRIPTION:
URL:https://www.jackson-nh.gov/event/planning-board-meeting/2030-05-09/
LOCATION:Town of Jackson\, 54 Main St\, Jackson\, NH\, 03846
CATEGORIES:Planning Board
ATTACH;FMTTYPE=image/jpeg:https://www.jackson-nh.gov/wp-content/uploads/2025/10/planning-board.jpg
END:VEVENT
BEGIN:VEVENT
DTSTART;TZID=America/New_York:20300613T190000
DTEND;TZID=America/New_York:20300613T200000
DTSTAMP:20260420T231448
CREATED:20260127T161710Z
LAST-MODIFIED:20260127T161956Z
UID:10000317-1907607600-1907611200@www.jackson-nh.gov
SUMMARY:Planning Board Meeting
DESCRIPTION:
URL:https://www.jackson-nh.gov/event/planning-board-meeting/2030-06-13/
LOCATION:Town of Jackson\, 54 Main St\, Jackson\, NH\, 03846
CATEGORIES:Planning Board
ATTACH;FMTTYPE=image/jpeg:https://www.jackson-nh.gov/wp-content/uploads/2025/10/planning-board.jpg
END:VEVENT
BEGIN:VEVENT
DTSTART;TZID=America/New_York:20300711T190000
DTEND;TZID=America/New_York:20300711T200000
DTSTAMP:20260420T231448
CREATED:20260127T161710Z
LAST-MODIFIED:20260127T161956Z
UID:10000318-1910026800-1910030400@www.jackson-nh.gov
SUMMARY:Planning Board Meeting
DESCRIPTION:
URL:https://www.jackson-nh.gov/event/planning-board-meeting/2030-07-11/
LOCATION:Town of Jackson\, 54 Main St\, Jackson\, NH\, 03846
CATEGORIES:Planning Board
ATTACH;FMTTYPE=image/jpeg:https://www.jackson-nh.gov/wp-content/uploads/2025/10/planning-board.jpg
END:VEVENT
BEGIN:VEVENT
DTSTART;TZID=America/New_York:20300808T190000
DTEND;TZID=America/New_York:20300808T200000
DTSTAMP:20260420T231448
CREATED:20260127T161710Z
LAST-MODIFIED:20260127T161956Z
UID:10000319-1912446000-1912449600@www.jackson-nh.gov
SUMMARY:Planning Board Meeting
DESCRIPTION:
URL:https://www.jackson-nh.gov/event/planning-board-meeting/2030-08-08/
LOCATION:Town of Jackson\, 54 Main St\, Jackson\, NH\, 03846
CATEGORIES:Planning Board
ATTACH;FMTTYPE=image/jpeg:https://www.jackson-nh.gov/wp-content/uploads/2025/10/planning-board.jpg
END:VEVENT
BEGIN:VEVENT
DTSTART;TZID=America/New_York:20300912T190000
DTEND;TZID=America/New_York:20300912T200000
DTSTAMP:20260420T231448
CREATED:20260127T161710Z
LAST-MODIFIED:20260127T161956Z
UID:10000320-1915470000-1915473600@www.jackson-nh.gov
SUMMARY:Planning Board Meeting
DESCRIPTION:
URL:https://www.jackson-nh.gov/event/planning-board-meeting/2030-09-12/
LOCATION:Town of Jackson\, 54 Main St\, Jackson\, NH\, 03846
CATEGORIES:Planning Board
ATTACH;FMTTYPE=image/jpeg:https://www.jackson-nh.gov/wp-content/uploads/2025/10/planning-board.jpg
END:VEVENT
BEGIN:VEVENT
DTSTART;TZID=America/New_York:20301010T190000
DTEND;TZID=America/New_York:20301010T200000
DTSTAMP:20260420T231448
CREATED:20260127T161710Z
LAST-MODIFIED:20260127T161956Z
UID:10000321-1917889200-1917892800@www.jackson-nh.gov
SUMMARY:Planning Board Meeting
DESCRIPTION:
URL:https://www.jackson-nh.gov/event/planning-board-meeting/2030-10-10/
LOCATION:Town of Jackson\, 54 Main St\, Jackson\, NH\, 03846
CATEGORIES:Planning Board
ATTACH;FMTTYPE=image/jpeg:https://www.jackson-nh.gov/wp-content/uploads/2025/10/planning-board.jpg
END:VEVENT
END:VCALENDAR