BEGIN:VCALENDAR
VERSION:2.0
PRODID:-//Town of Jackson NH - ECPv6.15.20//NONSGML v1.0//EN
CALSCALE:GREGORIAN
METHOD:PUBLISH
X-ORIGINAL-URL:https://www.jackson-nh.gov
X-WR-CALDESC:Events for Town of Jackson NH
REFRESH-INTERVAL;VALUE=DURATION:PT1H
X-Robots-Tag:noindex
X-PUBLISHED-TTL:PT1H
BEGIN:VTIMEZONE
TZID:America/New_York
BEGIN:DAYLIGHT
TZOFFSETFROM:-0500
TZOFFSETTO:-0400
TZNAME:EDT
DTSTART:20250309T070000
END:DAYLIGHT
BEGIN:STANDARD
TZOFFSETFROM:-0400
TZOFFSETTO:-0500
TZNAME:EST
DTSTART:20251102T060000
END:STANDARD
BEGIN:DAYLIGHT
TZOFFSETFROM:-0500
TZOFFSETTO:-0400
TZNAME:EDT
DTSTART:20260308T070000
END:DAYLIGHT
BEGIN:STANDARD
TZOFFSETFROM:-0400
TZOFFSETTO:-0500
TZNAME:EST
DTSTART:20261101T060000
END:STANDARD
BEGIN:DAYLIGHT
TZOFFSETFROM:-0500
TZOFFSETTO:-0400
TZNAME:EDT
DTSTART:20270314T070000
END:DAYLIGHT
BEGIN:STANDARD
TZOFFSETFROM:-0400
TZOFFSETTO:-0500
TZNAME:EST
DTSTART:20271107T060000
END:STANDARD
END:VTIMEZONE
BEGIN:VTIMEZONE
TZID:UTC
BEGIN:STANDARD
TZOFFSETFROM:+0000
TZOFFSETTO:+0000
TZNAME:UTC
DTSTART:20240101T000000
END:STANDARD
END:VTIMEZONE
BEGIN:VEVENT
DTSTART;TZID=America/New_York:20260416T190000
DTEND;TZID=America/New_York:20260416T200000
DTSTAMP:20260420T101410
CREATED:20260325T134835Z
LAST-MODIFIED:20260402T132317Z
UID:10001702-1776366000-1776369600@www.jackson-nh.gov
SUMMARY:Planning Board Public Hearing
DESCRIPTION:The Planning Board has received the following application(s): \n\n3 Lot Subdivision: the owners of the proposed subdivision at 47 & 107 Rt. 16\, Tax Map V01 Lots 2 and 5. The owner of the property is Michael Mallett and The Mallett Corp.\n\nThis application can be viewed on the Town of Jackson website at: http//www.jackson-nh.org/planning-board/pages/submitted-applications.  \nThe application will be presented\, and questions or concerns will be heard at the Planning Board hearing scheduled for Thursday\, April 16\, at 7:00 pm at the Town of Jackson Office at 54 Main Street\, Jackson\, NH\, or via Zoom. \n  \nZoom Meeting Info: \nMeeting ID 819 4142 1018 \nPassword 154745
URL:https://www.jackson-nh.gov/event/planning-board-meeting-rescheduled-from-4-9/
LOCATION:Town of Jackson\, 54 Main St\, Jackson\, NH\, 03846
CATEGORIES:Planning Board
END:VEVENT
BEGIN:VEVENT
DTSTART;TZID=America/New_York:20260409T180000
DTEND;TZID=America/New_York:20260409T193000
DTSTAMP:20260420T101410
CREATED:20260325T134428Z
LAST-MODIFIED:20260325T191136Z
UID:10000267-1775757600-1775763000@www.jackson-nh.gov
SUMMARY:Planning Board Public Hearing
DESCRIPTION:NOTICE REGARDING THE PLANNING BOARD PUBLIC HEARING \nTOWN OF JACKSON\, NH\nPLANNING BOARD \nThis is to notify the public that the Jackson Planning Board has scheduled a Public Hearing for April 9th to begin discussions on the 2026 Master Plan (RSA 674:2) and to solicit participation for committee efforts. The meeting is open to residents and non-residents to share their thoughts and ideas about the future of the Town of Jackson. \nThe meeting is scheduled for April 9\, 2026\, from 6:00 to 7:30 pm at the Town Office.\nPosted: March 24\, 2026
URL:https://www.jackson-nh.gov/event/planning-board-meeting-3/
LOCATION:Town of Jackson\, 54 Main St\, Jackson\, NH\, 03846
CATEGORIES:Planning Board
ATTACH;FMTTYPE=image/jpeg:https://www.jackson-nh.gov/wp-content/uploads/2025/10/planning-board.jpg
END:VEVENT
BEGIN:VEVENT
DTSTART;TZID=America/New_York:20260319T190000
DTEND;TZID=America/New_York:20260319T200000
DTSTAMP:20260420T101410
CREATED:20260127T172103Z
LAST-MODIFIED:20260318T185851Z
UID:10001032-1773946800-1773950400@www.jackson-nh.gov
SUMMARY:Planning Board - Rescheduled from 3/12
DESCRIPTION:Public Hearing Cancelled – Regular Meeting starts at 7pm \nJackson Planning Board Public Hearing – March 19\, 2026 – at 7 PM\nJACKSON TOWN OFFICES\n54 MAIN STREET\, JACKSON\nand via Zoom \nThe Jackson Planning Board has received an application for boundary line adjustment on Black Mountain Road\, parcels Map# R17\, Lots 28A and 28B. The application\, submitted by Wesley Smith\, involves a boundary-line adjustment to property owned by Black Mountain Community Corp. C/O Archipelago and WIF Holdings LLC. \nCopies of the boundary line adjustments have been posted at the Jackson Town Office and can be viewed during normal business hours. If you have any questions or concerns\, please plan on attending the Planning Board hearing on Thursday\, March 19\, 2026\, at 7:00 pm at the Jackson Town Office\, 54 Main Street\, Jackson. Public Hearing will begin at 7:10 pm. \n  \n 
URL:https://www.jackson-nh.gov/event/planning-board-rescheduled-from-3-12/
LOCATION:Town of Jackson\, 54 Main St\, Jackson\, NH\, 03846
CATEGORIES:Planning Board
ATTACH;FMTTYPE=image/jpeg:https://www.jackson-nh.gov/wp-content/uploads/2025/10/planning-board.jpg
END:VEVENT
BEGIN:VEVENT
DTSTART;TZID=America/New_York:20260312T190000
DTEND;TZID=America/New_York:20260312T200000
DTSTAMP:20260420T101410
CREATED:20260312T175810Z
LAST-MODIFIED:20260312T175815Z
UID:10000266-1773342000-1773345600@www.jackson-nh.gov
SUMMARY:Planning Board Meeting - Rescheduled for 3/19
DESCRIPTION:
URL:https://www.jackson-nh.gov/event/planning-board-meeting-2/
LOCATION:Town of Jackson\, 54 Main St\, Jackson\, NH\, 03846
CATEGORIES:Planning Board
ATTACH;FMTTYPE=image/jpeg:https://www.jackson-nh.gov/wp-content/uploads/2025/10/planning-board.jpg
END:VEVENT
BEGIN:VEVENT
DTSTART;TZID=America/New_York:20260212T190000
DTEND;TZID=America/New_York:20260212T200000
DTSTAMP:20260420T101410
CREATED:20260127T161710Z
LAST-MODIFIED:20260127T161956Z
UID:10000265-1770922800-1770926400@www.jackson-nh.gov
SUMMARY:Planning Board Meeting
DESCRIPTION:
URL:https://www.jackson-nh.gov/event/planning-board-meeting/2026-02-12/
LOCATION:Town of Jackson\, 54 Main St\, Jackson\, NH\, 03846
CATEGORIES:Planning Board
ATTACH;FMTTYPE=image/jpeg:https://www.jackson-nh.gov/wp-content/uploads/2025/10/planning-board.jpg
END:VEVENT
BEGIN:VEVENT
DTSTART;TZID=UTC:20251211T190000
DTEND;TZID=UTC:20251211T200000
DTSTAMP:20260420T101410
CREATED:20251002T041602Z
LAST-MODIFIED:20251002T041602Z
UID:10000064-1765479600-1765483200@www.jackson-nh.gov
SUMMARY:Planning Board
DESCRIPTION:
URL:https://www.jackson-nh.gov/event/planning-board/2025-12-11/
LOCATION:Town of Jackson\, 54 Main St\, Jackson\, NH\, 03846
CATEGORIES:Planning Board
ATTACH;FMTTYPE=image/jpeg:https://www.jackson-nh.gov/wp-content/uploads/2025/10/planning-board.jpg
END:VEVENT
BEGIN:VEVENT
DTSTART;TZID=UTC:20251113T190000
DTEND;TZID=UTC:20251113T200000
DTSTAMP:20260420T101410
CREATED:20251002T041602Z
LAST-MODIFIED:20251002T041602Z
UID:10000063-1763060400-1763064000@www.jackson-nh.gov
SUMMARY:Planning Board
DESCRIPTION:
URL:https://www.jackson-nh.gov/event/planning-board/2025-11-13/
LOCATION:Town of Jackson\, 54 Main St\, Jackson\, NH\, 03846
CATEGORIES:Planning Board
ATTACH;FMTTYPE=image/jpeg:https://www.jackson-nh.gov/wp-content/uploads/2025/10/planning-board.jpg
END:VEVENT
BEGIN:VEVENT
DTSTART;TZID=UTC:20251009T190000
DTEND;TZID=UTC:20251009T200000
DTSTAMP:20260420T101410
CREATED:20251002T041602Z
LAST-MODIFIED:20251002T041602Z
UID:10000062-1760036400-1760040000@www.jackson-nh.gov
SUMMARY:Planning Board
DESCRIPTION:
URL:https://www.jackson-nh.gov/event/planning-board/2025-10-09/
LOCATION:Town of Jackson\, 54 Main St\, Jackson\, NH\, 03846
CATEGORIES:Planning Board
ATTACH;FMTTYPE=image/jpeg:https://www.jackson-nh.gov/wp-content/uploads/2025/10/planning-board.jpg
END:VEVENT
END:VCALENDAR