BEGIN:VCALENDAR
VERSION:2.0
PRODID:-//Town of Jackson NH - ECPv6.15.20//NONSGML v1.0//EN
CALSCALE:GREGORIAN
METHOD:PUBLISH
X-WR-CALNAME:Town of Jackson NH
X-ORIGINAL-URL:https://www.jackson-nh.gov
X-WR-CALDESC:Events for Town of Jackson NH
REFRESH-INTERVAL;VALUE=DURATION:PT1H
X-Robots-Tag:noindex
X-PUBLISHED-TTL:PT1H
BEGIN:VTIMEZONE
TZID:America/New_York
BEGIN:DAYLIGHT
TZOFFSETFROM:-0500
TZOFFSETTO:-0400
TZNAME:EDT
DTSTART:20250309T070000
END:DAYLIGHT
BEGIN:STANDARD
TZOFFSETFROM:-0400
TZOFFSETTO:-0500
TZNAME:EST
DTSTART:20251102T060000
END:STANDARD
BEGIN:DAYLIGHT
TZOFFSETFROM:-0500
TZOFFSETTO:-0400
TZNAME:EDT
DTSTART:20260308T070000
END:DAYLIGHT
BEGIN:STANDARD
TZOFFSETFROM:-0400
TZOFFSETTO:-0500
TZNAME:EST
DTSTART:20261101T060000
END:STANDARD
BEGIN:DAYLIGHT
TZOFFSETFROM:-0500
TZOFFSETTO:-0400
TZNAME:EDT
DTSTART:20270314T070000
END:DAYLIGHT
BEGIN:STANDARD
TZOFFSETFROM:-0400
TZOFFSETTO:-0500
TZNAME:EST
DTSTART:20271107T060000
END:STANDARD
END:VTIMEZONE
BEGIN:VEVENT
DTSTART;VALUE=DATE:20260422
DTEND;VALUE=DATE:20260425
DTSTAMP:20260423T014940
CREATED:20260325T140527Z
LAST-MODIFIED:20260325T140530Z
UID:10001704-1776816000-1777075199@www.jackson-nh.gov
SUMMARY:Town Clerk's Office Closed
DESCRIPTION:
URL:https://www.jackson-nh.gov/event/town-clerks-office-closed-2/
LOCATION:Town of Jackson\, 54 Main St\, Jackson\, NH\, 03846
CATEGORIES:Closures
END:VEVENT
BEGIN:VEVENT
DTSTART;VALUE=DATE:20260423
DTEND;VALUE=DATE:20260424
DTSTAMP:20260423T014940
CREATED:20260406T160742Z
LAST-MODIFIED:20260406T160755Z
UID:10001713-1776902400-1776988799@www.jackson-nh.gov
SUMMARY:Selectmen's Office Closed Today
DESCRIPTION:Closed for Training
URL:https://www.jackson-nh.gov/event/selectmens-office-closed-today/
LOCATION:Town of Jackson\, 54 Main St\, Jackson\, NH\, 03846
CATEGORIES:Select Board
END:VEVENT
END:VCALENDAR